BEGIN:VCALENDAR
VERSION:2.0
PRODID:-//De planes por la comarca - ECPv6.15.20//NONSGML v1.0//EN
CALSCALE:GREGORIAN
METHOD:PUBLISH
X-ORIGINAL-URL:https://deplanesporlacomarca.com
X-WR-CALDESC:Eventos para De planes por la comarca
REFRESH-INTERVAL;VALUE=DURATION:PT1H
X-Robots-Tag:noindex
X-PUBLISHED-TTL:PT1H
BEGIN:VTIMEZONE
TZID:Europe/Madrid
BEGIN:DAYLIGHT
TZOFFSETFROM:+0100
TZOFFSETTO:+0200
TZNAME:CEST
DTSTART:20240331T010000
END:DAYLIGHT
BEGIN:STANDARD
TZOFFSETFROM:+0200
TZOFFSETTO:+0100
TZNAME:CET
DTSTART:20241027T010000
END:STANDARD
BEGIN:DAYLIGHT
TZOFFSETFROM:+0100
TZOFFSETTO:+0200
TZNAME:CEST
DTSTART:20250330T010000
END:DAYLIGHT
BEGIN:STANDARD
TZOFFSETFROM:+0200
TZOFFSETTO:+0100
TZNAME:CET
DTSTART:20251026T010000
END:STANDARD
BEGIN:DAYLIGHT
TZOFFSETFROM:+0100
TZOFFSETTO:+0200
TZNAME:CEST
DTSTART:20260329T010000
END:DAYLIGHT
BEGIN:STANDARD
TZOFFSETFROM:+0200
TZOFFSETTO:+0100
TZNAME:CET
DTSTART:20261025T010000
END:STANDARD
END:VTIMEZONE
BEGIN:VEVENT
DTSTART;TZID=Europe/Madrid:20250402T000000
DTEND;TZID=Europe/Madrid:20250402T235959
DTSTAMP:20260421T195755
CREATED:20250317T170223Z
LAST-MODIFIED:20250317T170227Z
UID:10038478-1743552000-1743638399@deplanesporlacomarca.com
SUMMARY:V RUTA DE PINTXOS DE BACALAO (IRUN - HONDARRIBIA)
DESCRIPTION:Dentro del XI Campeonato de Pintxos de Bacalao de Gipuzkoa\, se celebra la V Ruta de Pintxos de Bacalao en la que vas a poder saborear los pintxos\, con el bacalao como ingrediente principal\, de los más de 50 bares participantes de toda la provincia\, desde el 24 de Marzo hasta el 6 de Abril. \n\n\n\n \n\n\n\n\n\n\n\n \n\n\n\nEn la comarca puedes hacer también tu ruta en estos bares de Irun y Hondarribia: \n\n\n\n \n\n\n\nIRUN \n\n\n\n \n\n\n\n– Bakar \n\n\n\n– Colón \n\n\n\n– Don Jabugo \n\n\n\n– Faisán Ostatua \n\n\n\n– Felix Manso Ibarla \n\n\n\n– Gaztelumendi \n\n\n\n– Iñaki \n\n\n\n– Irungo Atesegiña \n\n\n\n– La Vinoteca \n\n\n\n– Manolo \n\n\n\n– Tostadero \n\n\n\n \n\n\n\n \n\n\n\nHONDARRIBIA \n\n\n\n \n\n\n\n– Danontzat \n\n\n\n– Itxaropena \n\n\n\n– Kantina \n\n\n\n– Larra \n\n\n\n– Mika \n\n\n\n– Rafael \n\n\n\n– Tatapas
URL:https://deplanesporlacomarca.com/agenda-evento/v-ruta-de-pintxos-de-bacalao-irun-hondarribia/2025-04-02/
LOCATION:Hondarribia\, Hondarribia\, Gipuzkoa\, 20280\, España
ATTACH;FMTTYPE=image/jpeg:https://deplanesporlacomarca.com/wp-content/uploads/2025/02/xi_campeonato_pintxos_bacalao_gipuzkoa_v_ruta_pintxos_irun_hondarribia.jpg
GEO:43.3632622;-1.8220818
END:VEVENT
BEGIN:VEVENT
DTSTART;TZID=Europe/Madrid:20250402T100000
DTEND;TZID=Europe/Madrid:20250402T190000
DTSTAMP:20260421T195755
CREATED:20250331T142135Z
LAST-MODIFIED:20250331T142139Z
UID:10039089-1743588000-1743620400@deplanesporlacomarca.com
SUMMARY:"GURS\, EL SUEÑO FRUSTRADO DE GERNIKA BERRI" (HONDARRIBIA)
DESCRIPTION:Ahora que los «campos de concentración» están de actualidad\, en la historia cercana de Hondarribia\, se ha tenido una experiencia similar y a lo largo del mes de Abril vas a poder acercarte a ella. \n\n\n\n \n\n\n\nEn los últimos años\, a petición de la Comisión de Convivencia del Ayuntamiento de Hondarribia\, un grupo de historiadores ha estado trabajando en la memoria de la ciudad. Este año se sigue trabajando en la misma línea y haciendo memoria de nuestra ciudad\, se ha querido acercar a una realidad que no es tan conocida: el campo de concentración de GURS y lo vivido en él. Está situado en la localidad de Gurs\, a 123 kilómetros de nuestra ciudad\, y por el pasaron 54 hombres y una mujer de Hondarribia entre los años 1939-1941.  \n\n\n\n \n\n\n\nPara conocer esta realidad se han organizado diferentes iniciativas: \n\n\n\n– Del 1 al 13 de abril\, en la planta alta de Arma plaza\, se podrá ver la exposición «El sueño frustrado de Gernika Berri«. El Museo de la Paz de Gernika trae a Hondarribia una exposición diseñado junto a Josu Chueca Intxusta. La exposición está recogida en 4 idiomas. El horario es: de lunes a sábados\, de 10.00 a 19.00 horas y domingos\, de 10.00 a 14.00 horas. \n\n\n\n \n\n\n\n– El 4 de abril\, en Kultur Etxea\, a las 19.00 horas\, el propio Josu Chueca Intxusta explicará la realidad de Gurs y las vivencias de las y los hondarribiarras. La charla será en bilingüe. \n\n\n\n \n\n\n\nEl grupo de historiadores también ha trabajado varias propuestas dirigidas a las y los jóvenes de los centros escolares de Hondarribia. Por un lado\, han elaborado una unidad didáctica para acercarnos a la realidad de Gurs y conocer más directamente las vivencias de algunos hombres y mujeres de Hondarribia. Y por otro lado\, el alumnado también tendrá la oportunidad de visitar el campo de concentración de Gurs\, a conocer el lugar de memoria que se encuentra allí. Esta es\, por tanto\, la propuesta realizada para las próximas semanas y meses. Desde el Ayuntamiento agradecen a Koldo Ortega\, Joxerra Enparan\, Aitzol Arroyo y Pedro Barruso toda su disposición y colaboración a la hora de organizar estos eventos.
URL:https://deplanesporlacomarca.com/agenda-evento/gurs-el-sueno-frustrado-de-gernika-berri-hondarribia/2025-04-02/
LOCATION:Hondarribia\, Hondarribia\, Gipuzkoa\, 20280\, España
ATTACH;FMTTYPE=image/jpeg:https://deplanesporlacomarca.com/wp-content/uploads/2025/03/gurs_el_sueno_frustrado_de_gernika_berri_exposicion_charla_abril_2025_hondarribia.jpg
GEO:43.3632622;-1.8220818
END:VEVENT
BEGIN:VEVENT
DTSTART;TZID=Europe/Madrid:20250402T180000
DTEND;TZID=Europe/Madrid:20250402T210000
DTSTAMP:20260421T195755
CREATED:20250226T180036Z
LAST-MODIFIED:20250226T180040Z
UID:10038545-1743616800-1743627600@deplanesporlacomarca.com
SUMMARY:EXPOSICIÓN\, "RAMÓN ESPARZA. REGRESO AL BIDASOA" - AMAIA KZ (IRUN)
DESCRIPTION:Exposición «Ramón Esparza\, retorno al Bidasoa» en la sala de exposiciones del Amaia KZ de Irun hasta el 4 de Mayo y comisariada por Pedro Usabiaga\, reconocido fotógrafo de moda y cine que ha colaborado en revistas altamente reconocidas del mundo de la moda y el arte. \n\n\n\n \n\n\n\nLa exposición tendrá como hilo conductor al río Bidasoa\, ya que es el primer recuerdo de la infancia Ramón Esparza\, junto con la ciudad de Irun\, con la que tuvo un especial vínculo. \n\n\n\n \n\n\n\nSe trata de la primera exposición sobre Ramón Esparza y su trabajo\, e Irun no podía ser un mejor lugar para acogerla debido a la vinculación del artista con la ciudad y la comarca. Y es que es destacable mencionar que en Irun hay una larga tradición de modistas y sastrerías de caballero desde la mitad del siglo XIX. \n\n\n\n \n\n\n\nAsí\, la exposición será un recorrido a través de su mirada por la vida y el trabajo de algunos de los personajes más importantes del siglo XX\, además de acoger una selección de textiles (vestidos)\, sombreros\, complementos\, fotografías\, material audiovisual\, pinturas y objetos y documentos de los principales protagonistas de la cultura y las artes vinculados al Bidasoa. \n\n\n\n \n\n\n\nRamón Esparza Viela (Lesaka\, 1923-1997)\, mano derecha y hombre de confianza de Cristóbal Balenciaga durante un cuarto de siglo\, fue el primer y único español al frente de la dirección creativa de la firma ‘Chanel’\, aunque fue de manera algo fugaz\, ya que ostentó el cargo por menos de un año. \n\n\n\n \n\n\n\nTras el fallecimiento de Cristóbal Balenciaga en 1972\, fue Ramón Esparza el encargado de las exposiciones dedicadas al diseñador de Getaria. \n\n\n\n \n\n\n\nEste plan tiene este horario: (Inauguración 27 de Marzo\, 19.00 horas) \n\n\n\n– De martes a sábados de 18.00 a 21.00 horas \n\n\n\n– Domingos de 11.30 a 13.30 horas
URL:https://deplanesporlacomarca.com/agenda-evento/exposicion-ramon-esparza-regreso-al-bidasoa-amaia-kz-irun/2025-04-02/
LOCATION:Amaia KZ\, Pio XII\, 4\, Irun\, Gipuzkoa\, 20300\, España
GEO:43.338883;-1.7964895
X-APPLE-STRUCTURED-LOCATION;VALUE=URI;X-ADDRESS=Amaia KZ Pio XII 4 Irun Gipuzkoa 20300 España;X-APPLE-RADIUS=500;X-TITLE=Pio XII\, 4:geo:-1.7964895,43.338883
END:VEVENT
BEGIN:VEVENT
DTSTART;TZID=Europe/Madrid:20250402T190000
DTEND;TZID=Europe/Madrid:20250402T190000
DTSTAMP:20260421T195755
CREATED:20250331T081144Z
LAST-MODIFIED:20250331T081147Z
UID:10039074-1743620400-1743620400@deplanesporlacomarca.com
SUMMARY:PRESENTACIÓN DEL LIBRO\, "TXORIA HODEI ARTEAN" - KULTUR ETXEA (HONDARRIBIA)
DESCRIPTION:Presentación del libro «Txoria hodei artean» de Urtzi Urkizu\, en Kultur Etxea de Hondarribia\, a partir de las 19.00 horas. \n\n\n\n \n\n\n\nEl libro\, dedicado a Euskal Telebista (ETB)\, ofrece una trayectoria de cuatro décadas desde su creación: El recorrido que va desde su surgimiento hasta los nuevos retos de hoy en día. Ejemplos de estos nuevos retos pueden ser las fake news\, como la influencia de la desinformación o la inteligencia artificial. El prólogo del libro ha corrido a cargo de Itziar Ituño\, conocida actriz que sabe algo sobre estos temas. \n\n\n\n \n\n\n\nPlan con entrada gratuita.
URL:https://deplanesporlacomarca.com/agenda-evento/presentacion-del-libro-txoria-hodei-artean-kultur-etxea-hondarribia/
LOCATION:Kultur Etxea\, Denda Kalea\, 18\, Hondarribia\, Gipuzkoa\, España
ATTACH;FMTTYPE=image/jpeg:https://deplanesporlacomarca.com/wp-content/uploads/2025/03/presentacion_libro_txoria_hodei_artean_urtzi_urkizu_2_abril_2025_kultur_etxea_hondarribia.jpg
GEO:43.363133;-1.7922913
X-APPLE-STRUCTURED-LOCATION;VALUE=URI;X-ADDRESS=Kultur Etxea Denda Kalea 18 Hondarribia Gipuzkoa España;X-APPLE-RADIUS=500;X-TITLE=Denda Kalea\, 18:geo:-1.7922913,43.363133
END:VEVENT
END:VCALENDAR