BEGIN:VCALENDAR
VERSION:2.0
PRODID:-//De planes por la comarca - ECPv6.15.20//NONSGML v1.0//EN
CALSCALE:GREGORIAN
METHOD:PUBLISH
X-ORIGINAL-URL:https://deplanesporlacomarca.com
X-WR-CALDESC:Eventos para De planes por la comarca
REFRESH-INTERVAL;VALUE=DURATION:PT1H
X-Robots-Tag:noindex
X-PUBLISHED-TTL:PT1H
BEGIN:VTIMEZONE
TZID:Europe/Madrid
BEGIN:DAYLIGHT
TZOFFSETFROM:+0100
TZOFFSETTO:+0200
TZNAME:CEST
DTSTART:20240331T010000
END:DAYLIGHT
BEGIN:STANDARD
TZOFFSETFROM:+0200
TZOFFSETTO:+0100
TZNAME:CET
DTSTART:20241027T010000
END:STANDARD
BEGIN:DAYLIGHT
TZOFFSETFROM:+0100
TZOFFSETTO:+0200
TZNAME:CEST
DTSTART:20250330T010000
END:DAYLIGHT
BEGIN:STANDARD
TZOFFSETFROM:+0200
TZOFFSETTO:+0100
TZNAME:CET
DTSTART:20251026T010000
END:STANDARD
BEGIN:DAYLIGHT
TZOFFSETFROM:+0100
TZOFFSETTO:+0200
TZNAME:CEST
DTSTART:20260329T010000
END:DAYLIGHT
BEGIN:STANDARD
TZOFFSETFROM:+0200
TZOFFSETTO:+0100
TZNAME:CET
DTSTART:20261025T010000
END:STANDARD
END:VTIMEZONE
BEGIN:VEVENT
DTSTART;TZID=Europe/Madrid:20250407T000000
DTEND;TZID=Europe/Madrid:20250407T235959
DTSTAMP:20260421T183926
CREATED:20250404T153419Z
LAST-MODIFIED:20250404T153424Z
UID:10039147-1743984000-1744070399@deplanesporlacomarca.com
SUMMARY:SALVE\, IRUN - RUTA DEL PINTXO ROMANO
DESCRIPTION:Con motivo de la inauguración del yacimiento de las Termas Romanas del Museo Oiasso de Irun\, este año va a celebrar la Ruta del Pintxo Romano por partida doble: durante la próxima semana y\, como es habitual\, durante el Dies Oiassonis.  \n\n\n\n \n\n\n\nSe trata de un delicioso recorrido por Irun\, disfrutando de auténticas delicias romanas\, actualizadas con los sabores del presente. Son un total de 17 establecimientos adheridos a esta iniciativa que se celebrará entre el 7 y el 13 de abril. Aquí tienes el listado de los participantes para que hagas tu ruta: \n\n\n\n– Felix Manso Ibarla – Fausto. \n\n\n\n– Danako – Porcus Goxo. \n\n\n\n– Asador Iñaki – El lacayo. \n\n\n\n– Altzola. \n\n\n\n– Gaztelumendi – Castrum. \n\n\n\n– Sargia – Rabo estofado al vino tinto. \n\n\n\n– El Tostadero – Dulce Pollum. \n\n\n\n– Txingudi Rugby taberna – Agnus Persicum. \n\n\n\n– Manolo – Pyrenaei Tructa. \n\n\n\n– Mari – Albondigus viridis. \n\n\n\n– Real Unión – Porcus. \n\n\n\n– Don Jabugo – Apua cum pipere / Engraulius. \n\n\n\n– Yon Gallardo – Cucumis Gelida. \n\n\n\n– Virginia – Dulce et sapidum ponum flore. \n\n\n\n– Korreos Cervecería – Mertxe. \n\n\n\n– Cafetería Colón – Hojaldre de bacalao. \n\n\n\n– Bakar – El bárbaro navegante.
URL:https://deplanesporlacomarca.com/agenda-evento/salve-irun-ruta-del-pintxo-romano/2025-04-07/
LOCATION:Irun\, Irun\, Gipuzkoa\, Spain
ATTACH;FMTTYPE=image/jpeg:https://deplanesporlacomarca.com/wp-content/uploads/2025/04/ruta_de_pintxo_romano_7_13_abril_2025_bares_restaurantes_irun.jpg
END:VEVENT
BEGIN:VEVENT
DTSTART;TZID=Europe/Madrid:20250407T100000
DTEND;TZID=Europe/Madrid:20250407T200000
DTSTAMP:20260421T183926
CREATED:20250407T133738Z
LAST-MODIFIED:20250407T133741Z
UID:10039160-1744020000-1744056000@deplanesporlacomarca.com
SUMMARY:SEMANA SANTA 2025 - EXPOSICIÓN DE LOS PASOS DE SEMANA SANTA - IGLESIA DEL JUNCAL (IRUN)
DESCRIPTION:La Iglesia de Nuestra Señora del Juncal de Irun acoge esta Semana Santa\, como estos últimos años\, la exposición de los pasos que formaron parte de las procesiones de Irun. En la última década se han ido restaurando las figuras y\, cada año\, se añade a la muestra la última en haber sido recuperada. \n\n\n\n \n\n\n\nEl plan tiene entrada gratuita y se puede visitar\, tanto por la mañana como por la tarde\, de lunes a sábado\, de 10.00 a 12.30 horas y de 16.30 a 20.00 horas y domingo\, de 09.00 a 13.30 horas. Las imágenes estarán expuestas hasta el Viernes Santo\, el día 18.
URL:https://deplanesporlacomarca.com/agenda-evento/semana-santa-2025-exposicion-de-los-pasos-de-semana-santa-iglesia-del-juncal-irun/2025-04-07/
LOCATION:Iglesia Parroquial de Santa Maria del Juncal\, Juncal Kalea\, 28\, Irun\, Gipuzkoa\, España
ATTACH;FMTTYPE=image/jpeg:https://deplanesporlacomarca.com/wp-content/uploads/2025/04/semana_santa_2025_iglesia_del_juncal_irun.jpg
GEO:43.3403517;-1.7864181
X-APPLE-STRUCTURED-LOCATION;VALUE=URI;X-ADDRESS=Iglesia Parroquial de Santa Maria del Juncal Juncal Kalea 28 Irun Gipuzkoa España;X-APPLE-RADIUS=500;X-TITLE=Juncal Kalea\, 28:geo:-1.7864181,43.3403517
END:VEVENT
BEGIN:VEVENT
DTSTART;TZID=Europe/Madrid:20250407T153000
DTEND;TZID=Europe/Madrid:20250407T203000
DTSTAMP:20260421T183926
CREATED:20250403T160812Z
LAST-MODIFIED:20250403T160816Z
UID:10039114-1744039800-1744057800@deplanesporlacomarca.com
SUMMARY:"SEMANA PER TUTTI 2025" - CONSERVATORIO Y ESCUELA DE MUSICA Y DANZA DE IRUN
DESCRIPTION:El Conservatorio y la Escuela de Música y Danza de Irun\, presenta la II. edición de la semana musical «Per Tutti»\, que arrancará el lunes\, 7 de abril y se prolongará hasta el viernes\, 11 de abril. \n\n\n\n \n\n\n\nA lo largo de los próximos días\, mayores y pequeños podrán disfrutar de una atractiva programación con propuestas musicales gratuitas en el propio Conservatorio y Escuela de Danza  de Municipal de Irun\, situado en el Parque de Mendibil. \n\n\n\n \n\n\n\nAquí tienes todo el programa:
URL:https://deplanesporlacomarca.com/agenda-evento/semana-per-tutti-2025-conservatorio-y-escuela-de-musica-y-danza-de-irun/2025-04-07/
LOCATION:Conservatorio y Escuela de Música Municipal de Irun\, Parque Mendibil s/n\, Irun\, Gipuzkoa\, España
ATTACH;FMTTYPE=image/jpeg:https://deplanesporlacomarca.com/wp-content/uploads/2025/04/semana_per_tutti_astea_7_11_abril_2025_conservatorio_musica_danza_eskola_irun.jpg
GEO:43.3435579;-1.7928021
X-APPLE-STRUCTURED-LOCATION;VALUE=URI;X-ADDRESS=Conservatorio y Escuela de Música Municipal de Irun Parque Mendibil s/n Irun Gipuzkoa España;X-APPLE-RADIUS=500;X-TITLE=Parque Mendibil s/n:geo:-1.7928021,43.3435579
END:VEVENT
END:VCALENDAR