BEGIN:VCALENDAR
VERSION:2.0
PRODID:-//De planes por la comarca - ECPv6.15.20//NONSGML v1.0//EN
CALSCALE:GREGORIAN
METHOD:PUBLISH
X-ORIGINAL-URL:https://deplanesporlacomarca.com
X-WR-CALDESC:Eventos para De planes por la comarca
REFRESH-INTERVAL;VALUE=DURATION:PT1H
X-Robots-Tag:noindex
X-PUBLISHED-TTL:PT1H
BEGIN:VTIMEZONE
TZID:Europe/Madrid
BEGIN:DAYLIGHT
TZOFFSETFROM:+0100
TZOFFSETTO:+0200
TZNAME:CEST
DTSTART:20240331T010000
END:DAYLIGHT
BEGIN:STANDARD
TZOFFSETFROM:+0200
TZOFFSETTO:+0100
TZNAME:CET
DTSTART:20241027T010000
END:STANDARD
BEGIN:DAYLIGHT
TZOFFSETFROM:+0100
TZOFFSETTO:+0200
TZNAME:CEST
DTSTART:20250330T010000
END:DAYLIGHT
BEGIN:STANDARD
TZOFFSETFROM:+0200
TZOFFSETTO:+0100
TZNAME:CET
DTSTART:20251026T010000
END:STANDARD
BEGIN:DAYLIGHT
TZOFFSETFROM:+0100
TZOFFSETTO:+0200
TZNAME:CEST
DTSTART:20260329T010000
END:DAYLIGHT
BEGIN:STANDARD
TZOFFSETFROM:+0200
TZOFFSETTO:+0100
TZNAME:CET
DTSTART:20261025T010000
END:STANDARD
END:VTIMEZONE
BEGIN:VEVENT
DTSTART;TZID=Europe/Madrid:20250414T080000
DTEND;TZID=Europe/Madrid:20250414T163000
DTSTAMP:20260421T171542
CREATED:20250320T160320Z
LAST-MODIFIED:20250320T160323Z
UID:10038942-1744617600-1744648200@deplanesporlacomarca.com
SUMMARY:COLONIAS DE SEMANA SANTA - KUTTUNA HAUR ESKOLA (IRUN)
DESCRIPTION:Colonias de Semana Santa del 14 al 25 de abril en Kuttuna Haur Eskola de Irun\, a partir de las 08.00 horas. \n\n\n\n \n\n\n\nEl plan está dirigido a niñ@s de entre 3 y 9 años. Para más info o reserva de plaza\, no dudes en contactar con el 943623603 (hasta agotar plazas). \n\n\n\n \n\n\n\nSe puede acudir días sueltos\, así como solicitar el servicio de comedor.
URL:https://deplanesporlacomarca.com/agenda-evento/colonias-de-semana-santa-kuttuna-haur-eskola-irun/2025-04-14/
LOCATION:Kuttuna Haur Eskola\, Iparraguirre Kalea\, 11\, Irun\, Gipuzkoa\, España
ATTACH;FMTTYPE=image/jpeg:https://deplanesporlacomarca.com/wp-content/uploads/2025/03/colonias_de_semana_santa_2025_abril_ninos_kuttuna_haur_eskola_irun.jpg
GEO:43.3400009;-1.7701775
X-APPLE-STRUCTURED-LOCATION;VALUE=URI;X-ADDRESS=Kuttuna Haur Eskola Iparraguirre Kalea 11 Irun Gipuzkoa España;X-APPLE-RADIUS=500;X-TITLE=Iparraguirre Kalea\, 11:geo:-1.7701775,43.3400009
END:VEVENT
BEGIN:VEVENT
DTSTART;TZID=Europe/Madrid:20250414T083000
DTEND;TZID=Europe/Madrid:20250414T160000
DTSTAMP:20260421T171542
CREATED:20250305T171345Z
LAST-MODIFIED:20250305T171438Z
UID:10038705-1744619400-1744646400@deplanesporlacomarca.com
SUMMARY:SEMANA SANTA 2025 - LUDOTECA ARTÍSTICA - ARTEAN ESPAZIOA (HONDARRIBIA)
DESCRIPTION:Ludoteca artística dirigida a niñas y niños\, de entre 6 y 12 años\, y que tiene lugar en Artean Espazioa de Hondarribia. \n\n\n\n \n\n\n\nLas artes plásticas y la experimentación son los ejes fundamentales. Nos acercaremos a diferentes técnicas artísticas y conoceremos algunos artistas destacados a lo largo de la historia. En nuestra metodología tratamos de conectar con quienes forman parte del grupo. \n\n\n\n \n\n\n\nEl plan tiene un horario de entrada de 08.30 – 09.00 horas y el horario de salida\, de entre las 13.00 o las 16.00 horas (si se quedan a comer con tupper) \n\n\n\n \n\n\n\nMás información e inscripciones en:  \n\n\n\n– este enlace \n\n\n\n– 686698744 \n\n\n\n– arteanespazioa@gmail.com
URL:https://deplanesporlacomarca.com/agenda-evento/semana-santa-2025-ludoteca-artistica-artean-espazioa-hondarribia/2025-04-14/
LOCATION:Artean Espazioa\, Gabarrari Kalea\, 5\, Hondarribia\, Gipuzkoa\, 20280\, España
ATTACH;FMTTYPE=image/jpeg:https://deplanesporlacomarca.com/wp-content/uploads/2025/03/ludoteca_artistica_semana_santa_2025_ninos_artean_espazioa_hondarribia.jpg
GEO:43.3595818;-1.7906826
X-APPLE-STRUCTURED-LOCATION;VALUE=URI;X-ADDRESS=Artean Espazioa Gabarrari Kalea 5 Hondarribia Gipuzkoa 20280 España;X-APPLE-RADIUS=500;X-TITLE=Gabarrari Kalea\, 5:geo:-1.7906826,43.3595818
END:VEVENT
BEGIN:VEVENT
DTSTART;TZID=Europe/Madrid:20250414T090000
DTEND;TZID=Europe/Madrid:20250414T130000
DTSTAMP:20260421T171542
CREATED:20250404T143637Z
LAST-MODIFIED:20250404T143640Z
UID:10039133-1744621200-1744635600@deplanesporlacomarca.com
SUMMARY:SEMANA SANTA 2025 - CURSILLOS EN HÍPICA JAIZUBIA (IRUN)
DESCRIPTION:El Club Hípico Jaizubia de Irun vuelve a organizar un año más los cursillos de Semana Santa. Además de aprender a montar a caballo\, los alumnos aprenderán también a cuidarlos y a disfrutar con ellos en plena naturaleza. \n\n\n\n \n\n\n\nLos cursillos serán de una semana\, de 9.00 a 13.00 horas. El primer turno será los 14\,15\,16\,17 y 18 de abril y el segundo\, los días 21\, 22\, 23\, 24 y 25 de abril. \n\n\n\n \n\n\n\nEl precio del cursillo de una semana es de 140 euros\, para los socios y de 181 euros\, para los no socios.  \n\n\n\n \n\n\n\nInscripciones y más información en la oficina del club y en los teléfonos 943 61 90 15 / 630 07 77 29.
URL:https://deplanesporlacomarca.com/agenda-evento/semana-santa-2025-cursillos-en-hipica-jaizubia-irun/2025-04-14/
LOCATION:Club Hipico Jaizubia\, Jaizubia Hiribidea\, 1\, Irun\, Gipuzkoa\, España
ATTACH;FMTTYPE=image/jpeg:https://deplanesporlacomarca.com/wp-content/uploads/2025/04/semana_santa_2025_cursillos_club_hipica_jaizubia_irun.jpg
GEO:43.3394097;-1.8202125
X-APPLE-STRUCTURED-LOCATION;VALUE=URI;X-ADDRESS=Club Hipico Jaizubia Jaizubia Hiribidea 1 Irun Gipuzkoa España;X-APPLE-RADIUS=500;X-TITLE=Jaizubia Hiribidea\, 1:geo:-1.8202125,43.3394097
END:VEVENT
BEGIN:VEVENT
DTSTART;TZID=Europe/Madrid:20250414T090000
DTEND;TZID=Europe/Madrid:20250414T133000
DTSTAMP:20260421T171542
CREATED:20250326T110126Z
LAST-MODIFIED:20250326T110129Z
UID:10038995-1744621200-1744637400@deplanesporlacomarca.com
SUMMARY:SEMANA SANTA 2025 - LUDOTECA EN URDANIBIA AUZOA (IRUN)
DESCRIPTION:Ludoteca para niñ@s durante las vacaciones de Semana Santa en el barrio de Urdanibia de Irun y organizada por la AVV. Uztarriona. \n\n\n\n \n\n\n\nEl plan está dirigido a niños y niñas de entre 3 y 11 años y tiene un precio de 10 Euros por día. Va a tener lugar los días 14\, 15\, 16\, 22\, 23\, 24 y 25 de Abril\, de 09.00 a 13.30 horas. \n\n\n\n \n\n\n\nLas plazas son limitadas y podéis inscribiros en: uztarriona@hotmail.com.
URL:https://deplanesporlacomarca.com/agenda-evento/semana-santa-2025-ludoteca-en-urdanibia-auzoa-irun/2025-04-14/
LOCATION:A. V.V. Uztarriona\, Eihera Plaza\, 1\, Irun\, Gipuzkoa\, España
ATTACH;FMTTYPE=image/jpeg:https://deplanesporlacomarca.com/wp-content/uploads/2025/03/semana_santa_2025_ludoteca_ninos_ninas_barrio_urdanibia_avv_uztarriona_irun.jpg
GEO:43.3370414;-1.8197247
X-APPLE-STRUCTURED-LOCATION;VALUE=URI;X-ADDRESS=A. V.V. Uztarriona Eihera Plaza 1 Irun Gipuzkoa España;X-APPLE-RADIUS=500;X-TITLE=Eihera Plaza\, 1:geo:-1.8197247,43.3370414
END:VEVENT
BEGIN:VEVENT
DTSTART;TZID=Europe/Madrid:20250414T100000
DTEND;TZID=Europe/Madrid:20250414T130000
DTSTAMP:20260421T171542
CREATED:20250326T073014Z
LAST-MODIFIED:20250326T073020Z
UID:10038977-1744624800-1744635600@deplanesporlacomarca.com
SUMMARY:TALLER\, "UNIVERSO DRON" - AVV. DUNBOA (IRUN)
DESCRIPTION:Taller de drones en los locales de la AVV. Dunboa de Irun\, impartido por la Asociación Euskodron para estas vacaciones de semana santa.  \n\n\n\n \n\n\n\nEl plan esta dirigido a niñ@s y jóvenes que quieran aprender que es un dron\, como se programa y cómo se vuela. \n\n\n\n \n\n\n\nDurará 9 horas y se realizará los días 14\, 15 y 16 de abril\, y para o que no puedan asistir\, habrá otro grupo los días 22\, 23 y 24 de abril\, en horario de 10 a 13.00 horas. \n\n\n\n \n\n\n\nMas información y reserva de plaza en euskodron.tk@gmail.com.
URL:https://deplanesporlacomarca.com/agenda-evento/taller-universo-dron-avv-dunboa-irun/2025-04-14/
LOCATION:A. VV. Dunboa\, Martxoak\, 8\, Irun\, Gipuzkoa\, España
ATTACH;FMTTYPE=image/jpeg:https://deplanesporlacomarca.com/wp-content/uploads/2025/03/semana_santa_2025_taller_drones_ninos_jovenes_euskodron_avv_dunboa_irun.jpg
GEO:43.3415804;-1.7835254
X-APPLE-STRUCTURED-LOCATION;VALUE=URI;X-ADDRESS=A. VV. Dunboa Martxoak 8 Irun Gipuzkoa España;X-APPLE-RADIUS=500;X-TITLE=Martxoak\, 8:geo:-1.7835254,43.3415804
END:VEVENT
BEGIN:VEVENT
DTSTART;TZID=Europe/Madrid:20250414T100000
DTEND;TZID=Europe/Madrid:20250414T200000
DTSTAMP:20260421T171542
CREATED:20250407T133738Z
LAST-MODIFIED:20250407T133741Z
UID:10039167-1744624800-1744660800@deplanesporlacomarca.com
SUMMARY:SEMANA SANTA 2025 - EXPOSICIÓN DE LOS PASOS DE SEMANA SANTA - IGLESIA DEL JUNCAL (IRUN)
DESCRIPTION:La Iglesia de Nuestra Señora del Juncal de Irun acoge esta Semana Santa\, como estos últimos años\, la exposición de los pasos que formaron parte de las procesiones de Irun. En la última década se han ido restaurando las figuras y\, cada año\, se añade a la muestra la última en haber sido recuperada. \n\n\n\n \n\n\n\nEl plan tiene entrada gratuita y se puede visitar\, tanto por la mañana como por la tarde\, de lunes a sábado\, de 10.00 a 12.30 horas y de 16.30 a 20.00 horas y domingo\, de 09.00 a 13.30 horas. Las imágenes estarán expuestas hasta el Viernes Santo\, el día 18.
URL:https://deplanesporlacomarca.com/agenda-evento/semana-santa-2025-exposicion-de-los-pasos-de-semana-santa-iglesia-del-juncal-irun/2025-04-14/
LOCATION:Iglesia Parroquial de Santa Maria del Juncal\, Juncal Kalea\, 28\, Irun\, Gipuzkoa\, España
ATTACH;FMTTYPE=image/jpeg:https://deplanesporlacomarca.com/wp-content/uploads/2025/04/semana_santa_2025_iglesia_del_juncal_irun.jpg
GEO:43.3403517;-1.7864181
X-APPLE-STRUCTURED-LOCATION;VALUE=URI;X-ADDRESS=Iglesia Parroquial de Santa Maria del Juncal Juncal Kalea 28 Irun Gipuzkoa España;X-APPLE-RADIUS=500;X-TITLE=Juncal Kalea\, 28:geo:-1.7864181,43.3403517
END:VEVENT
END:VCALENDAR