BEGIN:VCALENDAR
VERSION:2.0
PRODID:-//De planes por la comarca - ECPv6.15.20//NONSGML v1.0//EN
CALSCALE:GREGORIAN
METHOD:PUBLISH
X-WR-CALNAME:De planes por la comarca
X-ORIGINAL-URL:https://deplanesporlacomarca.com
X-WR-CALDESC:Eventos para De planes por la comarca
REFRESH-INTERVAL;VALUE=DURATION:PT1H
X-Robots-Tag:noindex
X-PUBLISHED-TTL:PT1H
BEGIN:VTIMEZONE
TZID:Europe/Madrid
BEGIN:DAYLIGHT
TZOFFSETFROM:+0100
TZOFFSETTO:+0200
TZNAME:CEST
DTSTART:20240331T010000
END:DAYLIGHT
BEGIN:STANDARD
TZOFFSETFROM:+0200
TZOFFSETTO:+0100
TZNAME:CET
DTSTART:20241027T010000
END:STANDARD
BEGIN:DAYLIGHT
TZOFFSETFROM:+0100
TZOFFSETTO:+0200
TZNAME:CEST
DTSTART:20250330T010000
END:DAYLIGHT
BEGIN:STANDARD
TZOFFSETFROM:+0200
TZOFFSETTO:+0100
TZNAME:CET
DTSTART:20251026T010000
END:STANDARD
BEGIN:DAYLIGHT
TZOFFSETFROM:+0100
TZOFFSETTO:+0200
TZNAME:CEST
DTSTART:20260329T010000
END:DAYLIGHT
BEGIN:STANDARD
TZOFFSETFROM:+0200
TZOFFSETTO:+0100
TZNAME:CET
DTSTART:20261025T010000
END:STANDARD
END:VTIMEZONE
BEGIN:VEVENT
DTSTART;TZID=Europe/Madrid:20250417T080000
DTEND;TZID=Europe/Madrid:20250417T163000
DTSTAMP:20260421T171503
CREATED:20250320T160320Z
LAST-MODIFIED:20250320T160323Z
UID:10038945-1744876800-1744907400@deplanesporlacomarca.com
SUMMARY:COLONIAS DE SEMANA SANTA - KUTTUNA HAUR ESKOLA (IRUN)
DESCRIPTION:Colonias de Semana Santa del 14 al 25 de abril en Kuttuna Haur Eskola de Irun\, a partir de las 08.00 horas. \n\n\n\n \n\n\n\nEl plan está dirigido a niñ@s de entre 3 y 9 años. Para más info o reserva de plaza\, no dudes en contactar con el 943623603 (hasta agotar plazas). \n\n\n\n \n\n\n\nSe puede acudir días sueltos\, así como solicitar el servicio de comedor.
URL:https://deplanesporlacomarca.com/agenda-evento/colonias-de-semana-santa-kuttuna-haur-eskola-irun/2025-04-17/
LOCATION:Kuttuna Haur Eskola\, Iparraguirre Kalea\, 11\, Irun\, Gipuzkoa\, España
ATTACH;FMTTYPE=image/jpeg:https://deplanesporlacomarca.com/wp-content/uploads/2025/03/colonias_de_semana_santa_2025_abril_ninos_kuttuna_haur_eskola_irun.jpg
GEO:43.3400009;-1.7701775
X-APPLE-STRUCTURED-LOCATION;VALUE=URI;X-ADDRESS=Kuttuna Haur Eskola Iparraguirre Kalea 11 Irun Gipuzkoa España;X-APPLE-RADIUS=500;X-TITLE=Iparraguirre Kalea\, 11:geo:-1.7701775,43.3400009
END:VEVENT
BEGIN:VEVENT
DTSTART;TZID=Europe/Madrid:20250417T090000
DTEND;TZID=Europe/Madrid:20250417T130000
DTSTAMP:20260421T171503
CREATED:20250404T143637Z
LAST-MODIFIED:20250404T143640Z
UID:10039136-1744880400-1744894800@deplanesporlacomarca.com
SUMMARY:SEMANA SANTA 2025 - CURSILLOS EN HÍPICA JAIZUBIA (IRUN)
DESCRIPTION:El Club Hípico Jaizubia de Irun vuelve a organizar un año más los cursillos de Semana Santa. Además de aprender a montar a caballo\, los alumnos aprenderán también a cuidarlos y a disfrutar con ellos en plena naturaleza. \n\n\n\n \n\n\n\nLos cursillos serán de una semana\, de 9.00 a 13.00 horas. El primer turno será los 14\,15\,16\,17 y 18 de abril y el segundo\, los días 21\, 22\, 23\, 24 y 25 de abril. \n\n\n\n \n\n\n\nEl precio del cursillo de una semana es de 140 euros\, para los socios y de 181 euros\, para los no socios.  \n\n\n\n \n\n\n\nInscripciones y más información en la oficina del club y en los teléfonos 943 61 90 15 / 630 07 77 29.
URL:https://deplanesporlacomarca.com/agenda-evento/semana-santa-2025-cursillos-en-hipica-jaizubia-irun/2025-04-17/
LOCATION:Club Hipico Jaizubia\, Jaizubia Hiribidea\, 1\, Irun\, Gipuzkoa\, España
ATTACH;FMTTYPE=image/jpeg:https://deplanesporlacomarca.com/wp-content/uploads/2025/04/semana_santa_2025_cursillos_club_hipica_jaizubia_irun.jpg
GEO:43.3394097;-1.8202125
X-APPLE-STRUCTURED-LOCATION;VALUE=URI;X-ADDRESS=Club Hipico Jaizubia Jaizubia Hiribidea 1 Irun Gipuzkoa España;X-APPLE-RADIUS=500;X-TITLE=Jaizubia Hiribidea\, 1:geo:-1.8202125,43.3394097
END:VEVENT
BEGIN:VEVENT
DTSTART;TZID=Europe/Madrid:20250417T093000
DTEND;TZID=Europe/Madrid:20250417T133000
DTSTAMP:20260421T171503
CREATED:20250415T170212Z
LAST-MODIFIED:20250415T170216Z
UID:10039216-1744882200-1744896600@deplanesporlacomarca.com
SUMMARY:SEMANA SANTA 2025 - APERTURA DEL PUNTO DE INFORMACIÓN LAPURRITURRI (IRUN)
DESCRIPTION:Organizado por el área de Desarrollo Sostenible del Ayuntamiento de Irun\, el Punto de Información de Lapurriturri\, situado en el Parque Natural de Aiako Harria\, en Irun\, abre sus puertas durante la Semana Santa\, para dar un servicio de atención e información en relación al Parque Natural y su entorno. El Punto de Información permanecerá abierto desde el jueves Santo\, 17 de abril\, hasta el lunes de pascua\, 21 de abril\, en horario de 09.30 a 13.30 horas. \n\n\n\n \n\n\n\nEl Ayuntamiento de Irun gestiona este punto informativo que fue inaugurado en 2007. Además de la apertura en los días festivos de la Semana Santa se abrirá durante los fines de semana\, festivos y puentes de junio a octubre. \n\n\n\n \n\n\n\nA lo largo de verano\, vecinos/as de Irun así como visitantes podrán conocer los valores históricos\, culturales y naturales de la zona\, a través de diferentes actividades temáticas sobre las cuales se informará más adelante.
URL:https://deplanesporlacomarca.com/agenda-evento/semana-santa-2025-apertura-del-punto-de-informacion-lapurriturri-irun/2025-04-17/
LOCATION:Punto de Información Lapuriturri\, GI-3454\, Km 11\,470\, Alto de Erlaitz\, Irun\, Gipuzkoa\, España
ATTACH;FMTTYPE=image/jpeg:https://deplanesporlacomarca.com/wp-content/uploads/2019/07/punto_de_informacion_lapuriturri_erlaitz_peñas_de_aya.jpg
GEO:43.3377409;-1.7867689
X-APPLE-STRUCTURED-LOCATION;VALUE=URI;X-ADDRESS=Punto de Información Lapuriturri GI-3454 Km 11470 Alto de Erlaitz Irun Gipuzkoa España;X-APPLE-RADIUS=500;X-TITLE=GI-3454\, Km 11\,470\, Alto de Erlaitz:geo:-1.7867689,43.3377409
END:VEVENT
BEGIN:VEVENT
DTSTART;TZID=Europe/Madrid:20250417T100000
DTEND;TZID=Europe/Madrid:20250417T200000
DTSTAMP:20260421T171503
CREATED:20250407T133738Z
LAST-MODIFIED:20250407T133741Z
UID:10039170-1744884000-1744920000@deplanesporlacomarca.com
SUMMARY:SEMANA SANTA 2025 - EXPOSICIÓN DE LOS PASOS DE SEMANA SANTA - IGLESIA DEL JUNCAL (IRUN)
DESCRIPTION:La Iglesia de Nuestra Señora del Juncal de Irun acoge esta Semana Santa\, como estos últimos años\, la exposición de los pasos que formaron parte de las procesiones de Irun. En la última década se han ido restaurando las figuras y\, cada año\, se añade a la muestra la última en haber sido recuperada. \n\n\n\n \n\n\n\nEl plan tiene entrada gratuita y se puede visitar\, tanto por la mañana como por la tarde\, de lunes a sábado\, de 10.00 a 12.30 horas y de 16.30 a 20.00 horas y domingo\, de 09.00 a 13.30 horas. Las imágenes estarán expuestas hasta el Viernes Santo\, el día 18.
URL:https://deplanesporlacomarca.com/agenda-evento/semana-santa-2025-exposicion-de-los-pasos-de-semana-santa-iglesia-del-juncal-irun/2025-04-17/
LOCATION:Iglesia Parroquial de Santa Maria del Juncal\, Juncal Kalea\, 28\, Irun\, Gipuzkoa\, España
ATTACH;FMTTYPE=image/jpeg:https://deplanesporlacomarca.com/wp-content/uploads/2025/04/semana_santa_2025_iglesia_del_juncal_irun.jpg
GEO:43.3403517;-1.7864181
X-APPLE-STRUCTURED-LOCATION;VALUE=URI;X-ADDRESS=Iglesia Parroquial de Santa Maria del Juncal Juncal Kalea 28 Irun Gipuzkoa España;X-APPLE-RADIUS=500;X-TITLE=Juncal Kalea\, 28:geo:-1.7864181,43.3403517
END:VEVENT
BEGIN:VEVENT
DTSTART;TZID=Europe/Madrid:20250417T110000
DTEND;TZID=Europe/Madrid:20250417T133000
DTSTAMP:20260421T171503
CREATED:20250404T142024Z
LAST-MODIFIED:20250409T154843Z
UID:10039124-1744887600-1744896600@deplanesporlacomarca.com
SUMMARY:PRIMAVERA EN OIASSO - ACTIVIDADES\, TALLERES\, VISITAS - MUSEO OIASSO (IRUN)
DESCRIPTION:Con motivo de la apertura del yacimiento de las Termas Romanas en el Museo Oiasso de Irun\, se han preparado diferentes actividades culturales desde el 12 al 27 de Abril\, coincidiendo con la Semana Santa y la Semana de Pascua y con las termas como punto de interés estrella de la primavera. \n\n\n\n \n\n\n\nEste es el detalle de este plan: \n\n\n\n– Sábado 12 y Domingo 13: Horario sábado: 10.00 – 14.00 // 16.00 – 19.00 y horario domingo: 10.00 – 14.00 horas. \n\n\n\n* Entrada gratuita al museo y al yacimiento de las termas romanas de Oiasso. Puedes solicitar tu entrada aquí. \n\n\n\n* Exposición «Neandertales. La historia de la otra humanidad en los Pirineos Occidentales». Una exposición sobre el intrigante universo de los Neandertales: su biología\, sus formas de vida\, su evolución y las razones de su desaparición.  \n\n\n\n \n\n\n\n– Visitas guiadas a las termas de Oiasso y al Museo: El objetivo de la visita será el de acercar a las y los visitantes al recién inaugurado yacimiento arqueológico romano de las termas de Oiasso. Días: 17\, 18\, 19\, 21 y 26 de abril. Horario: 11.00 horas (castellano) y 12.30 horas (euskera). Duración de 75 minutos. Precio: 5\,75 euros.  \n\n\n\n \n\n\n\n– Visita a las termas de Oiasso. Taller de arqueología. Dirigido a niñ@s de 8-12 años. Las y los más pequeños de la casa descubrirán el recién inaugurado yacimiento arqueológico romano de las termas de Oiasso y excavarán en uno de los talleres del museo. Días: 15 y 22 de abril. Horario: 11.00 – 12.30 horas. Duración de 90 minutos. Precio: 5 euros.  \n\n\n\n \n\n\n\n– Paseo por las termas. Una experiencia a la romana. Dirigido a niñ@s de 6-12 años. Una nueva experiencia\, entrando a las termas de Oiasso y conociendo las diferentes estancias del recién inaugurado yacimiento arqueológico. Se realizarán actividades relacionadas con las termas romanas. Días: 16\, 23 y 25 de abril. Horario: 11.00 – 12.30 horas. Duración de 90 minutos. Precio: 5 euros.  \n\n\n\n \n\n\n\n– Visita a las termas. Taller de mosaicos. Dirigido a niñ@s de 6-12 años. Las y los más pequeños de la casa entrarán en el recién inaugurado yacimiento arqueológico de las termas de Oiasso y realizarán un mosaico utilizando pequeñas teselas como lo harían los artistas de la época. Día: 24 de abril. Horario: 11.00 – 12.30 horas. Duración de 90 minutos. Precio: 5 euros.  \n\n\n\n \n\n\n\n \n\n\n\n \n\n\n\nPara participar en todas las actividades será necesaria la inscripción previa. Se puede hacer llamando al 943 63 93 53\, a través de este enlace o escribiendo un correo electrónico a info-oiassomuseo@irun.org
URL:https://deplanesporlacomarca.com/agenda-evento/primavera-en-oiasso-actividades-talleres-visitas-museo-oiasso-irun/2025-04-17/
LOCATION:Museo Oiasso\, Eskoleta 1\, Irun\, Gipuzkoa\, 20302\, España
ATTACH;FMTTYPE=image/jpeg:https://deplanesporlacomarca.com/wp-content/uploads/2025/04/primavera_museo_oiasso_apertura_termas_romanas_irun.jpg
GEO:43.339816;-1.787788
X-APPLE-STRUCTURED-LOCATION;VALUE=URI;X-ADDRESS=Museo Oiasso Eskoleta 1 Irun Gipuzkoa 20302 España;X-APPLE-RADIUS=500;X-TITLE=Eskoleta 1:geo:-1.787788,43.339816
END:VEVENT
BEGIN:VEVENT
DTSTART;TZID=Europe/Madrid:20250417T180000
DTEND;TZID=Europe/Madrid:20250417T210000
DTSTAMP:20260421T171503
CREATED:20250226T180036Z
LAST-MODIFIED:20250226T180040Z
UID:10038558-1744912800-1744923600@deplanesporlacomarca.com
SUMMARY:EXPOSICIÓN\, "RAMÓN ESPARZA. REGRESO AL BIDASOA" - AMAIA KZ (IRUN)
DESCRIPTION:Exposición «Ramón Esparza\, retorno al Bidasoa» en la sala de exposiciones del Amaia KZ de Irun hasta el 4 de Mayo y comisariada por Pedro Usabiaga\, reconocido fotógrafo de moda y cine que ha colaborado en revistas altamente reconocidas del mundo de la moda y el arte. \n\n\n\n \n\n\n\nLa exposición tendrá como hilo conductor al río Bidasoa\, ya que es el primer recuerdo de la infancia Ramón Esparza\, junto con la ciudad de Irun\, con la que tuvo un especial vínculo. \n\n\n\n \n\n\n\nSe trata de la primera exposición sobre Ramón Esparza y su trabajo\, e Irun no podía ser un mejor lugar para acogerla debido a la vinculación del artista con la ciudad y la comarca. Y es que es destacable mencionar que en Irun hay una larga tradición de modistas y sastrerías de caballero desde la mitad del siglo XIX. \n\n\n\n \n\n\n\nAsí\, la exposición será un recorrido a través de su mirada por la vida y el trabajo de algunos de los personajes más importantes del siglo XX\, además de acoger una selección de textiles (vestidos)\, sombreros\, complementos\, fotografías\, material audiovisual\, pinturas y objetos y documentos de los principales protagonistas de la cultura y las artes vinculados al Bidasoa. \n\n\n\n \n\n\n\nRamón Esparza Viela (Lesaka\, 1923-1997)\, mano derecha y hombre de confianza de Cristóbal Balenciaga durante un cuarto de siglo\, fue el primer y único español al frente de la dirección creativa de la firma ‘Chanel’\, aunque fue de manera algo fugaz\, ya que ostentó el cargo por menos de un año. \n\n\n\n \n\n\n\nTras el fallecimiento de Cristóbal Balenciaga en 1972\, fue Ramón Esparza el encargado de las exposiciones dedicadas al diseñador de Getaria. \n\n\n\n \n\n\n\nEste plan tiene este horario: (Inauguración 27 de Marzo\, 19.00 horas) \n\n\n\n– De martes a sábados de 18.00 a 21.00 horas \n\n\n\n– Domingos de 11.30 a 13.30 horas
URL:https://deplanesporlacomarca.com/agenda-evento/exposicion-ramon-esparza-regreso-al-bidasoa-amaia-kz-irun/2025-04-17/
LOCATION:Amaia KZ\, Pio XII\, 4\, Irun\, Gipuzkoa\, 20300\, España
GEO:43.338883;-1.7964895
X-APPLE-STRUCTURED-LOCATION;VALUE=URI;X-ADDRESS=Amaia KZ Pio XII 4 Irun Gipuzkoa 20300 España;X-APPLE-RADIUS=500;X-TITLE=Pio XII\, 4:geo:-1.7964895,43.338883
END:VEVENT
END:VCALENDAR