BEGIN:VCALENDAR
VERSION:2.0
PRODID:-//De planes por la comarca - ECPv6.15.20//NONSGML v1.0//EN
CALSCALE:GREGORIAN
METHOD:PUBLISH
X-ORIGINAL-URL:https://deplanesporlacomarca.com
X-WR-CALDESC:Eventos para De planes por la comarca
REFRESH-INTERVAL;VALUE=DURATION:PT1H
X-Robots-Tag:noindex
X-PUBLISHED-TTL:PT1H
BEGIN:VTIMEZONE
TZID:Europe/Madrid
BEGIN:DAYLIGHT
TZOFFSETFROM:+0100
TZOFFSETTO:+0200
TZNAME:CEST
DTSTART:20240331T010000
END:DAYLIGHT
BEGIN:STANDARD
TZOFFSETFROM:+0200
TZOFFSETTO:+0100
TZNAME:CET
DTSTART:20241027T010000
END:STANDARD
BEGIN:DAYLIGHT
TZOFFSETFROM:+0100
TZOFFSETTO:+0200
TZNAME:CEST
DTSTART:20250330T010000
END:DAYLIGHT
BEGIN:STANDARD
TZOFFSETFROM:+0200
TZOFFSETTO:+0100
TZNAME:CET
DTSTART:20251026T010000
END:STANDARD
BEGIN:DAYLIGHT
TZOFFSETFROM:+0100
TZOFFSETTO:+0200
TZNAME:CEST
DTSTART:20260329T010000
END:DAYLIGHT
BEGIN:STANDARD
TZOFFSETFROM:+0200
TZOFFSETTO:+0100
TZNAME:CET
DTSTART:20261025T010000
END:STANDARD
END:VTIMEZONE
BEGIN:VEVENT
DTSTART;TZID=Europe/Madrid:20250419T083000
DTEND;TZID=Europe/Madrid:20250419T133000
DTSTAMP:20260421T171059
CREATED:20220328T123956Z
LAST-MODIFIED:20260325T155426Z
UID:10039004-1745051400-1745069400@deplanesporlacomarca.com
SUMMARY:MERCADILLO - PLAZA URDANIBIA (IRUN)
DESCRIPTION:Tradicional mercadillo que cada sábado tiene lugar en la Plaza Urdanibia de Irun\, desde las 08.30 horas.
URL:https://deplanesporlacomarca.com/agenda-evento/mercadillo-plaza-urdanibia-irun/2025-04-19/
LOCATION:Plaza de Urdanibia\, Urdanibia Plaza\, Irun\, Gipuzkoa\, 20304\, España
ATTACH;FMTTYPE=image/jpeg:https://deplanesporlacomarca.com/wp-content/uploads/2020/10/de-planes-por-la-comarca-irun-gipuzkoa-bidasoa-txingudi-detxokos-382.jpg
GEO:43.3371371;-1.7862812
X-APPLE-STRUCTURED-LOCATION;VALUE=URI;X-ADDRESS=Plaza de Urdanibia Urdanibia Plaza Irun Gipuzkoa 20304 España;X-APPLE-RADIUS=500;X-TITLE=Urdanibia Plaza:geo:-1.7862812,43.3371371
END:VEVENT
BEGIN:VEVENT
DTSTART;TZID=Europe/Madrid:20250419T093000
DTEND;TZID=Europe/Madrid:20250419T133000
DTSTAMP:20260421T171059
CREATED:20250415T170212Z
LAST-MODIFIED:20250415T170216Z
UID:10039218-1745055000-1745069400@deplanesporlacomarca.com
SUMMARY:SEMANA SANTA 2025 - APERTURA DEL PUNTO DE INFORMACIÓN LAPURRITURRI (IRUN)
DESCRIPTION:Organizado por el área de Desarrollo Sostenible del Ayuntamiento de Irun\, el Punto de Información de Lapurriturri\, situado en el Parque Natural de Aiako Harria\, en Irun\, abre sus puertas durante la Semana Santa\, para dar un servicio de atención e información en relación al Parque Natural y su entorno. El Punto de Información permanecerá abierto desde el jueves Santo\, 17 de abril\, hasta el lunes de pascua\, 21 de abril\, en horario de 09.30 a 13.30 horas. \n\n\n\n \n\n\n\nEl Ayuntamiento de Irun gestiona este punto informativo que fue inaugurado en 2007. Además de la apertura en los días festivos de la Semana Santa se abrirá durante los fines de semana\, festivos y puentes de junio a octubre. \n\n\n\n \n\n\n\nA lo largo de verano\, vecinos/as de Irun así como visitantes podrán conocer los valores históricos\, culturales y naturales de la zona\, a través de diferentes actividades temáticas sobre las cuales se informará más adelante.
URL:https://deplanesporlacomarca.com/agenda-evento/semana-santa-2025-apertura-del-punto-de-informacion-lapurriturri-irun/2025-04-19/
LOCATION:Punto de Información Lapuriturri\, GI-3454\, Km 11\,470\, Alto de Erlaitz\, Irun\, Gipuzkoa\, España
ATTACH;FMTTYPE=image/jpeg:https://deplanesporlacomarca.com/wp-content/uploads/2019/07/punto_de_informacion_lapuriturri_erlaitz_peñas_de_aya.jpg
GEO:43.3377409;-1.7867689
X-APPLE-STRUCTURED-LOCATION;VALUE=URI;X-ADDRESS=Punto de Información Lapuriturri GI-3454 Km 11470 Alto de Erlaitz Irun Gipuzkoa España;X-APPLE-RADIUS=500;X-TITLE=GI-3454\, Km 11\,470\, Alto de Erlaitz:geo:-1.7867689,43.3377409
END:VEVENT
BEGIN:VEVENT
DTSTART;TZID=Europe/Madrid:20250419T100000
DTEND;TZID=Europe/Madrid:20250419T130000
DTSTAMP:20260421T171059
CREATED:20240926T150836Z
LAST-MODIFIED:20260227T140524Z
UID:10038731-1745056800-1745067600@deplanesporlacomarca.com
SUMMARY:TALLER "ARKEOLAB FAMILIAR" EN EL MUSEO OIASSO (IRUN)
DESCRIPTION:Este taller permite convertirnos en auténticos arqueólogos por un día. La actividad comienza excavando en un yacimiento arqueológico simulado en el que\, con un poco de suerte\, se descubrirán restos como cerámica\, huesos o monedas. Pero el verdadero trabajo de investigación arranca en el laboratorio\, a donde acudiremos para estudiar\, catalogar e interpretar cada una de las piezas encontradas. \n\n\n\n \n\n\n\nTambién permite disfrutar en familia de la arqueología. Se trata de un itinerario arqueológico que lejos de ser una visita guiada\, es una actividad autónoma para las familias\, en la que los pequeños con ayuda de los sus familiares adultos\, realizarán los diferentes pasos propuestos en el dossier-guía que se entrega en la recepción del museo.Es necesario hacer reserva previa Al acabar la actividad las familias podrán llevarse su propio Dossier de arqueología\, auténtica acreditación de la habilidad para encontrar los hallazgos. \n\n\n\n \n\n\n\nEl plan está dirigido a familias con niñ@s de entre 6 y 12 años y tiene lugar de 10.00 a 13.00 horas en el Museo Oiasso de Irun. Tiene un precio de 5 Euros por participante. \n\n\n\n \n\n\n\nPuedes apuntarte y/o pedir más información en: \n\n\n\n– Museo Oiasso \n\n\n\n– 943639353 \n\n\n\n– info-oiassomuseo@irun.org
URL:https://deplanesporlacomarca.com/agenda-evento/taller-arkeolab-familiar-en-el-museo-oiasso-irun/2025-04-19/
LOCATION:Museo Oiasso\, Eskoleta 1\, Irun\, Gipuzkoa\, 20302\, España
ATTACH;FMTTYPE=image/jpeg:https://deplanesporlacomarca.com/wp-content/uploads/2017/03/museo_oiasso_irun.jpg
GEO:43.339816;-1.787788
X-APPLE-STRUCTURED-LOCATION;VALUE=URI;X-ADDRESS=Museo Oiasso Eskoleta 1 Irun Gipuzkoa 20302 España;X-APPLE-RADIUS=500;X-TITLE=Eskoleta 1:geo:-1.787788,43.339816
END:VEVENT
BEGIN:VEVENT
DTSTART;TZID=Europe/Madrid:20250419T100000
DTEND;TZID=Europe/Madrid:20250419T150000
DTSTAMP:20260421T171059
CREATED:20250410T094253Z
LAST-MODIFIED:20250419T065123Z
UID:10039186-1745056800-1745074800@deplanesporlacomarca.com
SUMMARY:SEMANA SANTA 2025 - FERIA DE ARTESANÍA - ESKUZLAN - PUERTO DEPORTIVO (HONDARRIBIA)
DESCRIPTION:¡¡¡ Debido al mal tiempo\, se cancela el mercado del día 19 de Abril !!! \n\n\n\n \n\n\n\nLa asociación Eskuz-lan organiza una feria de artesanía en el Puerto Deportivo de Hondarribia\, de 10.00 a 15.00 horas\, con motivo de los días de Semana Santa. \n\n\n\n \n\n\n\nEn el mercado encontraremos una gama muy amplia de productos\, desde complementos textil hasta arte y reciclaje pasando por artículos de costura\, serigrafía y/o confección típica vasca.
URL:https://deplanesporlacomarca.com/agenda-evento/semana-santa-2025-feria-de-artesania-eskuzlan-puerto-deportivo-hondarribia/2025-04-19/
LOCATION:Puerto Deportivo Hondarribia\, Minatera Ibilbidea\, Hondarribia\, Gipuzkoa\, España
ATTACH;FMTTYPE=image/jpeg:https://deplanesporlacomarca.com/wp-content/uploads/2025/04/mercado_artesanal_eskuzlan_semana_santa_2025_hondarribia.jpg
GEO:43.3752289;-1.7953761
X-APPLE-STRUCTURED-LOCATION;VALUE=URI;X-ADDRESS=Puerto Deportivo Hondarribia Minatera Ibilbidea Hondarribia Gipuzkoa España;X-APPLE-RADIUS=500;X-TITLE=Minatera Ibilbidea:geo:-1.7953761,43.3752289
END:VEVENT
BEGIN:VEVENT
DTSTART;TZID=Europe/Madrid:20250419T103000
DTEND;TZID=Europe/Madrid:20250419T130000
DTSTAMP:20260421T171059
CREATED:20250415T072611Z
LAST-MODIFIED:20250415T072615Z
UID:10039210-1745058600-1745067600@deplanesporlacomarca.com
SUMMARY:VISITA GUIADA\, "CONOCE TXINGUDI: PLAIAUNDI EXPRESS" - 19 Y 20 DE ABRIL - TXINGUDI EKOETXEA (IRUN)
DESCRIPTION:¿No sabes qué hacer todavía en esta Semana Santa? La Red Ekoetxea te ofrece la oportunidad de conectar con la naturaleza en espacios emblemáticos. \n\n\n\n \n\n\n\nAdéntrate en Txingudi mediante un itinerario guiado que te llevará a descubrir las marismas de Txingudi y\, desde el Parque Ecológico de Plaiaundi\, disfrutarás de una vista panorámica única de la marisma. Una experiencia para conocer y apreciar los valores naturales de este increíble paraje. \n\n\n\n \n\n\n\nDisfruta recorriendo uno de los espacios más singulares de las marismas de Txingudi. De la mano de Ekoetxea\, descubriremos el Parque Ecológico de Plaiaundi y podremos disfrutar de unas vistas impresionantes de la marisma\, mientras descubrimos curiosidades\, usos e importancia de este espacio natural protegido. \n\n\n\n \n\n\n\nRecuerda que el contacto directo con la naturaleza nos proporciona grandes beneficios en la salud y el bienestar\, y qué mejor si aprendemos a hacerlo de manera sostenible para minimizar nuestro impacto. \n\n\n\n \n\n\n\nEl plan tiene lugar en dos turnos\, a las 10.30 y a las 12.00 horas\, está dirigido a todos los públicos\, tiene un precio de 2 Euros y necesita inscripción previa en: \n\n\n\n– enlace \n\n\n\n \n\n\n\nTienes más información en: \n\n\n\n– 943619389 \n\n\n\n– info.txingudi@ekoetxea.eus
URL:https://deplanesporlacomarca.com/agenda-evento/visita-guiada-conoce-txingudi-plaiaundi-express-19-y-20-de-abril-txingudi-ekoetxea-irun/2025-04-19/
LOCATION:Txingudi Ekoetxea\, Pierre Loti Ibilbidea - Plaiaundi\, Irun\, Gipuzkoa\, España
ATTACH;FMTTYPE=image/jpeg:https://deplanesporlacomarca.com/wp-content/uploads/2025/04/semana_santa_2025_conoce_plaiaundi_express_19_20_abril_txingudi_ekoetxea_irun.jpg
GEO:43.346807;-1.7928974
X-APPLE-STRUCTURED-LOCATION;VALUE=URI;X-ADDRESS=Txingudi Ekoetxea Pierre Loti Ibilbidea - Plaiaundi Irun Gipuzkoa España;X-APPLE-RADIUS=500;X-TITLE=Pierre Loti Ibilbidea - Plaiaundi:geo:-1.7928974,43.346807
END:VEVENT
BEGIN:VEVENT
DTSTART;TZID=Europe/Madrid:20250419T103000
DTEND;TZID=Europe/Madrid:20250419T140000
DTSTAMP:20260421T171059
CREATED:20250415T073400Z
LAST-MODIFIED:20250415T073404Z
UID:10039213-1745058600-1745071200@deplanesporlacomarca.com
SUMMARY:"AVENTURA EN PLAIAUNDI: ENERGÍA EN JUEGO" - 18\, 19 y 20 DE ABRIL - TXINGUDI EKOETXEA (IRUN)
DESCRIPTION:¡Explora el poder de las energías renovables en familia! ¡Supera los retos de esta yincana autoguiada y descubre cómo la energía renovable puede mover el mundo! \n\n\n\n \n\n\n\nPrepárate para una emocionante aventura en familia en el corazón de Plaiaundi participando en una yincana autoguiada. Recorre los distintos puntos del parque y Ekoetxea\, superando pruebas y descubriendo cómo funcionan las energías renovables en nuestro día a día. \n\n\n\n \n\n\n\nUna experiencia única donde pondréis a prueba vuestra creatividad\, ingenio y trabajo en equipo ante los desafíos que se os presenten. \n\n\n\n \n\n\n\n¿Qué os espera en esta aventura? \n\n\n\n– Pruebas emocionantes: Juegos y retos que pondrán a prueba vuestros conocimientos sobre energías renovables. \n\n\n\n– Aprendizaje divertido: Descubre cómo funciona la energía que nos rodea de una forma didáctica y entretenida. \n\n\n\n– Exploración en familia: Disfrutad de la naturaleza mientras superáis retos en familia. \n\n\n\n \n\n\n\n¡Aprende\, juega y contribuye a un futuro más sostenible! ¿Estás listo/a para poner tu energía en juego? \n\n\n\n \n\n\n\nEl plan tiene lugar en dos turnos\, a las 10.30 y a las 12.30 horas\, está dirigido a familias con niñ@s a partir de 7 años\, tiene un precio de 2 Euros y necesita inscripción previa en: \n\n\n\n– enlace \n\n\n\nTienes más información en: \n\n\n\n– 943619389 \n\n\n\n– info.txingudi@ekoetxea.eus
URL:https://deplanesporlacomarca.com/agenda-evento/aventura-en-plaiaundi-energia-en-juego-18-19-y-20-de-abril-txingudi-ekoetxea-irun/2025-04-19/
LOCATION:Txingudi Ekoetxea\, Pierre Loti Ibilbidea - Plaiaundi\, Irun\, Gipuzkoa\, España
GEO:43.346807;-1.7928974
X-APPLE-STRUCTURED-LOCATION;VALUE=URI;X-ADDRESS=Txingudi Ekoetxea Pierre Loti Ibilbidea - Plaiaundi Irun Gipuzkoa España;X-APPLE-RADIUS=500;X-TITLE=Pierre Loti Ibilbidea - Plaiaundi:geo:-1.7928974,43.346807
END:VEVENT
BEGIN:VEVENT
DTSTART;TZID=Europe/Madrid:20250419T110000
DTEND;TZID=Europe/Madrid:20250419T130000
DTSTAMP:20260421T171059
CREATED:20240131T181356Z
LAST-MODIFIED:20260330T172106Z
UID:10039193-1745060400-1745067600@deplanesporlacomarca.com
SUMMARY:VISITA GUIADA\, "LOS LUGARES PROHIBIDOS DEL FUERTE DE GUADALUPE" (HONDARRIBIA)
DESCRIPTION:ARMA PLAZA Fundazioa ofrece la visita guiada al «Fuerte de Guadalupe\, los lugares prohibidos» en Hondarribia. \n\n\n\n \n\n\n\nEl Fuerte de Guadalupe es una de las construcciones defensivas de época contemporánea más bellas del País Vasco. Esta fortaleza está situada en el monte Jaizkibel junto al Santuario de Guadalupe y data de finales del año 1900. \n\n\n\n \n\n\n\nLa visita comienza a las 11.00 horas y tiene una duración de dos horas\, en las que se recorre gran parte de la mayor fortificación contemporánea de la Comunidad Autónoma del País Vasco (prevista para 69 cañones)\, visitando el foso\, los dos cuarteles que posee en su interior\, pabellones de oficiales\, almacenes y repuestos de munición\, las poternas de comunicación\, las baterías para la defensa del foso\, las baterías acasamatadas (en el interior de edificios) y al aire libre\, los patios\, las galerías aspilleradas\, etc.. \n\n\n\n \n\n\n\nAquí tienes un enlace al post de la visita que hice para descubrirlo. \n\n\n\n \n\n\n\nRecomiendan llevar un calzado adecuado (a evitar sandalias o zapatos con tacón alto). \n\n\n\n \n\n\n\nPrecio: 15 Euros (menores de 12 años y personas empadronadas en Hondarribia\, gratis) \n\n\n\n \n\n\n\nPlan perfecto para toda la familia\, niños y mayores. \n\n\n\n \n\n\n\nLas reservas se podrán hacer por teléfono llamando a 943 64 46 23 / 943 64 36 77\, enviando un correo electrónico a info@armaplaza.eus o en este enlace.
URL:https://deplanesporlacomarca.com/agenda-evento/visita-guiada-los-lugares-prohibidos-del-fuerte-de-guadalupe-hondarribia/2025-04-19/
LOCATION:Fuerte de Nuestra Señora de Guadalupe\, Hondarribia\, Gipuzkoa\, España
ATTACH;FMTTYPE=image/jpeg:https://deplanesporlacomarca.com/wp-content/uploads/2017/09/de-planes-por-la-comarca-visita-guiada-hondarribia-gipuzkoa-fuerte-guadalupe-ocio-deeventos-191.jpg
END:VEVENT
BEGIN:VEVENT
DTSTART;TZID=Europe/Madrid:20250419T110000
DTEND;TZID=Europe/Madrid:20250419T130000
DTSTAMP:20260421T171059
CREATED:20250227T084406Z
LAST-MODIFIED:20250531T173327Z
UID:10038735-1745060400-1745067600@deplanesporlacomarca.com
SUMMARY:VISITA GUIADA AL MUSEO OIASSO (IRUN)
DESCRIPTION:Como cada sábado\, visita guiada a la exposición permanente del Museo Oiasso de Irun\, a partir de las 11.00 horas. \n\n\n\n \n\n\n\nLas colecciones se organizan en tres salas: Impacto\, Puerto y Oiasso. La Sala Impacto presenta el mundo indígena vascón y los primeros contactos entre éste y los romanos. En la sala Puerto las vitrinas acogen los materiales arqueológicos que nos hablan del comercio y la pesca\, las dos actividades económicas principales asociadas al puerto. Finalmente\, la sala Oiasso habla de los aspectos cotidianos de una ciudad romana de época altoimperial: la dieta\, la vestimenta\, la escritura\, el ocio\, la religión o la minería. \n\n\n\n \n\n\n\nEl conocimiento del pasado romano de la ciudad ahora más cómodo y accesible. \n\n\n\n \n\n\n\nHay visita en castellano\, de 11.00 a 12.00 horas y en euskera\, de 12.00 a 13.00 horas. \n\n\n\n \n\n\n\nEl precio de las entradas para este plan es de 5\,75 Euros y las puedes adquirir en este enlace o reservarlas en el 943639353.
URL:https://deplanesporlacomarca.com/agenda-evento/visita-guiada-al-museo-oiasso-irun/2025-04-19/
LOCATION:Museo Oiasso\, Eskoleta 1\, Irun\, Gipuzkoa\, 20302\, España
ATTACH;FMTTYPE=image/jpeg:https://deplanesporlacomarca.com/wp-content/uploads/2017/05/entorno_oiasso_irun.jpg
GEO:43.339816;-1.787788
X-APPLE-STRUCTURED-LOCATION;VALUE=URI;X-ADDRESS=Museo Oiasso Eskoleta 1 Irun Gipuzkoa 20302 España;X-APPLE-RADIUS=500;X-TITLE=Eskoleta 1:geo:-1.787788,43.339816
END:VEVENT
BEGIN:VEVENT
DTSTART;TZID=Europe/Madrid:20250419T110000
DTEND;TZID=Europe/Madrid:20250419T133000
DTSTAMP:20260421T171059
CREATED:20250404T142024Z
LAST-MODIFIED:20250409T154843Z
UID:10039126-1745060400-1745069400@deplanesporlacomarca.com
SUMMARY:PRIMAVERA EN OIASSO - ACTIVIDADES\, TALLERES\, VISITAS - MUSEO OIASSO (IRUN)
DESCRIPTION:Con motivo de la apertura del yacimiento de las Termas Romanas en el Museo Oiasso de Irun\, se han preparado diferentes actividades culturales desde el 12 al 27 de Abril\, coincidiendo con la Semana Santa y la Semana de Pascua y con las termas como punto de interés estrella de la primavera. \n\n\n\n \n\n\n\nEste es el detalle de este plan: \n\n\n\n– Sábado 12 y Domingo 13: Horario sábado: 10.00 – 14.00 // 16.00 – 19.00 y horario domingo: 10.00 – 14.00 horas. \n\n\n\n* Entrada gratuita al museo y al yacimiento de las termas romanas de Oiasso. Puedes solicitar tu entrada aquí. \n\n\n\n* Exposición «Neandertales. La historia de la otra humanidad en los Pirineos Occidentales». Una exposición sobre el intrigante universo de los Neandertales: su biología\, sus formas de vida\, su evolución y las razones de su desaparición.  \n\n\n\n \n\n\n\n– Visitas guiadas a las termas de Oiasso y al Museo: El objetivo de la visita será el de acercar a las y los visitantes al recién inaugurado yacimiento arqueológico romano de las termas de Oiasso. Días: 17\, 18\, 19\, 21 y 26 de abril. Horario: 11.00 horas (castellano) y 12.30 horas (euskera). Duración de 75 minutos. Precio: 5\,75 euros.  \n\n\n\n \n\n\n\n– Visita a las termas de Oiasso. Taller de arqueología. Dirigido a niñ@s de 8-12 años. Las y los más pequeños de la casa descubrirán el recién inaugurado yacimiento arqueológico romano de las termas de Oiasso y excavarán en uno de los talleres del museo. Días: 15 y 22 de abril. Horario: 11.00 – 12.30 horas. Duración de 90 minutos. Precio: 5 euros.  \n\n\n\n \n\n\n\n– Paseo por las termas. Una experiencia a la romana. Dirigido a niñ@s de 6-12 años. Una nueva experiencia\, entrando a las termas de Oiasso y conociendo las diferentes estancias del recién inaugurado yacimiento arqueológico. Se realizarán actividades relacionadas con las termas romanas. Días: 16\, 23 y 25 de abril. Horario: 11.00 – 12.30 horas. Duración de 90 minutos. Precio: 5 euros.  \n\n\n\n \n\n\n\n– Visita a las termas. Taller de mosaicos. Dirigido a niñ@s de 6-12 años. Las y los más pequeños de la casa entrarán en el recién inaugurado yacimiento arqueológico de las termas de Oiasso y realizarán un mosaico utilizando pequeñas teselas como lo harían los artistas de la época. Día: 24 de abril. Horario: 11.00 – 12.30 horas. Duración de 90 minutos. Precio: 5 euros.  \n\n\n\n \n\n\n\n \n\n\n\n \n\n\n\nPara participar en todas las actividades será necesaria la inscripción previa. Se puede hacer llamando al 943 63 93 53\, a través de este enlace o escribiendo un correo electrónico a info-oiassomuseo@irun.org
URL:https://deplanesporlacomarca.com/agenda-evento/primavera-en-oiasso-actividades-talleres-visitas-museo-oiasso-irun/2025-04-19/
LOCATION:Museo Oiasso\, Eskoleta 1\, Irun\, Gipuzkoa\, 20302\, España
ATTACH;FMTTYPE=image/jpeg:https://deplanesporlacomarca.com/wp-content/uploads/2025/04/primavera_museo_oiasso_apertura_termas_romanas_irun.jpg
GEO:43.339816;-1.787788
X-APPLE-STRUCTURED-LOCATION;VALUE=URI;X-ADDRESS=Museo Oiasso Eskoleta 1 Irun Gipuzkoa 20302 España;X-APPLE-RADIUS=500;X-TITLE=Eskoleta 1:geo:-1.787788,43.339816
END:VEVENT
BEGIN:VEVENT
DTSTART;TZID=Europe/Madrid:20250419T180000
DTEND;TZID=Europe/Madrid:20250419T210000
DTSTAMP:20260421T171059
CREATED:20250226T180036Z
LAST-MODIFIED:20250226T180040Z
UID:10038560-1745085600-1745096400@deplanesporlacomarca.com
SUMMARY:EXPOSICIÓN\, "RAMÓN ESPARZA. REGRESO AL BIDASOA" - AMAIA KZ (IRUN)
DESCRIPTION:Exposición «Ramón Esparza\, retorno al Bidasoa» en la sala de exposiciones del Amaia KZ de Irun hasta el 4 de Mayo y comisariada por Pedro Usabiaga\, reconocido fotógrafo de moda y cine que ha colaborado en revistas altamente reconocidas del mundo de la moda y el arte. \n\n\n\n \n\n\n\nLa exposición tendrá como hilo conductor al río Bidasoa\, ya que es el primer recuerdo de la infancia Ramón Esparza\, junto con la ciudad de Irun\, con la que tuvo un especial vínculo. \n\n\n\n \n\n\n\nSe trata de la primera exposición sobre Ramón Esparza y su trabajo\, e Irun no podía ser un mejor lugar para acogerla debido a la vinculación del artista con la ciudad y la comarca. Y es que es destacable mencionar que en Irun hay una larga tradición de modistas y sastrerías de caballero desde la mitad del siglo XIX. \n\n\n\n \n\n\n\nAsí\, la exposición será un recorrido a través de su mirada por la vida y el trabajo de algunos de los personajes más importantes del siglo XX\, además de acoger una selección de textiles (vestidos)\, sombreros\, complementos\, fotografías\, material audiovisual\, pinturas y objetos y documentos de los principales protagonistas de la cultura y las artes vinculados al Bidasoa. \n\n\n\n \n\n\n\nRamón Esparza Viela (Lesaka\, 1923-1997)\, mano derecha y hombre de confianza de Cristóbal Balenciaga durante un cuarto de siglo\, fue el primer y único español al frente de la dirección creativa de la firma ‘Chanel’\, aunque fue de manera algo fugaz\, ya que ostentó el cargo por menos de un año. \n\n\n\n \n\n\n\nTras el fallecimiento de Cristóbal Balenciaga en 1972\, fue Ramón Esparza el encargado de las exposiciones dedicadas al diseñador de Getaria. \n\n\n\n \n\n\n\nEste plan tiene este horario: (Inauguración 27 de Marzo\, 19.00 horas) \n\n\n\n– De martes a sábados de 18.00 a 21.00 horas \n\n\n\n– Domingos de 11.30 a 13.30 horas
URL:https://deplanesporlacomarca.com/agenda-evento/exposicion-ramon-esparza-regreso-al-bidasoa-amaia-kz-irun/2025-04-19/
LOCATION:Amaia KZ\, Pio XII\, 4\, Irun\, Gipuzkoa\, 20300\, España
GEO:43.338883;-1.7964895
X-APPLE-STRUCTURED-LOCATION;VALUE=URI;X-ADDRESS=Amaia KZ Pio XII 4 Irun Gipuzkoa 20300 España;X-APPLE-RADIUS=500;X-TITLE=Pio XII\, 4:geo:-1.7964895,43.338883
END:VEVENT
BEGIN:VEVENT
DTSTART;TZID=Europe/Madrid:20250419T180000
DTEND;TZID=Europe/Madrid:20250419T210000
DTSTAMP:20260421T171059
CREATED:20250314T144233Z
LAST-MODIFIED:20250314T144236Z
UID:10038894-1745085600-1745096400@deplanesporlacomarca.com
SUMMARY:EXPOSICIÓN\, "HILDE\, LA INFANCIA Y LAS VANITAS" - SALA DE EXPOSICIONES MENCHU GAL (IRUN)
DESCRIPTION:«Hilde\, la infancia y las vanitas«\, una exposición de la artista alemana y afincada en Getaria Barbara Stammel y comisariada por la historiadora del arte especializada en arte vasco contemporáneo María José Aranzasti\, que se puede visitar en la sala de exposiciones Menchu Gal de Irun\, hasta el 25 de Mayo. \n\n\n\n \n\n\n\nLa exposición exhibe las obras realizadas dentro de la serie «Hilde»\, un conjunto de retratos que la artista comenzó a pintar a la muerte de su madre. Son cuadros de distintos tamaños\, muchos de grandes dimensiones\, a través de los cuáles se interpela directamente al espectador. Estos cuadros poseen un atractivo tanto misterioso como insistente\, por eso al ser vistos de frente\, con esas miradas directas al espectador\, este se siente participe de la obra. \n\n\n\n \n\n\n\nLa sala pequeña acoge obras de la serie «Infancia»\, entre los que se encuentran tres autorretratos de la artista. Esta serie de retratos junto con las «Manchas humanas» que viene realizando desde 2014 evocan el pasado\, las vidas transcurridas. Esta temática se recogerá a través de una serie de vanitas o naturalezas muertas\, realizadas sobre espejo\, con el que el espectador se verá reflejado en la propia obra. \n\n\n\n \n\n\n\nLa obra de Barbara Stammel se caracteriza por el uso de pigmentos naturales\, muchos de ellos tierras. La factura de sus cuadros se caracteriza por una textura muy marcada\, una obra muy matérica que realiza especialmente con espátula y pinceles\, a base de salpicaduras\, surcos\, grietas\, etc. \n\n\n\n \n\n\n\nLa artista Barbara Stammel nace en Söcking\, en el sudoeste de Munich\, y antes de cursar sus estudios de Pintura y Grabado en la Akademie der Bildene Künste de Munich\, inicia sus estudios en Biología que le influirán en la realización de una serie de pinturas sobre el corazón\, The Heart. Cursa también estudios de escultura en el Taller de Magdalena Jetelova\, en la Academia de Bellas Artes\, Munich. Estudia en la Facultad de Bellas Artes Pau Gargallo de Barcelona con Rosa Ajenjo y Adolf Genovart. Realiza estudios de Serigrafía y Fotografía en Arteleku (Donostia-San Sebastián) y recibe formación en el Taller Croslieu\, con Arno Stern en París. \n\n\n\n \n\n\n\nDesde 1994 está afincada en la localidad de Getaria (Gipuzkoa) donde desarrolla su actividad artística. Barbara Stammel tiene obra\, entre otras colecciones\, en el Museo San Telmo\, en el Museo Artium\, en el CAB de Burgos\, en la Colección de Artes Plásticas del Área de Cultura de Pamplona\, en el Museo de Arte Moderno de Tarragona y en la Fundación Enrique Leote (Portugal). \n\n\n\n \n\n\n\nEl plan tiene entrada gratuita y este horario: \n\n\n\n– viernes y sábados: 18.00 – 21.00 horas \n\n\n\n– domingos: 11.30 – 13.30 horas
URL:https://deplanesporlacomarca.com/agenda-evento/exposicion-hilde-la-infancia-y-las-vanitas-sala-de-exposiciones-menchu-gal-irun/2025-04-19/
LOCATION:Sala de Exposiciones Menchu Gal\, Urdanibia Plaza 5\, Irun\, Gipuzkoa\, 20304\, España
ATTACH;FMTTYPE=image/jpeg:https://deplanesporlacomarca.com/wp-content/uploads/2017/03/menchu_gal_irun.jpg
GEO:43.3371051;-1.7866396
X-APPLE-STRUCTURED-LOCATION;VALUE=URI;X-ADDRESS=Sala de Exposiciones Menchu Gal Urdanibia Plaza 5 Irun Gipuzkoa 20304 España;X-APPLE-RADIUS=500;X-TITLE=Urdanibia Plaza 5:geo:-1.7866396,43.3371051
END:VEVENT
BEGIN:VEVENT
DTSTART;TZID=Europe/Madrid:20250419T210000
DTEND;TZID=Europe/Madrid:20250419T210000
DTSTAMP:20260421T171059
CREATED:20250402T071105Z
LAST-MODIFIED:20250412T045228Z
UID:10039108-1745096400-1745096400@deplanesporlacomarca.com
SUMMARY:BALONMANO – LIGA PLENITUDE ASOBAL 24-25: IRUDEK BIDASOA IRUN vs. FRAIKIN BM GRANOLLERS – POLIDEPORTIVO ARTALEKU (IRUN)
DESCRIPTION:Partido correspondiente a la jornada 25 de la Liga Plenitude Asobal\, para el IRUDEK Bidasoa Irun. Se enfrenta al Fraikin BM Granollers\, a partir de las 21.00 horas en el Polideportivo Artaleku de Irun. \n\n\n\n \n\n\n\nPuedes adquirir aquí las entradas para este plan en este enlace.
URL:https://deplanesporlacomarca.com/agenda-evento/balonmano-liga-plenitude-asobal-24-25-bidasoa-irun-vs-fraikin-bm-granollers-polideportivo-artaleku-irun/
LOCATION:Polideportivo Municipal Artaleku\, Karrika Nagusia\, 30\, Irun\, Gipuzkoa\, 20304\, España
ATTACH;FMTTYPE=image/jpeg:https://deplanesporlacomarca.com/wp-content/uploads/2017/04/artaleku_irun.jpg
GEO:43.3385122;-1.7929079
X-APPLE-STRUCTURED-LOCATION;VALUE=URI;X-ADDRESS=Polideportivo Municipal Artaleku Karrika Nagusia 30 Irun Gipuzkoa 20304 España;X-APPLE-RADIUS=500;X-TITLE=Karrika Nagusia\, 30:geo:-1.7929079,43.3385122
END:VEVENT
END:VCALENDAR