BEGIN:VCALENDAR
VERSION:2.0
PRODID:-//De planes por la comarca - ECPv6.15.20//NONSGML v1.0//EN
CALSCALE:GREGORIAN
METHOD:PUBLISH
X-WR-CALNAME:De planes por la comarca
X-ORIGINAL-URL:https://deplanesporlacomarca.com
X-WR-CALDESC:Eventos para De planes por la comarca
REFRESH-INTERVAL;VALUE=DURATION:PT1H
X-Robots-Tag:noindex
X-PUBLISHED-TTL:PT1H
BEGIN:VTIMEZONE
TZID:Europe/Madrid
BEGIN:DAYLIGHT
TZOFFSETFROM:+0100
TZOFFSETTO:+0200
TZNAME:CEST
DTSTART:20240331T010000
END:DAYLIGHT
BEGIN:STANDARD
TZOFFSETFROM:+0200
TZOFFSETTO:+0100
TZNAME:CET
DTSTART:20241027T010000
END:STANDARD
BEGIN:DAYLIGHT
TZOFFSETFROM:+0100
TZOFFSETTO:+0200
TZNAME:CEST
DTSTART:20250330T010000
END:DAYLIGHT
BEGIN:STANDARD
TZOFFSETFROM:+0200
TZOFFSETTO:+0100
TZNAME:CET
DTSTART:20251026T010000
END:STANDARD
BEGIN:DAYLIGHT
TZOFFSETFROM:+0100
TZOFFSETTO:+0200
TZNAME:CEST
DTSTART:20260329T010000
END:DAYLIGHT
BEGIN:STANDARD
TZOFFSETFROM:+0200
TZOFFSETTO:+0100
TZNAME:CET
DTSTART:20261025T010000
END:STANDARD
END:VTIMEZONE
BEGIN:VEVENT
DTSTART;TZID=Europe/Madrid:20250427T080000
DTEND;TZID=Europe/Madrid:20250427T180000
DTSTAMP:20260421T153734
CREATED:20250127T141431Z
LAST-MODIFIED:20250127T141508Z
UID:10038256-1745740800-1745776800@deplanesporlacomarca.com
SUMMARY:43. EXPOSICIÓN CANINA INTERNACIONAL DE GIPUZKOA - FICOBA (IRUN)
DESCRIPTION:La Exposición Canina Internacional alcanza este año su edición número 43 y tiene lugar en el Recinto Ferial Ficoba de Irun. \n\n\n\n \n\n\n\nLa Exposición Internacional Canina de Gipuzkoa es un prestigioso evento anual organizado por la Sociedad Canina de Gipuzkoa. Durante esta exposición\, perros de diferentes razas compiten en diversas categorías\, evaluados por jueces especializados. Además de las competiciones\, los asistentes pueden disfrutar de exhibiciones\, talleres y actividades relacionadas con el mundo canino. La exposición es una plataforma importante tanto para los criadores como para los amantes de los perros\, promoviendo el cuidado y la cría responsable. \n\n\n\n \n\n\n\nAdemás\, se celebra la Exposición Canina Nacional. \n\n\n\n \n\n\n\nEl precio de las entradas para este plan tienen un precio de 3 Euros\, para menores de 10 años y 5 Euros\, para el resto.
URL:https://deplanesporlacomarca.com/agenda-evento/43-exposicion-canina-internacional-de-gipuzkoa-ficoba-irun/2025-04-27/
LOCATION:Ficoba\, Iparralde Hiribidea\, 43\, Irun\, Gipuzkoa\, 20302\, España
ATTACH;FMTTYPE=image/jpeg:https://deplanesporlacomarca.com/wp-content/uploads/2025/01/43_exposicion_canina_internacional_gipuzkoa_2025_ficoba_irun.jpg
GEO:43.3471066;-1.7881488
X-APPLE-STRUCTURED-LOCATION;VALUE=URI;X-ADDRESS=Ficoba Iparralde Hiribidea 43 Irun Gipuzkoa 20302 España;X-APPLE-RADIUS=500;X-TITLE=Iparralde Hiribidea\, 43:geo:-1.7881488,43.3471066
END:VEVENT
BEGIN:VEVENT
DTSTART;TZID=Europe/Madrid:20250427T093000
DTEND;TZID=Europe/Madrid:20250427T093000
DTSTAMP:20260421T153734
CREATED:20250227T081000Z
LAST-MODIFIED:20250426T090746Z
UID:10038582-1745746200-1745746200@deplanesporlacomarca.com
SUMMARY:IV. HONDARRIBIA 10K 2025 + Avisos de tráfico
DESCRIPTION:Cuarta edición de la Hondarribia 10K. \n\n\n\n \n\n\n\nSe trata de una carrera muy rápida\, 10 kilómetros sin ningún tipo de incidencias\, y que se realiza a partir de las 09.30 horas de la mañana\, para generar el menor número de obstáculos de tráfico posible en Hondarribia. Como novedad\, este año ha sido reconocida como Campeonato de Euskadi. \n\n\n\n \n\n\n\nLa salida se hará por Minatera kalea\, de aquí por Portua Auzoa por la carretera del aeropuerto a Amute\,allí girar a la derecha para luego volver por Kosta kalea y de nuevo por Santa Engracia por Sabin Arana kalea para llegar al centro de la ciudad\, y seguir directamente por Ramón Iribarren hasta Kai Berria y de vuelta volver a Minatera. Es una carrera homologada por la Federación Española de Atletismo. \n\n\n\n \n\n\n\nPuedes inscribirte aquí. \n\n\n\n \n\n\n\nAvisos de tráfico  \n\n\n\n \n\n\n\nLa Policía Local de Hondarribia informa que desde las 09.25 horas y hasta\, aproximadamente\, las 10.40 horas estarán cortados al tráfico rodado los accesos a Hondarrribia\, afectando a las siguientes calles de la ciudad:  Alde Zaharra y Ramon Iribarren. \n\n\n\n \n\n\n\n– Habrá cortes puntuales en diferentes calles de la ciudad– El acceso a Alde Zaharra estará cortado desde las 09.25 hasta las 10.00 horas– El tráfico de Ramon Iribarren se cortará totalmente desde las 09.45 hasta las 10.20 horas– El acceso a Hondarribia se realizará por la Carretera del Aeropuerto hacia Portu Auzoa– La salida de Hondarribia será por Kosta kalea. Puntualmente se verán afectadas las líneas de autobús E21\, E25 y E27.
URL:https://deplanesporlacomarca.com/agenda-evento/iv-hondarribia-10k-2025/
LOCATION:Hondarribia\, Hondarribia\, Gipuzkoa\, 20280\, España
ATTACH;FMTTYPE=image/jpeg:https://deplanesporlacomarca.com/wp-content/uploads/2025/02/iv_hondarribia_10k_carrera_lasterketa_2025.jpg
GEO:43.3632622;-1.8220818
END:VEVENT
BEGIN:VEVENT
DTSTART;TZID=Europe/Madrid:20250427T100000
DTEND;TZID=Europe/Madrid:20250427T210000
DTSTAMP:20260421T153734
CREATED:20250416T131051Z
LAST-MODIFIED:20250416T131055Z
UID:10039226-1745748000-1745787600@deplanesporlacomarca.com
SUMMARY:XXV FERIA DE ABRIL 2025 - PLAZA ENSANCHE (IRUN)
DESCRIPTION:Nueva edición de la «Feria de Abril«\, organizada por la Asociación Embrujo Andaluz\, y que tiene lugar en la Plaza Ensanche de Irun durante los días 25\, 26 y 27 de Abril. \n\n\n\n \n\n\n\nEste es el programa del plan: \n\n\n\n \n\n\n\nViernes\, 25 de Abril \n\n\n\n– 19.00 – 22.00 horas: Pre-Feria de Abril – Pintxo-pote Embrujo. \n\n\n\n \n\n\n\nSábado\, 26 de Abril \n\n\n\n– 12.00 horas: Inauguración de la XXV FERIA DE ABRIL a cargo del Excmo. Ayuntamiento de Irún– 12.00 horas: Atracciones infantiles– 12.15 horas: Sevillanas a cargo de EMBRUJO ANDALUZ– 12.30 horas: Actuaciones a cargo de: \n\n\n\n* Escuela de danza JAZZARTE \n\n\n\n* 22 ACADEMY \n\n\n\n* SOL DE LOTO \n\n\n\n \n\n\n\n– 13.00 horas: Vino de Honor con las autoridades y los representantes de las diferentes Casas Regionales Andaluzas en Euskadi.– 17.00 horas: Elección de Reina y Rey Infantil– 18.00 horas: Nuestro tradicional concurso de Sevillanas \n\n\n\n– 19.30 horas: Espectáculo flamenco a cargo de:* Son De Embrujo* Son de Embrujo-Ren Flamenco* Ikuskizuna \n\n\n\n \n\n\n\nDomingo\, 27 de Abril \n\n\n\n– 10.00 horas: Atracciones infantiles \n\n\n\n– 12.00 horas: Actuación de la banda municipal de Irun\, con la colaboración de Embrujo Andaluz \n\n\n\n– 13.00 horas: Actuación a a cargo del grupo Son de Ases \n\n\n\n– 16.30 horas: Actuación de los COROS ROCIEROS: \n\n\n\n* ALJARAFE de Errenteria \n\n\n\n* CONCHA ROCIERA de Errenteria \n\n\n\n* SEMBLANTE ANDALUZ de Lasarte-Oria \n\n\n\n \n\n\n\n– 17.30 horas: Actuación de los GRUPOS DE BAILE: \n\n\n\n* SEMBLANTE ANDALUZ de Lasarte-Oria \n\n\n\n* ALJARAFE de Errenteria \n\n\n\n* CONCHA ROCIERA de Errenteria \n\n\n\n* AZAHAR \n\n\n\n* 22 ACADEMY de Irun \n\n\n\n* EMBRUJO ANDALUZ de Irun \n\n\n\n \n\n\n\n– 20.30 horas: Sorteo de un lote de ibéricos– 21.00 horas: Clausura de la XXV FERIA DE ABRIL DE IRUN
URL:https://deplanesporlacomarca.com/agenda-evento/xxv-feria-de-abril-2025-plaza-ensanche-irun/2025-04-27/
LOCATION:Plaza Ensanche\, Ensanche Plaza\, Irun\, Gipuzkoa\, España
ATTACH;FMTTYPE=image/jpeg:https://deplanesporlacomarca.com/wp-content/uploads/2025/04/xxv_feria_de_abril_2025_asociacion_embrujo_andaluz_irun.jpg
GEO:43.3407194;-1.7930501
X-APPLE-STRUCTURED-LOCATION;VALUE=URI;X-ADDRESS=Plaza Ensanche Ensanche Plaza Irun Gipuzkoa España;X-APPLE-RADIUS=500;X-TITLE=Ensanche Plaza:geo:-1.7930501,43.3407194
END:VEVENT
BEGIN:VEVENT
DTSTART;TZID=Europe/Madrid:20250427T110000
DTEND;TZID=Europe/Madrid:20250427T130000
DTSTAMP:20260421T153734
CREATED:20240131T181356Z
LAST-MODIFIED:20260330T172106Z
UID:10039195-1745751600-1745758800@deplanesporlacomarca.com
SUMMARY:VISITA GUIADA\, "LOS LUGARES PROHIBIDOS DEL FUERTE DE GUADALUPE" (HONDARRIBIA)
DESCRIPTION:ARMA PLAZA Fundazioa ofrece la visita guiada al «Fuerte de Guadalupe\, los lugares prohibidos» en Hondarribia. \n\n\n\n \n\n\n\nEl Fuerte de Guadalupe es una de las construcciones defensivas de época contemporánea más bellas del País Vasco. Esta fortaleza está situada en el monte Jaizkibel junto al Santuario de Guadalupe y data de finales del año 1900. \n\n\n\n \n\n\n\nLa visita comienza a las 11.00 horas y tiene una duración de dos horas\, en las que se recorre gran parte de la mayor fortificación contemporánea de la Comunidad Autónoma del País Vasco (prevista para 69 cañones)\, visitando el foso\, los dos cuarteles que posee en su interior\, pabellones de oficiales\, almacenes y repuestos de munición\, las poternas de comunicación\, las baterías para la defensa del foso\, las baterías acasamatadas (en el interior de edificios) y al aire libre\, los patios\, las galerías aspilleradas\, etc.. \n\n\n\n \n\n\n\nAquí tienes un enlace al post de la visita que hice para descubrirlo. \n\n\n\n \n\n\n\nRecomiendan llevar un calzado adecuado (a evitar sandalias o zapatos con tacón alto). \n\n\n\n \n\n\n\nPrecio: 15 Euros (menores de 12 años y personas empadronadas en Hondarribia\, gratis) \n\n\n\n \n\n\n\nPlan perfecto para toda la familia\, niños y mayores. \n\n\n\n \n\n\n\nLas reservas se podrán hacer por teléfono llamando a 943 64 46 23 / 943 64 36 77\, enviando un correo electrónico a info@armaplaza.eus o en este enlace.
URL:https://deplanesporlacomarca.com/agenda-evento/visita-guiada-los-lugares-prohibidos-del-fuerte-de-guadalupe-hondarribia/2025-04-27/
LOCATION:Fuerte de Nuestra Señora de Guadalupe\, Hondarribia\, Gipuzkoa\, España
ATTACH;FMTTYPE=image/jpeg:https://deplanesporlacomarca.com/wp-content/uploads/2017/09/de-planes-por-la-comarca-visita-guiada-hondarribia-gipuzkoa-fuerte-guadalupe-ocio-deeventos-191.jpg
END:VEVENT
BEGIN:VEVENT
DTSTART;TZID=Europe/Madrid:20250427T113000
DTEND;TZID=Europe/Madrid:20250427T133000
DTSTAMP:20260421T153734
CREATED:20250226T180036Z
LAST-MODIFIED:20250226T180040Z
UID:10038567-1745753400-1745760600@deplanesporlacomarca.com
SUMMARY:EXPOSICIÓN\, "RAMÓN ESPARZA. REGRESO AL BIDASOA" - AMAIA KZ (IRUN)
DESCRIPTION:Exposición «Ramón Esparza\, retorno al Bidasoa» en la sala de exposiciones del Amaia KZ de Irun hasta el 4 de Mayo y comisariada por Pedro Usabiaga\, reconocido fotógrafo de moda y cine que ha colaborado en revistas altamente reconocidas del mundo de la moda y el arte. \n\n\n\n \n\n\n\nLa exposición tendrá como hilo conductor al río Bidasoa\, ya que es el primer recuerdo de la infancia Ramón Esparza\, junto con la ciudad de Irun\, con la que tuvo un especial vínculo. \n\n\n\n \n\n\n\nSe trata de la primera exposición sobre Ramón Esparza y su trabajo\, e Irun no podía ser un mejor lugar para acogerla debido a la vinculación del artista con la ciudad y la comarca. Y es que es destacable mencionar que en Irun hay una larga tradición de modistas y sastrerías de caballero desde la mitad del siglo XIX. \n\n\n\n \n\n\n\nAsí\, la exposición será un recorrido a través de su mirada por la vida y el trabajo de algunos de los personajes más importantes del siglo XX\, además de acoger una selección de textiles (vestidos)\, sombreros\, complementos\, fotografías\, material audiovisual\, pinturas y objetos y documentos de los principales protagonistas de la cultura y las artes vinculados al Bidasoa. \n\n\n\n \n\n\n\nRamón Esparza Viela (Lesaka\, 1923-1997)\, mano derecha y hombre de confianza de Cristóbal Balenciaga durante un cuarto de siglo\, fue el primer y único español al frente de la dirección creativa de la firma ‘Chanel’\, aunque fue de manera algo fugaz\, ya que ostentó el cargo por menos de un año. \n\n\n\n \n\n\n\nTras el fallecimiento de Cristóbal Balenciaga en 1972\, fue Ramón Esparza el encargado de las exposiciones dedicadas al diseñador de Getaria. \n\n\n\n \n\n\n\nEste plan tiene este horario: (Inauguración 27 de Marzo\, 19.00 horas) \n\n\n\n– De martes a sábados de 18.00 a 21.00 horas \n\n\n\n– Domingos de 11.30 a 13.30 horas
URL:https://deplanesporlacomarca.com/agenda-evento/exposicion-ramon-esparza-regreso-al-bidasoa-amaia-kz-irun/2025-04-27/
LOCATION:Amaia KZ\, Pio XII\, 4\, Irun\, Gipuzkoa\, 20300\, España
GEO:43.338883;-1.7964895
X-APPLE-STRUCTURED-LOCATION;VALUE=URI;X-ADDRESS=Amaia KZ Pio XII 4 Irun Gipuzkoa 20300 España;X-APPLE-RADIUS=500;X-TITLE=Pio XII\, 4:geo:-1.7964895,43.338883
END:VEVENT
BEGIN:VEVENT
DTSTART;TZID=Europe/Madrid:20250427T113000
DTEND;TZID=Europe/Madrid:20250427T133000
DTSTAMP:20260421T153734
CREATED:20250314T144233Z
LAST-MODIFIED:20250314T144236Z
UID:10038898-1745753400-1745760600@deplanesporlacomarca.com
SUMMARY:EXPOSICIÓN\, "HILDE\, LA INFANCIA Y LAS VANITAS" - SALA DE EXPOSICIONES MENCHU GAL (IRUN)
DESCRIPTION:«Hilde\, la infancia y las vanitas«\, una exposición de la artista alemana y afincada en Getaria Barbara Stammel y comisariada por la historiadora del arte especializada en arte vasco contemporáneo María José Aranzasti\, que se puede visitar en la sala de exposiciones Menchu Gal de Irun\, hasta el 25 de Mayo. \n\n\n\n \n\n\n\nLa exposición exhibe las obras realizadas dentro de la serie «Hilde»\, un conjunto de retratos que la artista comenzó a pintar a la muerte de su madre. Son cuadros de distintos tamaños\, muchos de grandes dimensiones\, a través de los cuáles se interpela directamente al espectador. Estos cuadros poseen un atractivo tanto misterioso como insistente\, por eso al ser vistos de frente\, con esas miradas directas al espectador\, este se siente participe de la obra. \n\n\n\n \n\n\n\nLa sala pequeña acoge obras de la serie «Infancia»\, entre los que se encuentran tres autorretratos de la artista. Esta serie de retratos junto con las «Manchas humanas» que viene realizando desde 2014 evocan el pasado\, las vidas transcurridas. Esta temática se recogerá a través de una serie de vanitas o naturalezas muertas\, realizadas sobre espejo\, con el que el espectador se verá reflejado en la propia obra. \n\n\n\n \n\n\n\nLa obra de Barbara Stammel se caracteriza por el uso de pigmentos naturales\, muchos de ellos tierras. La factura de sus cuadros se caracteriza por una textura muy marcada\, una obra muy matérica que realiza especialmente con espátula y pinceles\, a base de salpicaduras\, surcos\, grietas\, etc. \n\n\n\n \n\n\n\nLa artista Barbara Stammel nace en Söcking\, en el sudoeste de Munich\, y antes de cursar sus estudios de Pintura y Grabado en la Akademie der Bildene Künste de Munich\, inicia sus estudios en Biología que le influirán en la realización de una serie de pinturas sobre el corazón\, The Heart. Cursa también estudios de escultura en el Taller de Magdalena Jetelova\, en la Academia de Bellas Artes\, Munich. Estudia en la Facultad de Bellas Artes Pau Gargallo de Barcelona con Rosa Ajenjo y Adolf Genovart. Realiza estudios de Serigrafía y Fotografía en Arteleku (Donostia-San Sebastián) y recibe formación en el Taller Croslieu\, con Arno Stern en París. \n\n\n\n \n\n\n\nDesde 1994 está afincada en la localidad de Getaria (Gipuzkoa) donde desarrolla su actividad artística. Barbara Stammel tiene obra\, entre otras colecciones\, en el Museo San Telmo\, en el Museo Artium\, en el CAB de Burgos\, en la Colección de Artes Plásticas del Área de Cultura de Pamplona\, en el Museo de Arte Moderno de Tarragona y en la Fundación Enrique Leote (Portugal). \n\n\n\n \n\n\n\nEl plan tiene entrada gratuita y este horario: \n\n\n\n– viernes y sábados: 18.00 – 21.00 horas \n\n\n\n– domingos: 11.30 – 13.30 horas
URL:https://deplanesporlacomarca.com/agenda-evento/exposicion-hilde-la-infancia-y-las-vanitas-sala-de-exposiciones-menchu-gal-irun/2025-04-27/
LOCATION:Sala de Exposiciones Menchu Gal\, Urdanibia Plaza 5\, Irun\, Gipuzkoa\, 20304\, España
ATTACH;FMTTYPE=image/jpeg:https://deplanesporlacomarca.com/wp-content/uploads/2017/03/menchu_gal_irun.jpg
GEO:43.3371051;-1.7866396
X-APPLE-STRUCTURED-LOCATION;VALUE=URI;X-ADDRESS=Sala de Exposiciones Menchu Gal Urdanibia Plaza 5 Irun Gipuzkoa 20304 España;X-APPLE-RADIUS=500;X-TITLE=Urdanibia Plaza 5:geo:-1.7866396,43.3371051
END:VEVENT
BEGIN:VEVENT
DTSTART;TZID=Europe/Madrid:20250427T170000
DTEND;TZID=Europe/Madrid:20250427T170000
DTSTAMP:20260421T153734
CREATED:20240103T095103Z
LAST-MODIFIED:20260327T073925Z
UID:10039246-1745773200-1745773200@deplanesporlacomarca.com
SUMMARY:DOMINGO DE JUEGOS DE MESA EN ALDE ZAHARRA - SAN JUAN ELKARTEA (IRUN)
DESCRIPTION:Tarde de juegos de mesa en la AVV. Alde Zaharra San Juan de Irun\, a partir de las 17.00 horas. \n\n\n\n \n\n\n\nEl plan es gratuito y está dirigido a todas las edades.
URL:https://deplanesporlacomarca.com/agenda-evento/domingo-de-juegos-de-mesa-en-alde-zaharra-san-juan-elkartea-irun/2025-04-27/
LOCATION:Alde Zaharra –  San Juan Auzo Elkartea\, Jesus Kalea\, 9\, Irun\, Gipuzkoa\, España
GEO:43.3375573;-1.7885267
X-APPLE-STRUCTURED-LOCATION;VALUE=URI;X-ADDRESS=Alde Zaharra –  San Juan Auzo Elkartea Jesus Kalea 9 Irun Gipuzkoa España;X-APPLE-RADIUS=500;X-TITLE=Jesus Kalea\, 9:geo:-1.7885267,43.3375573
END:VEVENT
BEGIN:VEVENT
DTSTART;TZID=Europe/Madrid:20250427T190000
DTEND;TZID=Europe/Madrid:20250427T190000
DTSTAMP:20260421T153734
CREATED:20250415T075247Z
LAST-MODIFIED:20250415T075251Z
UID:10039215-1745780400-1745780400@deplanesporlacomarca.com
SUMMARY:DANZA CONTEMPORÁNEA\, "OTS" - AUDITORIUM ITSAS ETXEA (HONDARRIBIA)
DESCRIPTION:Espectáculo de danza contemporánea que lleva por título «OTS«\, a cargo de Haatik Konpainia\, en el Auditorium Itsas Etxea de Hondarribia\, a partir de las 19.00 horas. \n\n\n\n \n\n\n\nOts surge como un impulso para reinterpretar el movimiento cultural vanguardista reflejado en el que fue el primer sello discográfico de Euskal Herria\, Herri Gogoa. Aunque este sello\, debido a la censura\, nunca llegó a existir oficialmente\, logró publicar más de doscientos discos con el objetivo de revitalizar y renovar la cultura vasca. \n\n\n\n \n\n\n\nOts es más que una simple obra de danza contemporánea; la coreografía creada por la internacionalmente reconocida bailarina y creadora donostiarra Jone San Martin busca satisfacer\, sorprender\, evocar recuerdos y\, sobre todo\, transmitir la conciencia popular y la necesidad de acercar el arte al pueblo que impulsó este movimiento. Un legado construido sobre otro legado. \n\n\n\n \n\n\n\nEl precio de las entradas para este plan es de 4 Euros y las puedes conseguir en: \n\n\n\n– Kutxabank \n\n\n\n– Arma Plaza\, Oficina de Turismo \n\n\n\n– taquilla\, dos horas antes del comienzo
URL:https://deplanesporlacomarca.com/agenda-evento/danza-contemporanea-ots-auditorium-itsas-etxea-hondarribia/
LOCATION:Itsas Etxea Auditorium\, Matxin Arzu kalea\, 1\, Hondarribia\, Gipuzkoa\, 20280\, España
ATTACH;FMTTYPE=image/jpeg:https://deplanesporlacomarca.com/wp-content/uploads/2025/04/espectaculo_danza_contemporanea_ots_haatik_konpainia_27_abril_2025_auditorium_itsas_etxea_hondarribia.jpg
GEO:43.3675749;-1.7933125
X-APPLE-STRUCTURED-LOCATION;VALUE=URI;X-ADDRESS=Itsas Etxea Auditorium Matxin Arzu kalea 1 Hondarribia Gipuzkoa 20280 España;X-APPLE-RADIUS=500;X-TITLE=Matxin Arzu kalea\, 1:geo:-1.7933125,43.3675749
END:VEVENT
BEGIN:VEVENT
DTSTART;TZID=Europe/Madrid:20250427T200000
DTEND;TZID=Europe/Madrid:20250427T200000
DTSTAMP:20260421T153734
CREATED:20250414T141244Z
LAST-MODIFIED:20250414T141247Z
UID:10039203-1745784000-1745784000@deplanesporlacomarca.com
SUMMARY:"LOS PANCHOS 80 AÑOS\, HASTA SIEMPRE" - AMAIA KZ (IRUN)
DESCRIPTION:Rafael Basurto\, la última voz del legendario trío Los Panchos celebrará los 80 años del grupo en el Amaia KZ de Irun\, a partir de las 20.00 horas. Este concierto se enmarca en la gira para conmemorar el legado musical de Los Panchos y la riqueza cultural del bolero.  \n\n\n\n \n\n\n\nEn el escenario\, Rafael Basurto Lara mantiene vivo el formato clásico de trío con las inconfundibles voces del maestro y sus ahijados musicales. Este espectáculo reúne los grandes éxitos que han marcado la historia del bolero\, como «Historia de un amor»\, «Contigo»\, «Sin ti»\, «Rayito de Luna»\, «Vagabundo»\, «Esta tarde vi llover»\, «Sin un amor»\, y por supuesto\, la icónica «Si tú me dices ven». \n\n\n\n \n\n\n\nLa gira también celebra el lanzamiento de «80 años»\, su más reciente sencillo y video musical\, disponibles en todas las plataformas digitales. Este tema especial\, con letra de Marcos Maldonado\, rinde tributo al legado de Los Panchos y a las ocho décadas de influencia mundial del trío. El video de «80 años» es una obra visual que resalta la riqueza del bolero\, mostrando imágenes que evocan la historia y el impacto cultural de este género\, mientras Rafael Basurto comparte su inigualable interpretación junto a talentosos artistas internacionales.  \n\n\n\n \n\n\n\nParalelamente\, Rafael Basurto se encuentra trabajando en un álbum conmemorativo que incluirá los mayores éxitos de Los Panchos\, reversionados con la colaboración de grandes artistas internacionales como Lila Downs\, Mocedades\, Aida Cuevas\, Amanda Miguel y más. Este proyecto busca rendir homenaje al legado del trío\, uniendo generaciones a través de la música romántica. El proyecto del maestro\, promete ser una experiencia mágica\, un viaje por el tiempo que revive los momentos más emotivos del bolero\, llevado por la voz de un maestro que continúa honrando el amor y la música en cada escenario. ¡No te pierdas esta oportunidad única de celebrar el bolero con Rafael Basurto Lara la última voz de Los Panchos. \n\n\n\n \n\n\n\nEl precio de las entradas para este plan es de 40 Euros y las puedes conseguir en: \n\n\n\n– sacatuentrada.es \n\n\n\n– Oficina de Turismo\, Luis Mariano de Irun \n\n\n\n– taquilla\, una hora antes del comienzo (siempre y cuando queden disponibles)
URL:https://deplanesporlacomarca.com/agenda-evento/los-panchos-80-anos-hasta-siempre-amaia-kz-irun/
LOCATION:Amaia KZ\, Pio XII\, 4\, Irun\, Gipuzkoa\, 20300\, España
ATTACH;FMTTYPE=image/jpeg:https://deplanesporlacomarca.com/wp-content/uploads/2025/04/concierto_rafael_basurto_los_panchos_gira_80_anos_27_abril_2025_amaiakz_irun.jpg
GEO:43.338883;-1.7964895
X-APPLE-STRUCTURED-LOCATION;VALUE=URI;X-ADDRESS=Amaia KZ Pio XII 4 Irun Gipuzkoa 20300 España;X-APPLE-RADIUS=500;X-TITLE=Pio XII\, 4:geo:-1.7964895,43.338883
END:VEVENT
END:VCALENDAR