BEGIN:VCALENDAR
VERSION:2.0
PRODID:-//De planes por la comarca - ECPv6.15.20//NONSGML v1.0//EN
CALSCALE:GREGORIAN
METHOD:PUBLISH
X-WR-CALNAME:De planes por la comarca
X-ORIGINAL-URL:https://deplanesporlacomarca.com
X-WR-CALDESC:Eventos para De planes por la comarca
REFRESH-INTERVAL;VALUE=DURATION:PT1H
X-Robots-Tag:noindex
X-PUBLISHED-TTL:PT1H
BEGIN:VTIMEZONE
TZID:Europe/Madrid
BEGIN:DAYLIGHT
TZOFFSETFROM:+0100
TZOFFSETTO:+0200
TZNAME:CEST
DTSTART:20240331T010000
END:DAYLIGHT
BEGIN:STANDARD
TZOFFSETFROM:+0200
TZOFFSETTO:+0100
TZNAME:CET
DTSTART:20241027T010000
END:STANDARD
BEGIN:DAYLIGHT
TZOFFSETFROM:+0100
TZOFFSETTO:+0200
TZNAME:CEST
DTSTART:20250330T010000
END:DAYLIGHT
BEGIN:STANDARD
TZOFFSETFROM:+0200
TZOFFSETTO:+0100
TZNAME:CET
DTSTART:20251026T010000
END:STANDARD
BEGIN:DAYLIGHT
TZOFFSETFROM:+0100
TZOFFSETTO:+0200
TZNAME:CEST
DTSTART:20260329T010000
END:DAYLIGHT
BEGIN:STANDARD
TZOFFSETFROM:+0200
TZOFFSETTO:+0100
TZNAME:CET
DTSTART:20261025T010000
END:STANDARD
END:VTIMEZONE
BEGIN:VEVENT
DTSTART;TZID=Europe/Madrid:20250501T090000
DTEND;TZID=Europe/Madrid:20250501T190000
DTSTAMP:20260421T142407
CREATED:20250416T171942Z
LAST-MODIFIED:20250427T085016Z
UID:10039252-1746090000-1746126000@deplanesporlacomarca.com
SUMMARY:FIESTAS DE LARREAUNDI 2025 (IRUN)
DESCRIPTION:Arrancan las fiestas de los barrios en Irun con las de Larreaundi que tienen lugar los días 30 de Abril y 1\, 2\, 3 y 4 de Mayo. \n\n\n\n \n\n\n\nEste es el programa de este plan: \n\n\n\n \n\n\n\nMiércoles\, 30 de Abril \n\n\n\n– 17.30 horas: Taller de customización de bolsas. \n\n\n\n \n\n\n\nJueves\, 1 de Mayo \n\n\n\n– 09.00 horas: Txistularis. \n\n\n\n– 12.30 horas: Concierto de la Banda de Música «Ciudad de Irun» + Txupinazo + Pregón. \n\n\n\n– 17.00 – 18.00 horas: Cabezudos. \n\n\n\n– 18.00 – 19.00 horas: Bailes andaluces. \n\n\n\n \n\n\n\nViernes\, 2 de Mayo \n\n\n\n– 11.00 – 12.00 horas: Taller de música. \n\n\n\n– 17.00 – 18.00 horas: Juegos infantiles + chocolatada. \n\n\n\n– 18.30 – 19.30 horas: Cabezudos. \n\n\n\n– 20.30 – 23.00 horas: Conciertos \n\n\n\n \n\n\n\nSábado\, 3 de Mayo \n\n\n\n– 09.30 – 11.00 horas: Salida montañera. \n\n\n\n– 12.00 – 13.30 horas: Kantu bira\, por el barrio. \n\n\n\n– 12.30 horas: Juegos. \n\n\n\n– 14.00 horas: Paellada. \n\n\n\n– 17.00 – 19.00 horas: Fanfarre «Los Perolas»\, por el barrio. \n\n\n\n– 20.00 – 00.00 horas: Karaoke\, Disco-fiesta. \n\n\n\n \n\n\n\nDomingo\, 4 de Mayo \n\n\n\n– 09.00 – 11.30 horas: Paseo histórico. \n\n\n\n– 12.00 – 14.00 horas: Concurso de tortilla. \n\n\n\n– 17.00 horas: Gigantes del Bidasoa. \n\n\n\n– 19.00 horas: Fin de fiesta.
URL:https://deplanesporlacomarca.com/agenda-evento/fiestas-de-larreaundi-2025-irun/2025-05-01/
LOCATION:A. VV. Larreaundi-Olaberria\, Iñigo Loyola\, 9 bajo\, Irun\, Gipuzkoa\, España
ATTACH;FMTTYPE=image/jpeg:https://deplanesporlacomarca.com/wp-content/uploads/2025/04/fiestas_larreaundi_olaberria_jaiak_2025_irun.jpg
GEO:43.3344242;-1.7895746
X-APPLE-STRUCTURED-LOCATION;VALUE=URI;X-ADDRESS=A. VV. Larreaundi-Olaberria Iñigo Loyola 9 bajo Irun Gipuzkoa España;X-APPLE-RADIUS=500;X-TITLE=Iñigo Loyola\, 9 bajo:geo:-1.7895746,43.3344242
END:VEVENT
BEGIN:VEVENT
DTSTART;TZID=Europe/Madrid:20250501T110000
DTEND;TZID=Europe/Madrid:20250501T140000
DTSTAMP:20260421T142408
CREATED:20250428T090650Z
LAST-MODIFIED:20250428T090655Z
UID:10039276-1746097200-1746108000@deplanesporlacomarca.com
SUMMARY:"VISITA A LAS TERMAS Y EL MUSEO OIASSO" (IRUN)
DESCRIPTION:Visita guiada por el yacimiento de las Termas del Museo Oiasso de Irun\, en dos turnos\, a las 11.00 horas (en castellano) y las 12.30 horas (en euskera).  \n\n\n\n \n\n\n\nEl objetivo de la visita será el de acercar a las y los visitantes al recién inaugurado yacimiento arqueológico romano de las termas de Oiasso.  \n\n\n\n \n\n\n\nEl plan tiene una duración de 75 minutos y un precio de 5.75 Euros. Puedes adquirir tus entradas en este enlace o en el propio museo.
URL:https://deplanesporlacomarca.com/agenda-evento/visita-a-las-termas-y-el-museo-oiasso-irun/
LOCATION:Museo Oiasso\, Eskoleta 1\, Irun\, Gipuzkoa\, 20302\, España
ATTACH;FMTTYPE=image/jpeg:https://deplanesporlacomarca.com/wp-content/uploads/2025/04/visita_guiada_yacimiento_termas_1_mayo_2025_museo_oiasso_irun.jpg
GEO:43.339816;-1.787788
X-APPLE-STRUCTURED-LOCATION;VALUE=URI;X-ADDRESS=Museo Oiasso Eskoleta 1 Irun Gipuzkoa 20302 España;X-APPLE-RADIUS=500;X-TITLE=Eskoleta 1:geo:-1.787788,43.339816
END:VEVENT
BEGIN:VEVENT
DTSTART;TZID=Europe/Madrid:20250501T120000
DTEND;TZID=Europe/Madrid:20250501T140000
DTSTAMP:20260421T142408
CREATED:20250428T130610Z
LAST-MODIFIED:20250428T130615Z
UID:10039302-1746100800-1746108000@deplanesporlacomarca.com
SUMMARY:EUSKARALDIA 2025 (IRUN)
DESCRIPTION:La cuarta edición de Euskaraldia ya está aquí. Del 15 al 25 de mayo Irun también se sumará a la iniciativa que pretende impulsar el uso del euskera\, siendo este año «Elkar Mugituz Egingo Dugu» el lema que acompañará a las actividades que se desarrollen.  \n\n\n\n \n\n\n\nEl programa\, elaborado por el Servicio de Euskera del Ayuntamiento de Irun junto a diferentes entidades\, asociaciones vecinales y particulares\, arranca el 1 de mayo\, con un puesto informativo en la zona festiva de Larreaundi (12.00 horas)\, que se repetirá los días 2 y 3.  \n\n\n\n \n\n\n\nHasta la presentación oficial del día 15 de mayo\, jueves\, se celebrará la primera sesión de ‘Hika ikastaroa’ por parte de Irungo AEK\, una gira de canto y baile por Pío XII y las plazas Ensanche\, San Juan y Urdanibia\, el sábado 10 de mayo a las 18.00 horas gracias a las sociedades Nabartenea y Lagun Artean. Ese mismo día\, la carpa itinerante de Euskaraldia visitará la plaza Urdanibia (17.30 horas) y\, además\, el martes 13 de mayo habrá un Scape Room en el Museo Oiasso dirigido al alumnado del Euskaltegi Municipal y al grupo Mintzalaguna de la OSI Bidasoa. \n\n\n\n \n\n\n\nEl acto de apertura de Euskaraldia se celebrará el 15 de mayo en la plaza Ensanche a partir de las 19.00 horas en el que\, además de sorpresas\, participarán los bertsolaris Anjel Mari Peñagarikano\, Josu Telleria y Amaia Agirre y actuarán Auntxa Trikitixa Eskola y Pauso-K\, entre otros. Además\, se presentará el once titular de Euskaraldia. \n\n\n\n \n\n\n\nEl programa completo hasta el 25 de mayo\, cuando se celebrará un acto final en la plaza Ensanche\, se puede consultar en este enlace.
URL:https://deplanesporlacomarca.com/agenda-evento/euskaraldia-2025-irun/2025-05-01/
LOCATION:Ayuntamiento de Irun\, San Juan Arria Plaza\, 1\, Irun\, Gipuzkoa\, España
ATTACH;FMTTYPE=image/jpeg:https://deplanesporlacomarca.com/wp-content/uploads/2025/04/euskaraldia_2025_irun.jpg
GEO:43.3378705;-1.788833
X-APPLE-STRUCTURED-LOCATION;VALUE=URI;X-ADDRESS=Ayuntamiento de Irun San Juan Arria Plaza 1 Irun Gipuzkoa España;X-APPLE-RADIUS=500;X-TITLE=San Juan Arria Plaza\, 1:geo:-1.788833,43.3378705
END:VEVENT
BEGIN:VEVENT
DTSTART;TZID=Europe/Madrid:20250501T180000
DTEND;TZID=Europe/Madrid:20250501T210000
DTSTAMP:20260421T142408
CREATED:20250226T180036Z
LAST-MODIFIED:20250226T180040Z
UID:10038570-1746122400-1746133200@deplanesporlacomarca.com
SUMMARY:EXPOSICIÓN\, "RAMÓN ESPARZA. REGRESO AL BIDASOA" - AMAIA KZ (IRUN)
DESCRIPTION:Exposición «Ramón Esparza\, retorno al Bidasoa» en la sala de exposiciones del Amaia KZ de Irun hasta el 4 de Mayo y comisariada por Pedro Usabiaga\, reconocido fotógrafo de moda y cine que ha colaborado en revistas altamente reconocidas del mundo de la moda y el arte. \n\n\n\n \n\n\n\nLa exposición tendrá como hilo conductor al río Bidasoa\, ya que es el primer recuerdo de la infancia Ramón Esparza\, junto con la ciudad de Irun\, con la que tuvo un especial vínculo. \n\n\n\n \n\n\n\nSe trata de la primera exposición sobre Ramón Esparza y su trabajo\, e Irun no podía ser un mejor lugar para acogerla debido a la vinculación del artista con la ciudad y la comarca. Y es que es destacable mencionar que en Irun hay una larga tradición de modistas y sastrerías de caballero desde la mitad del siglo XIX. \n\n\n\n \n\n\n\nAsí\, la exposición será un recorrido a través de su mirada por la vida y el trabajo de algunos de los personajes más importantes del siglo XX\, además de acoger una selección de textiles (vestidos)\, sombreros\, complementos\, fotografías\, material audiovisual\, pinturas y objetos y documentos de los principales protagonistas de la cultura y las artes vinculados al Bidasoa. \n\n\n\n \n\n\n\nRamón Esparza Viela (Lesaka\, 1923-1997)\, mano derecha y hombre de confianza de Cristóbal Balenciaga durante un cuarto de siglo\, fue el primer y único español al frente de la dirección creativa de la firma ‘Chanel’\, aunque fue de manera algo fugaz\, ya que ostentó el cargo por menos de un año. \n\n\n\n \n\n\n\nTras el fallecimiento de Cristóbal Balenciaga en 1972\, fue Ramón Esparza el encargado de las exposiciones dedicadas al diseñador de Getaria. \n\n\n\n \n\n\n\nEste plan tiene este horario: (Inauguración 27 de Marzo\, 19.00 horas) \n\n\n\n– De martes a sábados de 18.00 a 21.00 horas \n\n\n\n– Domingos de 11.30 a 13.30 horas
URL:https://deplanesporlacomarca.com/agenda-evento/exposicion-ramon-esparza-regreso-al-bidasoa-amaia-kz-irun/2025-05-01/
LOCATION:Amaia KZ\, Pio XII\, 4\, Irun\, Gipuzkoa\, 20300\, España
GEO:43.338883;-1.7964895
X-APPLE-STRUCTURED-LOCATION;VALUE=URI;X-ADDRESS=Amaia KZ Pio XII 4 Irun Gipuzkoa 20300 España;X-APPLE-RADIUS=500;X-TITLE=Pio XII\, 4:geo:-1.7964895,43.338883
END:VEVENT
BEGIN:VEVENT
DTSTART;TZID=Europe/Madrid:20250501T190000
DTEND;TZID=Europe/Madrid:20250501T190000
DTSTAMP:20260421T142408
CREATED:20250427T083709Z
LAST-MODIFIED:20250427T083713Z
UID:10039247-1746126000-1746126000@deplanesporlacomarca.com
SUMMARY:XXIII FESTIVAL INTERNACIONAL DE GUITARRA DE HONDARRIBIA
DESCRIPTION:XXIII Festival Internacional de Guitarra de Hondarribia que tiene lugar durante cuatro días\, con conciertos en el Kultur Etxea y en el Parador de Hondarribia\, además de en el Museo Oiasso de Irun. \n\n\n\n \n\n\n\nHabrá cinco conciertos\, en Hondarribia\, tres de ellos en Kultur Etxea\, uno en el Parador y otro en el Museo Oiasso de Irun. La guitarra se convierte en protagonista en la oferta cultural de Hondarribia. \n\n\n\n \n\n\n\nEste es el programa previsto: \n\n\n\n1 de Mayo\, jueves: \n\n\n\n– 19.00 horas: en Kultur Etxea\, concierto a cargo de Luciano Pompilio. \n\n\n\n \n\n\n\n2 de Mayo\, viernes: \n\n\n\n– 19.00 horas: en Kultur Etxea\, concierto a cargo de Finn Svit + Telyn Gitâr Duoa. \n\n\n\n \n\n\n\n3 de Mayo\, sábado: \n\n\n\n– 19.00 horas: en Kultur Etxea\, concierto a cargo de Antonio Fruscella. \n\n\n\n \n\n\n\n4 de Mayo\, domingo: \n\n\n\n– 12.00 horas: en el Museo Oiasso de Irun\, concierto a cargo del dúo DUsul. Todas las personas que tengan interés en asistir al concierto\, deberán recoger su entrada en el museo a partir del miércoles\, 30 de abril a las 10.00 horas. También podrán retirarse a través de este enlace.  \n\n\n\n \n\n\n\n4 de Mayo\, domingo: \n\n\n\n– 19.00 horas: en el Parador de Hondarribia\, concierto a cargo de Romolo Calandruccio. \n\n\n\n \n\n\n\n \n\n\n\n \n\n\n\nLa entrada para los conciertos de este plan es gratuita. Programa completo aquí.
URL:https://deplanesporlacomarca.com/agenda-evento/xxiii-festival-internacional-de-guitarra-de-hondarribia/2025-05-01/
LOCATION:Hondarribia\, Hondarribia\, Gipuzkoa\, 20280\, España
ATTACH;FMTTYPE=image/jpeg:https://deplanesporlacomarca.com/wp-content/uploads/2025/04/xxiii_festival_internacional_guitarra_hondarribia_2025.jpg
GEO:43.3632622;-1.8220818
END:VEVENT
END:VCALENDAR