BEGIN:VCALENDAR
VERSION:2.0
PRODID:-//De planes por la comarca - ECPv6.15.20//NONSGML v1.0//EN
CALSCALE:GREGORIAN
METHOD:PUBLISH
X-WR-CALNAME:De planes por la comarca
X-ORIGINAL-URL:https://deplanesporlacomarca.com
X-WR-CALDESC:Eventos para De planes por la comarca
REFRESH-INTERVAL;VALUE=DURATION:PT1H
X-Robots-Tag:noindex
X-PUBLISHED-TTL:PT1H
BEGIN:VTIMEZONE
TZID:Europe/Madrid
BEGIN:DAYLIGHT
TZOFFSETFROM:+0100
TZOFFSETTO:+0200
TZNAME:CEST
DTSTART:20240331T010000
END:DAYLIGHT
BEGIN:STANDARD
TZOFFSETFROM:+0200
TZOFFSETTO:+0100
TZNAME:CET
DTSTART:20241027T010000
END:STANDARD
BEGIN:DAYLIGHT
TZOFFSETFROM:+0100
TZOFFSETTO:+0200
TZNAME:CEST
DTSTART:20250330T010000
END:DAYLIGHT
BEGIN:STANDARD
TZOFFSETFROM:+0200
TZOFFSETTO:+0100
TZNAME:CET
DTSTART:20251026T010000
END:STANDARD
BEGIN:DAYLIGHT
TZOFFSETFROM:+0100
TZOFFSETTO:+0200
TZNAME:CEST
DTSTART:20260329T010000
END:DAYLIGHT
BEGIN:STANDARD
TZOFFSETFROM:+0200
TZOFFSETTO:+0100
TZNAME:CET
DTSTART:20261025T010000
END:STANDARD
END:VTIMEZONE
BEGIN:VEVENT
DTSTART;TZID=Europe/Madrid:20250504T080000
DTEND;TZID=Europe/Madrid:20250504T080000
DTSTAMP:20260421T141806
CREATED:20250428T093708Z
LAST-MODIFIED:20250428T093713Z
UID:10039294-1746345600-1746345600@deplanesporlacomarca.com
SUMMARY:ALBORADA DE HONDARRIBIKO TXISTU TALDEA - MAYO 2025 (HONDARRIBIA)
DESCRIPTION:Alborada a cargo de Hondarribiko Txistu Taldea en Hondarribia. \n\n\n\n– Día 4 de Mayo: Casco Histórico – Soroeta \n\n\n\n– Día 11 de Mayo: Casco Histórico – Muliate \n\n\n\n– Día 18 de Mayo: Casco Histórico – Mendelu \n\n\n\n– Día 25 de Mayo: Casco Histórico – Puntal
URL:https://deplanesporlacomarca.com/agenda-evento/alborada-de-hondarribiko-txistu-taldea-mayo-2025-hondarribia/2025-05-04/
LOCATION:Hondarribia\, Hondarribia\, Gipuzkoa\, 20280\, España
GEO:43.3632622;-1.8220818
END:VEVENT
BEGIN:VEVENT
DTSTART;TZID=Europe/Madrid:20250504T090000
DTEND;TZID=Europe/Madrid:20250504T190000
DTSTAMP:20260421T141806
CREATED:20250416T171942Z
LAST-MODIFIED:20250427T085016Z
UID:10039255-1746349200-1746385200@deplanesporlacomarca.com
SUMMARY:FIESTAS DE LARREAUNDI 2025 (IRUN)
DESCRIPTION:Arrancan las fiestas de los barrios en Irun con las de Larreaundi que tienen lugar los días 30 de Abril y 1\, 2\, 3 y 4 de Mayo. \n\n\n\n \n\n\n\nEste es el programa de este plan: \n\n\n\n \n\n\n\nMiércoles\, 30 de Abril \n\n\n\n– 17.30 horas: Taller de customización de bolsas. \n\n\n\n \n\n\n\nJueves\, 1 de Mayo \n\n\n\n– 09.00 horas: Txistularis. \n\n\n\n– 12.30 horas: Concierto de la Banda de Música «Ciudad de Irun» + Txupinazo + Pregón. \n\n\n\n– 17.00 – 18.00 horas: Cabezudos. \n\n\n\n– 18.00 – 19.00 horas: Bailes andaluces. \n\n\n\n \n\n\n\nViernes\, 2 de Mayo \n\n\n\n– 11.00 – 12.00 horas: Taller de música. \n\n\n\n– 17.00 – 18.00 horas: Juegos infantiles + chocolatada. \n\n\n\n– 18.30 – 19.30 horas: Cabezudos. \n\n\n\n– 20.30 – 23.00 horas: Conciertos \n\n\n\n \n\n\n\nSábado\, 3 de Mayo \n\n\n\n– 09.30 – 11.00 horas: Salida montañera. \n\n\n\n– 12.00 – 13.30 horas: Kantu bira\, por el barrio. \n\n\n\n– 12.30 horas: Juegos. \n\n\n\n– 14.00 horas: Paellada. \n\n\n\n– 17.00 – 19.00 horas: Fanfarre «Los Perolas»\, por el barrio. \n\n\n\n– 20.00 – 00.00 horas: Karaoke\, Disco-fiesta. \n\n\n\n \n\n\n\nDomingo\, 4 de Mayo \n\n\n\n– 09.00 – 11.30 horas: Paseo histórico. \n\n\n\n– 12.00 – 14.00 horas: Concurso de tortilla. \n\n\n\n– 17.00 horas: Gigantes del Bidasoa. \n\n\n\n– 19.00 horas: Fin de fiesta.
URL:https://deplanesporlacomarca.com/agenda-evento/fiestas-de-larreaundi-2025-irun/2025-05-04/
LOCATION:A. VV. Larreaundi-Olaberria\, Iñigo Loyola\, 9 bajo\, Irun\, Gipuzkoa\, España
ATTACH;FMTTYPE=image/jpeg:https://deplanesporlacomarca.com/wp-content/uploads/2025/04/fiestas_larreaundi_olaberria_jaiak_2025_irun.jpg
GEO:43.3344242;-1.7895746
X-APPLE-STRUCTURED-LOCATION;VALUE=URI;X-ADDRESS=A. VV. Larreaundi-Olaberria Iñigo Loyola 9 bajo Irun Gipuzkoa España;X-APPLE-RADIUS=500;X-TITLE=Iñigo Loyola\, 9 bajo:geo:-1.7895746,43.3344242
END:VEVENT
BEGIN:VEVENT
DTSTART;TZID=Europe/Madrid:20250504T093000
DTEND;TZID=Europe/Madrid:20250504T093000
DTSTAMP:20260421T141806
CREATED:20250430T125416Z
LAST-MODIFIED:20250502T091600Z
UID:10039445-1746351000-1746351000@deplanesporlacomarca.com
SUMMARY:CICLISMO\, "CAMPEONATO DE GIPUZKOA INFANTIL" + Avisos de tráfico - PASEO COLÓN (IRUN)
DESCRIPTION:A partir de las 9.30 horas en el Paseo Colon de Irun\, «Campeonato de Gipuzkoa Infantil» de ciclismo y «II Memorial Xabi Blanco»\, organizado por el Club Ciclista Irunés. \n\n\n\n \n\n\n\nAfecciones de tráfico \n\n\n\n \n\n\n\nLa Policía Local comunica que\, con motivo de la celebración del Campeonato Gipuzkoa Alevín de Ciclismo e Igandero\, desde las 08.30 horas y hasta las 13.15 horas estarán afectadas diversas zonas de la ciudad de Irun de la siguiente manera: \n\n\n\n \n\n\n\nDesde las 8.00 horas: cortado el tramo del paseo Colón entre la avenida Gipuzkoa y la calle Francisco de Gainza en ambos sentidos. \n\n\n\n \n\n\n\nDesde las 8.30 horas: \n\n\n\n– Con motivo del inicio de la carrera\, estará cortado el paseo Colón en su totalidad en ambos sentidos. Ello provocará que el acceso a las calles República Argentina\, Almirante Arizmendi\, Mendibil\, Miguel de Astigar\, Jacobo Arbelaiz y Cipriano Larrañaga y a la plaza Ensanche se vean alterados de la siguiente manera: \n\n\n\n* La salida se deberá realizar por la calle Cipriano Larrañaga. \n\n\n\n* La entrada deberá producirse por la avenida Iparralde y las calles Eloy Iglesias\, Nicolás Guerendiain y Zuberoa. \n\n\n\n* El acceso a las calles Jacobo Arbelaiz y Miguel de Astigar será por la calle Cipriano Larrañaga\, en sentido contrario al habitual. \n\n\n\n* La Policía Local supervisará el tráfico con un paso alternativo. \n\n\n\n* La avenida Gipuzkoa estará cortada en sentido paseo Colón excepto para taxis\, parking de Luis Mariano y residentes. El sentido hacia Elizatxo estará abierto. \n\n\n\n \n\n\n\nDesde las 13.15 horas: se efectuará el habitual corte del Igandero hasta las 19.00 horas. \n\n\n\n \n\n\n\nDichas restricciones se levantarán cuando la carrera finalice y la seguridad de los peatones esté garantizada (previsto aprox. para las 13.15 horas); mientras tanto\, se recomienda hacer uso de la Variante para los desplazamientos. \n\n\n\n \n\n\n\nLos agentes agradecen la colaboración de la ciudadanía a la vez que solicitan una planificación de la utilización de sus vehículos durante la jornada dominical. Si van a precisar del uso del vehículo\, la Policía Local ruega que los estacionen fuera de las calles anteriormente mencionadas. \n\n\n\n \n\n\n\nCambios en el servicio de Irunbus \n\n\n\nLa carrera también provocará cambios en las distintas líneas de Irunbus: \n\n\n\nL1: ZAISA – HOSPITAL \n\n\n\nEn dirección al Hospital: \n\n\n\n– La salida de las 8.00 horas: los autobuses harán recorrido habitual hasta Fermin Calbetón\, darán la vuelta en el intercambiador e irán por la GI-636 (variante) hasta la rotonda de Zubimuxu\, subirán la c/Fuenterrabia y volverán a bajarla para recuperar el recorrido habitual hacia el Hospital. \n\n\n\n– Desde la salida de las 8.30 y hasta las 13.15 horas aproximadamente: los autobuses llegarán hasta el Amb. Dunboa (sin entrar a la parada\, pero recogiendo a los viajeros)\, se dirigirán por la GI-636 (variante) hasta la rotonda de Zubi Zubimuxu\, subirán la C/ Fuenterrabia y volverán a bajarla para recuperar el recorrido habitual hacia el Hospital. \n\n\n\n \n\n\n\nEn dirección a Zaisa: \n\n\n\n– La salida de las 8.00 horas: los autobuses harán recorrido habitual hasta la C/Estación\, bajarán la C/Fuenterrabia y se dirigirán por la GI-636 (variante) hasta la rotonda de Oxinbiribil\, subirán hasta Fermin Calbetón\, cogerán el intercambiador y a partir de ahí recuperarán el recorrido habitual hacia Zaisa. \n\n\n\n– Desde la salida de las 8.30 horas y hasta las 13.15 horas aproximadamente: los autobuses harán recorrido habitual hasta la C/Estación\, bajarán la C/Fuenterrabia y se dirigirán por la GI-636 (variante) hasta la rotonda de Oxinbiribil (parando para recoger a los viajeros pero sin entrar a la parada) y a partir de ahí recuperarán el recorrido habitual hacia Zaisa. \n\n\n\n \n\n\n\nL2: SAN JUAN – VENTAS – TXINGUDI \n\n\n\n– La salida de las 08.00 horas se realizará desde la Avenida de Gipuzkoa. \n\n\n\n– Desde las 09.00 horas y hasta las 13.15 horas\, aproximadamente: la cabecera se trasladará a la parada escolar de la SINDICAL (CIFP Bidasoa). \n\n\n\nL3: SAN JUAN – ARTIA \n\n\n\n– Desde las 08.30 horas y hasta las 13.15 horas\, aproximadamente: la cabecera se trasladará a la Avenida de Navarra\, 18. \n\n\n\nL4: SAN JUAN – ANZARAN – OLABERRIA \n\n\n\n– La salida de las 08.15 horas se realizará desde la Avenida de Gipuzkoa. \n\n\n\n– Desde las 08.45 horas y hasta las 13.15 horas\, aproximadamente: la cabecera se trasladará a Elizatxo\, 11 (Rotonda de Olivos). \n\n\n\n \n\n\n\nLas restricciones se levantarán cuando finalice la carrera (previsto aproximadamente a las 13.15 horas). De 13.15 a 19.00 horas seguirá cortado el paseo colón hasta la finalización del Igande Sasoi.
URL:https://deplanesporlacomarca.com/agenda-evento/ciclismo-campeonato-de-gipuzkoa-infantil-paseo-colon-irun-2/
LOCATION:Paseo Colón\, Paseo de Colón\, Irun\, Gipuzkoa\, España
ATTACH;FMTTYPE=image/jpeg:https://deplanesporlacomarca.com/wp-content/uploads/2025/04/ciclismo_campeonato_gipuzkoa_infantil_4_mayo_2025_club_ciclista_irunes_paseo_colon_irun.jpg
GEO:43.3402723;-1.7938039
X-APPLE-STRUCTURED-LOCATION;VALUE=URI;X-ADDRESS=Paseo Colón Paseo de Colón Irun Gipuzkoa España;X-APPLE-RADIUS=500;X-TITLE=Paseo de Colón:geo:-1.7938039,43.3402723
END:VEVENT
BEGIN:VEVENT
DTSTART;TZID=Europe/Madrid:20250504T100000
DTEND;TZID=Europe/Madrid:20250504T100000
DTSTAMP:20260421T141806
CREATED:20230929T094452Z
LAST-MODIFIED:20260330T152710Z
UID:10039292-1746352800-1746352800@deplanesporlacomarca.com
SUMMARY:FERIA DE BROCANTE Y COLECCIONISMO - PUERTO DEPORTIVO (HONDARRIBIA)
DESCRIPTION:Feria de brocante y coleccionismo que tiene lugar en el Puerto Deportivo de Hondarribia\, a partir de las 10.00 horas.
URL:https://deplanesporlacomarca.com/agenda-evento/feria-de-brocante-y-coleccionismo-puerto-deportivo-hondarribia/2025-05-04/
LOCATION:Puerto Deportivo Hondarribia\, Minatera Ibilbidea\, Hondarribia\, Gipuzkoa\, España
GEO:43.3752289;-1.7953761
X-APPLE-STRUCTURED-LOCATION;VALUE=URI;X-ADDRESS=Puerto Deportivo Hondarribia Minatera Ibilbidea Hondarribia Gipuzkoa España;X-APPLE-RADIUS=500;X-TITLE=Minatera Ibilbidea:geo:-1.7953761,43.3752289
END:VEVENT
BEGIN:VEVENT
DTSTART;TZID=Europe/Madrid:20250504T110000
DTEND;TZID=Europe/Madrid:20250504T130000
DTSTAMP:20260421T141806
CREATED:20250430T065121Z
LAST-MODIFIED:20250430T065126Z
UID:10039425-1746356400-1746363600@deplanesporlacomarca.com
SUMMARY:"EL GRAN JUEGO DE MARISMA A MARISMA" - 4 MAYO - TXINGUDI EKOETXEA (IRUN)
DESCRIPTION:¡Sumergíos en un divertido juego familiar inspirado en el clásico juego de la oca\, en un formato gigante que lo hace aún más emocionante! A través de preguntas y retos\, desvelaréis curiosidades fascinantes sobre las marismas de Txingudi\, explorando temáticas ambientales. \n\n\n\n \n\n\n\nPreparad vuestros conocimientos y habilidades\, porque este juego pondrá a prueba a toda la familia. ¿Estáis listos/as para el reto? \n\n\n\n \n\n\n\n¿Qué pasaría si combinamos la magia de las marismas de Txingudi con la emoción del clásico juego de la oca? ¡El resultado es una experiencia única que no querréis perderos! \n\n\n\n \n\n\n\nPreparaos para una jornada de diversión\, desafíos y descubrimientos en familia con ”El Gran Juego de Marisma a Marisma”. ¿Seréis capaces de superar los retos y preguntas que están en juego? ¡Es hora de demostrar vuestras habilidades y trabajo en equipo para jugar con otras familias y alcanzar la victoria! \n\n\n\n \n\n\n\nEl plan tiene lugar en Txingudi Ekoetxea de Irun\, está dirigido a familias con niñ@s (a partir de 8 años)\, tiene una duración de dos horas y un precio de 2 Euros. Necesita inscripción previa en: \n\n\n\n– enlace \n\n\n\nTienes más información en: \n\n\n\n– 943619389 \n\n\n\n– info.txingudi@ekoetxea.eus
URL:https://deplanesporlacomarca.com/agenda-evento/el-gran-juego-de-marisma-a-marisma-4-mayo-txingudi-ekoetxea-irun/
LOCATION:Txingudi Ekoetxea\, Pierre Loti Ibilbidea - Plaiaundi\, Irun\, Gipuzkoa\, España
GEO:43.346807;-1.7928974
X-APPLE-STRUCTURED-LOCATION;VALUE=URI;X-ADDRESS=Txingudi Ekoetxea Pierre Loti Ibilbidea - Plaiaundi Irun Gipuzkoa España;X-APPLE-RADIUS=500;X-TITLE=Pierre Loti Ibilbidea - Plaiaundi:geo:-1.7928974,43.346807
END:VEVENT
BEGIN:VEVENT
DTSTART;TZID=Europe/Madrid:20250504T113000
DTEND;TZID=Europe/Madrid:20250504T133000
DTSTAMP:20260421T141806
CREATED:20250226T180036Z
LAST-MODIFIED:20250226T180040Z
UID:10038573-1746358200-1746365400@deplanesporlacomarca.com
SUMMARY:EXPOSICIÓN\, "RAMÓN ESPARZA. REGRESO AL BIDASOA" - AMAIA KZ (IRUN)
DESCRIPTION:Exposición «Ramón Esparza\, retorno al Bidasoa» en la sala de exposiciones del Amaia KZ de Irun hasta el 4 de Mayo y comisariada por Pedro Usabiaga\, reconocido fotógrafo de moda y cine que ha colaborado en revistas altamente reconocidas del mundo de la moda y el arte. \n\n\n\n \n\n\n\nLa exposición tendrá como hilo conductor al río Bidasoa\, ya que es el primer recuerdo de la infancia Ramón Esparza\, junto con la ciudad de Irun\, con la que tuvo un especial vínculo. \n\n\n\n \n\n\n\nSe trata de la primera exposición sobre Ramón Esparza y su trabajo\, e Irun no podía ser un mejor lugar para acogerla debido a la vinculación del artista con la ciudad y la comarca. Y es que es destacable mencionar que en Irun hay una larga tradición de modistas y sastrerías de caballero desde la mitad del siglo XIX. \n\n\n\n \n\n\n\nAsí\, la exposición será un recorrido a través de su mirada por la vida y el trabajo de algunos de los personajes más importantes del siglo XX\, además de acoger una selección de textiles (vestidos)\, sombreros\, complementos\, fotografías\, material audiovisual\, pinturas y objetos y documentos de los principales protagonistas de la cultura y las artes vinculados al Bidasoa. \n\n\n\n \n\n\n\nRamón Esparza Viela (Lesaka\, 1923-1997)\, mano derecha y hombre de confianza de Cristóbal Balenciaga durante un cuarto de siglo\, fue el primer y único español al frente de la dirección creativa de la firma ‘Chanel’\, aunque fue de manera algo fugaz\, ya que ostentó el cargo por menos de un año. \n\n\n\n \n\n\n\nTras el fallecimiento de Cristóbal Balenciaga en 1972\, fue Ramón Esparza el encargado de las exposiciones dedicadas al diseñador de Getaria. \n\n\n\n \n\n\n\nEste plan tiene este horario: (Inauguración 27 de Marzo\, 19.00 horas) \n\n\n\n– De martes a sábados de 18.00 a 21.00 horas \n\n\n\n– Domingos de 11.30 a 13.30 horas
URL:https://deplanesporlacomarca.com/agenda-evento/exposicion-ramon-esparza-regreso-al-bidasoa-amaia-kz-irun/2025-05-04/
LOCATION:Amaia KZ\, Pio XII\, 4\, Irun\, Gipuzkoa\, 20300\, España
GEO:43.338883;-1.7964895
X-APPLE-STRUCTURED-LOCATION;VALUE=URI;X-ADDRESS=Amaia KZ Pio XII 4 Irun Gipuzkoa 20300 España;X-APPLE-RADIUS=500;X-TITLE=Pio XII\, 4:geo:-1.7964895,43.338883
END:VEVENT
BEGIN:VEVENT
DTSTART;TZID=Europe/Madrid:20250504T113000
DTEND;TZID=Europe/Madrid:20250504T133000
DTSTAMP:20260421T141806
CREATED:20250314T144233Z
LAST-MODIFIED:20250314T144236Z
UID:10038901-1746358200-1746365400@deplanesporlacomarca.com
SUMMARY:EXPOSICIÓN\, "HILDE\, LA INFANCIA Y LAS VANITAS" - SALA DE EXPOSICIONES MENCHU GAL (IRUN)
DESCRIPTION:«Hilde\, la infancia y las vanitas«\, una exposición de la artista alemana y afincada en Getaria Barbara Stammel y comisariada por la historiadora del arte especializada en arte vasco contemporáneo María José Aranzasti\, que se puede visitar en la sala de exposiciones Menchu Gal de Irun\, hasta el 25 de Mayo. \n\n\n\n \n\n\n\nLa exposición exhibe las obras realizadas dentro de la serie «Hilde»\, un conjunto de retratos que la artista comenzó a pintar a la muerte de su madre. Son cuadros de distintos tamaños\, muchos de grandes dimensiones\, a través de los cuáles se interpela directamente al espectador. Estos cuadros poseen un atractivo tanto misterioso como insistente\, por eso al ser vistos de frente\, con esas miradas directas al espectador\, este se siente participe de la obra. \n\n\n\n \n\n\n\nLa sala pequeña acoge obras de la serie «Infancia»\, entre los que se encuentran tres autorretratos de la artista. Esta serie de retratos junto con las «Manchas humanas» que viene realizando desde 2014 evocan el pasado\, las vidas transcurridas. Esta temática se recogerá a través de una serie de vanitas o naturalezas muertas\, realizadas sobre espejo\, con el que el espectador se verá reflejado en la propia obra. \n\n\n\n \n\n\n\nLa obra de Barbara Stammel se caracteriza por el uso de pigmentos naturales\, muchos de ellos tierras. La factura de sus cuadros se caracteriza por una textura muy marcada\, una obra muy matérica que realiza especialmente con espátula y pinceles\, a base de salpicaduras\, surcos\, grietas\, etc. \n\n\n\n \n\n\n\nLa artista Barbara Stammel nace en Söcking\, en el sudoeste de Munich\, y antes de cursar sus estudios de Pintura y Grabado en la Akademie der Bildene Künste de Munich\, inicia sus estudios en Biología que le influirán en la realización de una serie de pinturas sobre el corazón\, The Heart. Cursa también estudios de escultura en el Taller de Magdalena Jetelova\, en la Academia de Bellas Artes\, Munich. Estudia en la Facultad de Bellas Artes Pau Gargallo de Barcelona con Rosa Ajenjo y Adolf Genovart. Realiza estudios de Serigrafía y Fotografía en Arteleku (Donostia-San Sebastián) y recibe formación en el Taller Croslieu\, con Arno Stern en París. \n\n\n\n \n\n\n\nDesde 1994 está afincada en la localidad de Getaria (Gipuzkoa) donde desarrolla su actividad artística. Barbara Stammel tiene obra\, entre otras colecciones\, en el Museo San Telmo\, en el Museo Artium\, en el CAB de Burgos\, en la Colección de Artes Plásticas del Área de Cultura de Pamplona\, en el Museo de Arte Moderno de Tarragona y en la Fundación Enrique Leote (Portugal). \n\n\n\n \n\n\n\nEl plan tiene entrada gratuita y este horario: \n\n\n\n– viernes y sábados: 18.00 – 21.00 horas \n\n\n\n– domingos: 11.30 – 13.30 horas
URL:https://deplanesporlacomarca.com/agenda-evento/exposicion-hilde-la-infancia-y-las-vanitas-sala-de-exposiciones-menchu-gal-irun/2025-05-04/
LOCATION:Sala de Exposiciones Menchu Gal\, Urdanibia Plaza 5\, Irun\, Gipuzkoa\, 20304\, España
ATTACH;FMTTYPE=image/jpeg:https://deplanesporlacomarca.com/wp-content/uploads/2017/03/menchu_gal_irun.jpg
GEO:43.3371051;-1.7866396
X-APPLE-STRUCTURED-LOCATION;VALUE=URI;X-ADDRESS=Sala de Exposiciones Menchu Gal Urdanibia Plaza 5 Irun Gipuzkoa 20304 España;X-APPLE-RADIUS=500;X-TITLE=Urdanibia Plaza 5:geo:-1.7866396,43.3371051
END:VEVENT
BEGIN:VEVENT
DTSTART;TZID=Europe/Madrid:20250504T120000
DTEND;TZID=Europe/Madrid:20250504T200000
DTSTAMP:20260421T141806
CREATED:20250427T083709Z
LAST-MODIFIED:20250427T083713Z
UID:10039250-1746360000-1746388800@deplanesporlacomarca.com
SUMMARY:XXIII FESTIVAL INTERNACIONAL DE GUITARRA DE HONDARRIBIA
DESCRIPTION:XXIII Festival Internacional de Guitarra de Hondarribia que tiene lugar durante cuatro días\, con conciertos en el Kultur Etxea y en el Parador de Hondarribia\, además de en el Museo Oiasso de Irun. \n\n\n\n \n\n\n\nHabrá cinco conciertos\, en Hondarribia\, tres de ellos en Kultur Etxea\, uno en el Parador y otro en el Museo Oiasso de Irun. La guitarra se convierte en protagonista en la oferta cultural de Hondarribia. \n\n\n\n \n\n\n\nEste es el programa previsto: \n\n\n\n1 de Mayo\, jueves: \n\n\n\n– 19.00 horas: en Kultur Etxea\, concierto a cargo de Luciano Pompilio. \n\n\n\n \n\n\n\n2 de Mayo\, viernes: \n\n\n\n– 19.00 horas: en Kultur Etxea\, concierto a cargo de Finn Svit + Telyn Gitâr Duoa. \n\n\n\n \n\n\n\n3 de Mayo\, sábado: \n\n\n\n– 19.00 horas: en Kultur Etxea\, concierto a cargo de Antonio Fruscella. \n\n\n\n \n\n\n\n4 de Mayo\, domingo: \n\n\n\n– 12.00 horas: en el Museo Oiasso de Irun\, concierto a cargo del dúo DUsul. Todas las personas que tengan interés en asistir al concierto\, deberán recoger su entrada en el museo a partir del miércoles\, 30 de abril a las 10.00 horas. También podrán retirarse a través de este enlace.  \n\n\n\n \n\n\n\n4 de Mayo\, domingo: \n\n\n\n– 19.00 horas: en el Parador de Hondarribia\, concierto a cargo de Romolo Calandruccio. \n\n\n\n \n\n\n\n \n\n\n\n \n\n\n\nLa entrada para los conciertos de este plan es gratuita. Programa completo aquí.
URL:https://deplanesporlacomarca.com/agenda-evento/xxiii-festival-internacional-de-guitarra-de-hondarribia/2025-05-04/
LOCATION:Hondarribia\, Hondarribia\, Gipuzkoa\, 20280\, España
ATTACH;FMTTYPE=image/jpeg:https://deplanesporlacomarca.com/wp-content/uploads/2025/04/xxiii_festival_internacional_guitarra_hondarribia_2025.jpg
GEO:43.3632622;-1.8220818
END:VEVENT
BEGIN:VEVENT
DTSTART;TZID=Europe/Madrid:20250504T163000
DTEND;TZID=Europe/Madrid:20250504T183000
DTSTAMP:20260421T141806
CREATED:20250428T130610Z
LAST-MODIFIED:20250428T130615Z
UID:10039304-1746376200-1746383400@deplanesporlacomarca.com
SUMMARY:EUSKARALDIA 2025 (IRUN)
DESCRIPTION:La cuarta edición de Euskaraldia ya está aquí. Del 15 al 25 de mayo Irun también se sumará a la iniciativa que pretende impulsar el uso del euskera\, siendo este año «Elkar Mugituz Egingo Dugu» el lema que acompañará a las actividades que se desarrollen.  \n\n\n\n \n\n\n\nEl programa\, elaborado por el Servicio de Euskera del Ayuntamiento de Irun junto a diferentes entidades\, asociaciones vecinales y particulares\, arranca el 1 de mayo\, con un puesto informativo en la zona festiva de Larreaundi (12.00 horas)\, que se repetirá los días 2 y 3.  \n\n\n\n \n\n\n\nHasta la presentación oficial del día 15 de mayo\, jueves\, se celebrará la primera sesión de ‘Hika ikastaroa’ por parte de Irungo AEK\, una gira de canto y baile por Pío XII y las plazas Ensanche\, San Juan y Urdanibia\, el sábado 10 de mayo a las 18.00 horas gracias a las sociedades Nabartenea y Lagun Artean. Ese mismo día\, la carpa itinerante de Euskaraldia visitará la plaza Urdanibia (17.30 horas) y\, además\, el martes 13 de mayo habrá un Scape Room en el Museo Oiasso dirigido al alumnado del Euskaltegi Municipal y al grupo Mintzalaguna de la OSI Bidasoa. \n\n\n\n \n\n\n\nEl acto de apertura de Euskaraldia se celebrará el 15 de mayo en la plaza Ensanche a partir de las 19.00 horas en el que\, además de sorpresas\, participarán los bertsolaris Anjel Mari Peñagarikano\, Josu Telleria y Amaia Agirre y actuarán Auntxa Trikitixa Eskola y Pauso-K\, entre otros. Además\, se presentará el once titular de Euskaraldia. \n\n\n\n \n\n\n\nEl programa completo hasta el 25 de mayo\, cuando se celebrará un acto final en la plaza Ensanche\, se puede consultar en este enlace.
URL:https://deplanesporlacomarca.com/agenda-evento/euskaraldia-2025-irun/2025-05-04/
LOCATION:Ayuntamiento de Irun\, San Juan Arria Plaza\, 1\, Irun\, Gipuzkoa\, España
ATTACH;FMTTYPE=image/jpeg:https://deplanesporlacomarca.com/wp-content/uploads/2025/04/euskaraldia_2025_irun.jpg
GEO:43.3378705;-1.788833
X-APPLE-STRUCTURED-LOCATION;VALUE=URI;X-ADDRESS=Ayuntamiento de Irun San Juan Arria Plaza 1 Irun Gipuzkoa España;X-APPLE-RADIUS=500;X-TITLE=San Juan Arria Plaza\, 1:geo:-1.788833,43.3378705
END:VEVENT
BEGIN:VEVENT
DTSTART;TZID=Europe/Madrid:20250504T170000
DTEND;TZID=Europe/Madrid:20250504T170000
DTSTAMP:20260421T141806
CREATED:20250412T044743Z
LAST-MODIFIED:20250412T044746Z
UID:10039197-1746378000-1746378000@deplanesporlacomarca.com
SUMMARY:TEATRO FAMILIAR\, "SCROOGE ETA MAMUAK" - AMAIA KZ (IRUN)
DESCRIPTION:Proyección de la película en euskera\, «Scrooge eta mamuak«\, el primer film escénico familiar de la compañia Khea Ziater\, en el Amaia KZ de Irun\, a partir de las 17.00 horas. \n\n\n\n \n\n\n\nUna adaptación libre de la novela Cuento de Navidad de Charles Dickens\, traída a nuestro tiempo y llevada a escena al estilo y forma de las creaciones de Khea Ziater\, en las que los códigos cinematográficos y la escena se encuentran; yendo en este caso más allá\, con una triple combinación entre actores\, cine y muñecos. \n\n\n\n \n\n\n\nEs la historia de Ebenezer Scrooge\, un banquero egoísta y tacaño obsesionado con el dinero\, que ha dejado de creer en el amor. Una noche\, tras racanear el día libre a su empleada Roberta\, que desea celebrar el cumpleaños de su hija enferma; a Scrooge se le aparece el fantasma de su socio: el difunto y avaricioso Marley. Este le ofrece una última opción para salvarse\, llamando a visitar a Scrooge a tres fantasmas. \n\n\n\n \n\n\n\nJunto a ellos\, Scrooge revive su pasado\, toma conciencia del presente\, y observa el triste futuro que le espera. Pero finalmente\, y gracias a los viajes que con los fantasmas comparte; Scrooge se convierte en una persona generosa\, viva y llena de ganas de amar. \n\n\n\n \n\n\n\nEl precio de las entradas para este plan es de 5\,50 Euros y las puedes conseguir en: \n\n\n\n– sacatuentrada.es \n\n\n\n– Oficina de Turismo\, Luis Mariano de Irun \n\n\n\n– taquilla\, una hora antes del comienzo (siempre y cuando queden disponibles)
URL:https://deplanesporlacomarca.com/agenda-evento/teatro-familiar-scrooge-eta-mamuak-amaia-kz-irun/
LOCATION:Amaia KZ\, Pio XII\, 4\, Irun\, Gipuzkoa\, 20300\, España
ATTACH;FMTTYPE=image/jpeg:https://deplanesporlacomarca.com/wp-content/uploads/2025/04/cine_escenico_euskera_femilias_scrooge_eta_mamuak_4_mayo_2025_amaiakz_irun.jpg
GEO:43.338883;-1.7964895
X-APPLE-STRUCTURED-LOCATION;VALUE=URI;X-ADDRESS=Amaia KZ Pio XII 4 Irun Gipuzkoa 20300 España;X-APPLE-RADIUS=500;X-TITLE=Pio XII\, 4:geo:-1.7964895,43.338883
END:VEVENT
BEGIN:VEVENT
DTSTART;TZID=Europe/Madrid:20250504T180000
DTEND;TZID=Europe/Madrid:20250504T180000
DTSTAMP:20260421T141806
CREATED:20250428T094949Z
LAST-MODIFIED:20250428T094953Z
UID:10039298-1746381600-1746381600@deplanesporlacomarca.com
SUMMARY:TEATRO FAMILIAR\, "ELARA\, BIDAIA BAT IZARRETARA" - AUDITORIUM ITSAS ETXEA (HONDARRIBIA)
DESCRIPTION:Representación de la obra de teatro en euskera\, «Elara\, bidaia bat izarretara«\, a cargo de Mar Mar Teatroa\, en el Auditorium Itsas Etxea de Hondarribia\, a partir de las 18.00 horas. \n\n\n\n \n\n\n\nEl duelo por la pérdida de alguien a quien se quiere afecta a adultos/as y niños/as por igual\, pero la forma de interiorizarlo de los/las menores puede ser distinta. Con la intención de ayudar en la tarea nace esta obra infantil. Elara\, su protagonista\, ve cómo alguien que conoce se convierte en polvo de estrellas\, así que decide ir a buscarla al espacio. Viajará de galaxia en galaxia y de planeta en planeta intentando entender el sentido de la vida\, mientras transita su propio duelo. \n\n\n\n \n\n\n\nEl precio de las entradas para este plan\, dirigido a las familias con niñ@s a partir de 3 años\, es de 4 Euros y las puedes conseguir en: \n\n\n\n– Kutxabank \n\n\n\n– Arma Plaza\, Oficina de Turismo \n\n\n\n– taquilla\, dos horas antes del comienzo
URL:https://deplanesporlacomarca.com/agenda-evento/teatro-familiar-elara-bidaia-bat-izarretara-auditorium-itsas-etxea-hondarribia/
LOCATION:Itsas Etxea Auditorium\, Matxin Arzu kalea\, 1\, Hondarribia\, Gipuzkoa\, 20280\, España
ATTACH;FMTTYPE=image/jpeg:https://deplanesporlacomarca.com/wp-content/uploads/2025/04/teatro_familiar_euskera_elara_bidaia_bat_izarretara_4_mayo_2025_auditorium_itsas_etxea_hondarribia.jpg
GEO:43.3675749;-1.7933125
X-APPLE-STRUCTURED-LOCATION;VALUE=URI;X-ADDRESS=Itsas Etxea Auditorium Matxin Arzu kalea 1 Hondarribia Gipuzkoa 20280 España;X-APPLE-RADIUS=500;X-TITLE=Matxin Arzu kalea\, 1:geo:-1.7933125,43.3675749
END:VEVENT
END:VCALENDAR