BEGIN:VCALENDAR
VERSION:2.0
PRODID:-//De planes por la comarca - ECPv6.15.20//NONSGML v1.0//EN
CALSCALE:GREGORIAN
METHOD:PUBLISH
X-WR-CALNAME:De planes por la comarca
X-ORIGINAL-URL:https://deplanesporlacomarca.com
X-WR-CALDESC:Eventos para De planes por la comarca
REFRESH-INTERVAL;VALUE=DURATION:PT1H
X-Robots-Tag:noindex
X-PUBLISHED-TTL:PT1H
BEGIN:VTIMEZONE
TZID:Europe/Madrid
BEGIN:DAYLIGHT
TZOFFSETFROM:+0100
TZOFFSETTO:+0200
TZNAME:CEST
DTSTART:20240331T010000
END:DAYLIGHT
BEGIN:STANDARD
TZOFFSETFROM:+0200
TZOFFSETTO:+0100
TZNAME:CET
DTSTART:20241027T010000
END:STANDARD
BEGIN:DAYLIGHT
TZOFFSETFROM:+0100
TZOFFSETTO:+0200
TZNAME:CEST
DTSTART:20250330T010000
END:DAYLIGHT
BEGIN:STANDARD
TZOFFSETFROM:+0200
TZOFFSETTO:+0100
TZNAME:CET
DTSTART:20251026T010000
END:STANDARD
BEGIN:DAYLIGHT
TZOFFSETFROM:+0100
TZOFFSETTO:+0200
TZNAME:CEST
DTSTART:20260329T010000
END:DAYLIGHT
BEGIN:STANDARD
TZOFFSETFROM:+0200
TZOFFSETTO:+0100
TZNAME:CET
DTSTART:20261025T010000
END:STANDARD
END:VTIMEZONE
BEGIN:VEVENT
DTSTART;TZID=Europe/Madrid:20250507T100000
DTEND;TZID=Europe/Madrid:20250507T190000
DTSTAMP:20260421T130609
CREATED:20250507T132828Z
LAST-MODIFIED:20250507T132831Z
UID:10039478-1746612000-1746644400@deplanesporlacomarca.com
SUMMARY:EXPOSICIÓN\, "AVES MIGRATORIAS" - TXINGUDI EKOETXEA (IRUN)
DESCRIPTION:Exposición que lleva por título «Aves migratorias» y que se puede visitar en Txingudi Ekoetxea de Irun\, desde el 6 hasta el 22 de Mayo. \n\n\n\n \n\n\n\nEl plan tiene entrada libre y este horario: \n\n\n\n– 10.00 – 14.00 horas  \n\n\n\n– 15.30 – 19.00 horas
URL:https://deplanesporlacomarca.com/agenda-evento/exposicion-aves-migratorias-txingudi-ekoetxea-irun/2025-05-07/
LOCATION:Txingudi Ekoetxea\, Pierre Loti Ibilbidea - Plaiaundi\, Irun\, Gipuzkoa\, España
ATTACH;FMTTYPE=image/jpeg:https://deplanesporlacomarca.com/wp-content/uploads/2025/05/exposicion_aves_migratorias_mayo_2025_txingudi_ekoetxea_irun.jpg
GEO:43.346807;-1.7928974
X-APPLE-STRUCTURED-LOCATION;VALUE=URI;X-ADDRESS=Txingudi Ekoetxea Pierre Loti Ibilbidea - Plaiaundi Irun Gipuzkoa España;X-APPLE-RADIUS=500;X-TITLE=Pierre Loti Ibilbidea - Plaiaundi:geo:-1.7928974,43.346807
END:VEVENT
BEGIN:VEVENT
DTSTART;TZID=Europe/Madrid:20250507T170000
DTEND;TZID=Europe/Madrid:20250507T190000
DTSTAMP:20260421T130609
CREATED:20250505T134350Z
LAST-MODIFIED:20250505T134353Z
UID:10039456-1746637200-1746644400@deplanesporlacomarca.com
SUMMARY:HAURRAK PARKEAN - MAYO 2025 (IRUN)
DESCRIPTION:El Ayuntamiento de Irun y Hezten han puesto en marcha la iniciativa Haurrak Parkean\, dirigida a aumentar el uso del euskera en la calle y el parque\, cuyas sesiones se desarrollarán en diferentes barrios y zonas de juegos de Irun con la dinamización recreativa de Hezten. \n\n\n\n \n\n\n\nEn función de la edad de los niños y niñas que acuden\, se forman dos grupos\, de forma que se realizan juegos con niños y niñas de 3 a 5 años y sus cuidadores/as\, combinando la transmisión lingüística en la familia y el tiempo libre. Con los niños/as de 6 a 9 años\, en cambio\, la actividad se realizará entre amigos en compañía de dos educadores/as. \n\n\n\n \n\n\n\nEl calendario de actividades y fechas es el siguiente: \n\n\n\n7\, 14\, 21 y 28 de Mayo (miércoles): \n\n\n\n– Parque Nagore Laffage (Si llueve\, se realiza en el Colegio Toki Alai\, Calle Alzukaitz) \n\n\n\n– Parque Oñaurre (Calle Olaketa)  \n\n\n\n9\, 16\, 23 y 30 de Mayo (viernes): \n\n\n\n– Parque Partxis \n\n\n\n– Plaza San Juan. (Si llueve\, la actividad se realizará en los arkupes del Ayuntamiento) \n\n\n\n \n\n\n\nTodas las actividades enmarcadas en Haurrak Parkean serán íntegramente en euskera. Desde el Área de Euskera quieren recordar que\, aunque el conocimiento del euskera no es imprescindible\, tanto madres y/o padres como hijas/os deberán comprometerse a mantener una actitud participativa durante la actividad al inscribirse.
URL:https://deplanesporlacomarca.com/agenda-evento/haurrak-parkean-mayo-2025-irun/2025-05-07/
LOCATION:Parque Nagore Laffage\, Juan Wolmer Plaza\, 1\, Irun\, Gipuzkoa\, España
ATTACH;FMTTYPE=image/jpeg:https://deplanesporlacomarca.com/wp-content/uploads/2025/05/haurrak_parkean_mayo_2025_irun.jpg
GEO:43.3383485;-1.7799394
X-APPLE-STRUCTURED-LOCATION;VALUE=URI;X-ADDRESS=Parque Nagore Laffage Juan Wolmer Plaza 1 Irun Gipuzkoa España;X-APPLE-RADIUS=500;X-TITLE=Juan Wolmer Plaza\, 1:geo:-1.7799394,43.3383485
END:VEVENT
BEGIN:VEVENT
DTSTART;TZID=Europe/Madrid:20250507T173000
DTEND;TZID=Europe/Madrid:20250507T173000
DTSTAMP:20260421T130609
CREATED:20250429T133510Z
LAST-MODIFIED:20250429T133513Z
UID:10039349-1746639000-1746639000@deplanesporlacomarca.com
SUMMARY:AGENDA MAYO 2025 - GAZTELEKU MARTINDOZENEA (IRUN)
DESCRIPTION:El Gazteleku Martindozenea de Irun ha preparado diversas actividades durante este mes de Mayo dirigidas a jóvenes de entre 12 y 17 años. \n\n\n\n \n\n\n\nAquí tienes todo: \n\n\n\n– 2 de Mayo. Asamblea de cara a verano. 17.30 horas. \n\n\n\n¡Vuestra opinión nos importa! Por eso el 2 de mayo haremos una asamblea para escuchar vuestras propuestas. Queremos que sea un julio divertido y lleno de actividades\, para ello nos queremos refrescar con ideas nuevas que salgan de vosotros. Anímate! ¡Porque tu opinión nos importa! \n\n\n\n \n\n\n\n– 3 de Mayo. Irunbixi. 17.30 horas. \n\n\n\n¿Quieres llevar a cabo algún proyecto? Pues tienes la oportunidad llamando a tu puerta. Partiendo desde los derechos de los niños y adolescentes como tema\, llevaremos a cabo un proyecto creado por vosotros. ¿Tienes alguna idea? Pues no dudes en aportarla el 3 de mayo en el Gazteleku! \n\n\n\n \n\n\n\n– 7 de Mayo. Zure kanta. 17.30 horas. \n\n\n\nEn este taller utilizaremos las nuevas tecnologías para crear una canción. Apúntate si quieres ver como se hace. \n\n\n\n– 8 de Mayo. Herri kirolak. 17.30 horas. \n\n\n\nEn esta ocasión\, vamos a practicar al deporte rural o herri kirolak: soka-tira\, lokotxas\, carrera de sacos\, etc. ¿Te animas a divertirte con nosotras? \n\n\n\n \n\n\n\n– 9 de Mayo. Fiestas de Landetxa. 17.30 horas. \n\n\n\nEl 9 de mayo estaremos en las fiestas del barrio Landetxa. ¡Ofreceremos dos actividades diferentes donde podréis participar! Customización de Tote Bag-s y un futbolín humano gigante. \n\n\n\n \n\n\n\n– 10 de Mayo. Futuro climático en Irun ¿Cómo nos imaginamos nuestra ciudad?. 17.30 horas. \n\n\n\n¿Te importa o te preocupa el cambio climático? Este taller de educación ecosocial nos va a servir para conocer cómo imaginamos el futuro climático de Irún. Para ello nos serviremos de actividades y juegos. ¿Te animas a imaginarte un futuro más ecológico para Irun? Anímate a participar en este taller. \n\n\n\n \n\n\n\n– 13 de Mayo. Realidad virtual. 17.30 horas. \n\n\n\n¡Esta tarde jugaremos con las gafas de REALIDAD VIRTUAL (VR)! En el mismo gazteleku tenemos unas gafas de realidad virtual que podremos usar para jugar y el juego elegido para ello es: ¡BEAT SABER! ¿Quieres probar esta nueva experiencia? ¡Anímate a sumergirte en el mundo digital! \n\n\n\n \n\n\n\n– 15 de Mayo. Comienzo Euskaraldia. 17.30 horas. \n\n\n\n¡Daremos comienzo al «Euskaraldia» en el Gazteleku! Porque el euskera se habla y se vive. Prepararemos la playlist que utilizaremos en el «Euskaraldiskoa». \n\n\n\n \n\n\n\n– 16 de Mayo. Día internacional contra la homofobia. 17.30 horas. \n\n\n\n¡El día 17 de mayo se celebra el día contra la HOMOFOBIA! Por eso\, vamos a crear y pegar carteles contra la homofobia en el GAZTELEKU. ¡Porque el amor es amor! \n\n\n\n \n\n\n\n– 17 de Mayo. Gazteartean Expo: Luis Tolosa. 17.30 horas. \n\n\n\nEn mayo daremos paso a la primera exposición del Gazteleku. El Gazteleku se convertirá en una galería de arte por un tiempo y se podrá apreciar la exposición del artista Luis Tolosa. Además\, después de esta exposición\, el artista nos ofrecerá un taller. \n\n\n\n \n\n\n\nBIOGRAFÍA DEL ARTISTA: Luis Tolosa\, es un Artista 3D y Escultor digital\, para impresión. Comenzó sus estudios en la escuela ESCIVI de Andoain\, Creación de videojuegos y entornos interactivos. Luego\, se especializó en Escultura Digital para impresión en la escuela CICE de Madrid. En su recorrido\, trabajó en Infoarquitectura realizando planos 3D para inmobiliarias y Renders para eventos de marcas como Mapfre\, Dyson\, AECC etc. Además de estos renders\, también desarrolló el diseño de los eventos y toda su cartelería. También participó como «Enviroment Artist» en la película de “Elcano la vuelta al mundo” de Dibulitoon studio y como “Character artist” en “Caterella” de Tomavision Studio. Como ultimos puntos en su carrera ha estado trabajando como escultor interno en Figurma Collectors (empresa de figuras de Japon) y posteriormente en Nemesis Now (empresa de figuras de Reino Unido) donde trabaja actualmente. Además continua realizando sus propios diseños de personajes para videojuegos e impresión para mas clientes. Actualmente destaca en el mercado como escultor digital de personajes para impresión 3D\, trabajando en diversas empresas de miniaturas estilo Warhammer y figuras para coleccionables de Anime\,Marvel y DC. \n\n\n\n \n\n\n\n– 20 de Mayo. Tarde de badminton. 17.30 horas. \n\n\n\n¡Vamos a jugar al bádminton en el parque exterior! ¡Ven y juega a un deporte diferente! \n\n\n\n \n\n\n\n– 22 de Mayo. Cocina: Serradura. 17.30 horas. \n\n\n\nComo cada mes nos vestiremos de cocinero\, esta vez como repostero. Prepararemos un «Serradura». Si no sabes lo que es\, te animamos a que vengas y aprendas a hacer este gran postre. ¡Anímate! ¡No te arrepentirás! \n\n\n\n \n\n\n\n– 23 de Mayo. Telas acrobáticas. 17.30 horas. \n\n\n\nA lo largo de la tarde realizaremos un taller de telas acrobáticas con una profesora experta en esto. Habrá dos turnos: Primer turno: 17.30 a 18.30 horas y Segundo turno: 18.30 a 19.30 horas. Será necesaria la inscripción\, ya que hay plazas limitadas. ¡¡¡No pierdas la oportunidad!!! \n\n\n\n \n\n\n\n– 24 de Mayo. Euskaraldisko. 17.30 horas. \n\n\n\nAprovechando la playlist que vamos a crear el 15 de mayo\, haremos una pequeña fiesta para demostrar que en euskera también existe música divertida y bailable. Si quieres bailar y cantar esta es tu actividad. \n\n\n\n \n\n\n\n– 27 de Mayo. Torneo de Just Dance. 17.30 horas. \n\n\n\nVamos a hacer una competición de baile en el Gazteleku. Para eso vamos a jugar al «Just dance» en la Play Station. ¡Anímate si quieres disfrutar bailando! \n\n\n\n \n\n\n\n– 28 de Mayo. Día mundial sin tabaco. 17.30 horas. \n\n\n\nEl día 31 de mayo es el día mundial sin tabaco\, por eso\, para concienciar sobre los peligros del tabaco entre los y las jóvenes del Gazteleku\, la Asociación Contra el Cáncer de Gipuzkoa va a ofrecer una charla de concienciación acerca del tabaco y de los vapers. \n\n\n\n \n\n\n\n– 30 de Mayo. Fiestas de Anaka. 17.30 horas. \n\n\n\nEl 30 de mayo estaremos en las fiestas del barrio de Anaka\, pasaremos la tarde allí y ofreceremos varias actividades. Por un lado\, haremos «Tye Die» de camisetas y\, por otro lado\, customizaremos Tote Bag-s. Anímate y saca tu lado más artístico. \n\n\n\n \n\n\n\n– 31 de Mayo. Taller de costura: Riñoneras. 17.30 horas. \n\n\n\nPara acabar el mes vamos a hacer un taller de costura. Esta vez\, vamos a hacer riñoneras. Para ello\, vamos a utilizar material reciclado. ¡Si quieres aprender a coser y además llevarte a casa una riñonera de regalo esta es tu oportunidad! ¡Aprovéchala y apúntate! \n\n\n\n* Todo el material necesario lo ponemos nosotras. \n\n\n\n \n\n\n\n \n\n\n\n \n\n\n\nEstos planes tienen lugar en el Gazteleku Martindozenea de Irun\, son gratuitos\, pero tienes que apuntarte previamente en: \n\n\n\n– whatsapp: 690 706 471 \n\n\n\n– gazteleku@irun.org \n\n\n\n– MD por Instagram
URL:https://deplanesporlacomarca.com/agenda-evento/agenda-mayo-2025-gazteleku-martindozenea-irun/2025-05-07/
LOCATION:Gazteleku Martindozenea\, Elizatzo Hiribidea 18\, Irun\, Gipuzkoa\, 20303\, España
ATTACH;FMTTYPE=image/jpeg:https://deplanesporlacomarca.com/wp-content/uploads/2025/04/agenda_mayo_2025_gazteleku_martindozenea_irun.jpg
GEO:43.3344788;-1.8010591
X-APPLE-STRUCTURED-LOCATION;VALUE=URI;X-ADDRESS=Gazteleku Martindozenea Elizatzo Hiribidea 18 Irun Gipuzkoa 20303 España;X-APPLE-RADIUS=500;X-TITLE=Elizatzo Hiribidea 18:geo:-1.8010591,43.3344788
END:VEVENT
BEGIN:VEVENT
DTSTART;TZID=Europe/Madrid:20250507T173000
DTEND;TZID=Europe/Madrid:20250507T190000
DTSTAMP:20260421T130609
CREATED:20250122T160745Z
LAST-MODIFIED:20250122T160748Z
UID:10038221-1746639000-1746644400@deplanesporlacomarca.com
SUMMARY:TALLERES HAURARTEAN\, "JOLASFIT" - ESPACIO PALMERA MONTERO (IRUN)
DESCRIPTION:Nueva edición del programa HaurARTEan FIT\, que presenta las sesiones de JOLAS FIT que se celebrarán en el Espacio Palmera Montero de Irun. \n\n\n\n \n\n\n\nJOLAS FIT\, con una duración de seis sesiones\, tendrá lugar entre los meses de febrero\, marzo\, abril y mayo\, con la diferencia de que en este bloque participarán los padres\, madres y tutores/as con sus hijos e hijas de entre 5 y 7 años de forma preferente. Desde una perspectiva lúdica\, las sesiones tratarán de trabajar temas como las emociones\, la comunicación\, las normas y los límites\, valiéndonos del idioma de los niños y niñas que es el juego. \n\n\n\n \n\n\n\nLas familias\, mediante el juego libre o dirigido\, recibirán orientaciones transversales dedicadas a sus necesidades específicas\, en forma de estrategias concretas que ayuden a mejorar la comunicación y la resolución de conflictos. \n\n\n\n \n\n\n\nTodas las sesiones se celebrarán entre las 17.30 y las 19.00 horas y se harán en las siguientes fechas: \n\n\n\n– 12 y 26 de febrero. \n\n\n\n– 12 y 26 de marzo. \n\n\n\n– 9 de abril. \n\n\n\n– 7 de mayo. \n\n\n\n \n\n\n\nLas inscripciones estarán abiertas desde el 23 de enero hasta el 6 de febrero o hasta agotarse las plazas\, ambos inclusive\, y se podrán formalizar a través de este enlace. El número máximo de participantes es de 30 personas (niñas/os inclusive). Asimismo\, cabe destacar que habrá un servicio de conciliación para jóvenes de entre 3 y 11 años. \n\n\n\n \n\n\n\nAmbos programas estarán coordinados por Leyre Cano y Donna Apellaniz\, ambas con una formación específica en la materia y especialistas en temas de inteligencia emocional\, infancia y adolescencia. \n\n\n\n \n\n\n\nHaurARTEan FIT es un programa de entrenamiento para padres\, madres y tutores/as; un espacio seguro donde aprender a partir de la experiencia grupal\, de poner sobre la mesa las situaciones cotidianas y donde trabajar herramientas y estrategias eficaces para responder ante estas situaciones diarias. \n\n\n\n \n\n\n\nEn definitiva\, trata de mejorar la comunicación en familia\, aprender a establecer límites y normas de forma coherente\, favorecer un espacio seguro de escucha mutua y adecuar los conocimientos prácticos obtenidos en los talleres al día a día de las familias.
URL:https://deplanesporlacomarca.com/agenda-evento/talleres-haurartean-jolasfit-espacio-palmera-montero-irun/2025-05-07/
LOCATION:Espacio Palmera Montero Gunea\, Leandro Aguirretxe\, 1\, Irun\, Gipuzkoa\, España
ATTACH;FMTTYPE=image/jpeg:https://deplanesporlacomarca.com/wp-content/uploads/2025/01/talleres_haurartean_jolas_fit_febrero_marzo_abril_mayo_2025_gazteartean_irun.jpg
GEO:43.3391455;-1.7807761
X-APPLE-STRUCTURED-LOCATION;VALUE=URI;X-ADDRESS=Espacio Palmera Montero Gunea Leandro Aguirretxe 1 Irun Gipuzkoa España;X-APPLE-RADIUS=500;X-TITLE=Leandro Aguirretxe\, 1:geo:-1.7807761,43.3391455
END:VEVENT
BEGIN:VEVENT
DTSTART;TZID=Europe/Madrid:20250507T173000
DTEND;TZID=Europe/Madrid:20250507T193000
DTSTAMP:20260421T130609
CREATED:20250429T150756Z
LAST-MODIFIED:20250429T150801Z
UID:10039367-1746639000-1746646200@deplanesporlacomarca.com
SUMMARY:AGENDA MAYO 2025 - GAZTELEKU ARTIA (IRUN)
DESCRIPTION:El Gazteleku Artia de Irun ha preparado diversas actividades durante este mes de Mayo\, dirigidas a jóvenes de entre 12 y 17 años. \n\n\n\n \n\n\n\nAquí tienes todo: \n\n\n\n– 2 de Mayo. Preparar la carrera de caballos. 18.00 horas. \n\n\n\nEsta tarde prepararemos y pintaremos los caballos para la carrera de mañana (igual que los de la foto). Ven a customizar tu caballo. ¡Anímate! \n\n\n\n \n\n\n\n– 3 de Mayo. Carrera de caballos. 18.00 horas. \n\n\n\nEsta tarde jugaremos a uno de los juegos típicos de feria: carrera de caballos. El objetivo del juego será llegar a la meta antes que tus contrincantes montado en tu caballo personalizado. ¡Anímate! \n\n\n\n \n\n\n\n– 7 de Mayo. Taller de teatro. 17.30 horas. \n\n\n\nSi te interesa el mundo de la actuación acércate esta tarde al Gazteleku a aprender técnicas de improvisación con la actriz Ane Iturrate. \n\n\n\n \n\n\n\n– 8 de Mayo. Tortitas de chocolate. 17.30 horas. \n\n\n\nSi te apetece merendar algo rico te animamos a venir esta tarde al Gazteleku a hacer tortitas rellenas de crema de chocolate. \n\n\n\n \n\n\n\n– 9 de Mayo. ¿Y en verano qué?. 18.00 horas. \n\n\n\nSe acercan el buen tiempo y el calor\, y te animamos a venir esta tarde al Gazteleku y contarnos qué actividades te gustaría hacer en verano. \n\n\n\n \n\n\n\n– 10 de Mayo. Gynkana de pruebas. 18.00 horas. \n\n\n\nPara completar la gynkana de esta tarde tendrás que realizar diferentes pruebas\, y encontrar y descifrar todas las pistas que hemos escondido por Artia. ¿Serás capaz? \n\n\n\n \n\n\n\n– 13 de Mayo. Ensaladilla rusa. 17.30 horas. \n\n\n\nEsta tarde prepararemos ensaladilla rusa\, un plato ideal para comer ahora que se va acercando el calor. ¡No te quedes sin tu plaza! \n\n\n\n \n\n\n\n– 14 de Mayo. Asexora-T: Petos LGTBIQ+. 17.30 horas. \n\n\n\nEsta tarde tendremos con nosotros a la sexóloga Maialen del servicio Asexora-T que como siempre vendrá a resolver todas las dudas que tengáis sobre relaciones sexuales\, amor\, sexualidad… Pero además\, hoy vendrá a preparar con nosotros los petos que llevaréis puestos durante el partido de fútbol que haremos el 17 de mayo a favor de los derechos de la comunidad LGTBIQ+. ¡Anímate a participar! \n\n\n\n \n\n\n\n– 15 de Mayo. Euskaraldia. 17.30 horas. \n\n\n\nEl objetivo de esta tarde será aumentar el uso del euskera. Para ello te animamos a hablar durante todo el día en euskera. Además tendrás la oportunidad de hacer chapas belarriprest y ahobizi. \n\n\n\n \n\n\n\n– 16 de Mayo. Tarde de puzzles. 18.00 horas. \n\n\n\nSi quieres probar diferentes puzles te animamos a acercarte esta tarde al Gazteleku. Tenemos puzzles nuevos para todos los gustos\, 3D\, de 1000 piezas y de 500. \n\n\n\n \n\n\n\n– 17 de Mayo. Torneo de fútbol: Pro LGTBIQ+. 18.00 horas. \n\n\n\nEsta tarde organizaremos un campeonato de fútbol en la pista junto al Gazteleku. Apúntate con tus amigos y juega por los derechos de la comunidad LGTBIQ+ vistiendo los petos que preparamos el 14 de mayo. \n\n\n\n \n\n\n\n– 20 de Mayo. Tarta de manzana. 17.30 horas. \n\n\n\nEsta tarde haremos una deliciosa tarta de manzana similar al apple pie. ¡No te quedes sin tu plaza! \n\n\n\n \n\n\n\n– 22 de Mayo. Juegos de puntería. 17.30 horas. \n\n\n\nHoy vuelve al Gazteleku Maddi del servicio de orientación deportiva con un nuevo deporte. Esta vez\, nos propone juegos de puntería. ¡Anímate a probar! \n\n\n\n \n\n\n\n– 23 de Mayo. Arcoíris de sal. 18.00 horas. \n\n\n\nEsta tarde tendrás la oportunidad de hacer tu propio arcoíris embotellado. Con sal\, tiza y un poco de creatividad tendrás una decoración perfecta para tu habitación. Las plazas son limitadas. No te quedes sin la tuya. \n\n\n\n \n\n\n\n– 24 de Mayo. Joyas de cristal. 18.00 horas. \n\n\n\nSi quieres poner a prueba tus habilidades para hacer joyas\, acércate esta tarde al Gazteleku a crear una joya con vidrio reciclado que luego podrás llevarte a casa. Las plazas son limitadas. No te quedes sin la tuya. \n\n\n\n \n\n\n\n– 27 de Mayo. Cine y picoteo. 17.30 horas. \n\n\n\nEsta tarde te invitamos a disfrutar de la merienda especial que hemos preparado mientras vemos una película. \n\n\n\n \n\n\n\n– 28 de Mayo. Irunbixi. 17.30 horas. \n\n\n\n¿Conoces tus derechos? ¿Sientes que se respetan? ¿Crees que habría que cambiar algo? Esta tarde tendrás la oportunidad de compartir tus opiniones mientras disfrutamos de una deliciosa merienda. ¡Anímate a compartir tus ideas! \n\n\n\n \n\n\n\n– 29 de Mayo. Tarde de tenis. 17.30 horas. \n\n\n\nEsta tarde bajaremos a la pista junto al Gazteleku a jugar al tenis. \n\n\n\n \n\n\n\n– 30 de Mayo. Taller de Fimo. 18.00 horas. \n\n\n\nEl Fimo es un material que se moldea igual que la plastilina\, pero al meterla al horno se endurece. Puedes hacer cualquier cosa: pendientes\, llaveros\, figuritas… ¡Estamos deseando ver lo que haces! ¡No te quedes sin tu plaza! \n\n\n\n \n\n\n\n– 31 de Mayo. Pizza. 18.00 horas. \n\n\n\nPara terminar bien el mes esta tarde te proponemos hacer pizza. ¡No te quedes sin tu plaza! \n\n\n\n \n\n\n\n \n\n\n\n \n\n\n\n \n\n\n\nEstos planes tienen lugar en el Gazteleku Artia de Irun\, son gratuitos\, pero tienes que apuntarte previamente en: \n\n\n\n– 681946798 \n\n\n\n– MD Instagram \n\n\n\n– gazteleku_artia@irun.org
URL:https://deplanesporlacomarca.com/agenda-evento/agenda-mayo-2025-gazteleku-artia-irun/2025-05-07/
LOCATION:Gazteleku Artia\, Julio Caro Baroja Plaza\, 3\, Irun\, Gipuzkoa\, España
ATTACH;FMTTYPE=image/jpeg:https://deplanesporlacomarca.com/wp-content/uploads/2025/04/agenda_mayo_2025_gazteleku_artia_irun.jpg
GEO:43.3395626;-1.7697357
X-APPLE-STRUCTURED-LOCATION;VALUE=URI;X-ADDRESS=Gazteleku Artia Julio Caro Baroja Plaza 3 Irun Gipuzkoa España;X-APPLE-RADIUS=500;X-TITLE=Julio Caro Baroja Plaza\, 3:geo:-1.7697357,43.3395626
END:VEVENT
BEGIN:VEVENT
DTSTART;TZID=Europe/Madrid:20250507T180000
DTEND;TZID=Europe/Madrid:20250507T190000
DTSTAMP:20260421T130609
CREATED:20250428T130610Z
LAST-MODIFIED:20250428T130615Z
UID:10039305-1746640800-1746644400@deplanesporlacomarca.com
SUMMARY:EUSKARALDIA 2025 (IRUN)
DESCRIPTION:La cuarta edición de Euskaraldia ya está aquí. Del 15 al 25 de mayo Irun también se sumará a la iniciativa que pretende impulsar el uso del euskera\, siendo este año «Elkar Mugituz Egingo Dugu» el lema que acompañará a las actividades que se desarrollen.  \n\n\n\n \n\n\n\nEl programa\, elaborado por el Servicio de Euskera del Ayuntamiento de Irun junto a diferentes entidades\, asociaciones vecinales y particulares\, arranca el 1 de mayo\, con un puesto informativo en la zona festiva de Larreaundi (12.00 horas)\, que se repetirá los días 2 y 3.  \n\n\n\n \n\n\n\nHasta la presentación oficial del día 15 de mayo\, jueves\, se celebrará la primera sesión de ‘Hika ikastaroa’ por parte de Irungo AEK\, una gira de canto y baile por Pío XII y las plazas Ensanche\, San Juan y Urdanibia\, el sábado 10 de mayo a las 18.00 horas gracias a las sociedades Nabartenea y Lagun Artean. Ese mismo día\, la carpa itinerante de Euskaraldia visitará la plaza Urdanibia (17.30 horas) y\, además\, el martes 13 de mayo habrá un Scape Room en el Museo Oiasso dirigido al alumnado del Euskaltegi Municipal y al grupo Mintzalaguna de la OSI Bidasoa. \n\n\n\n \n\n\n\nEl acto de apertura de Euskaraldia se celebrará el 15 de mayo en la plaza Ensanche a partir de las 19.00 horas en el que\, además de sorpresas\, participarán los bertsolaris Anjel Mari Peñagarikano\, Josu Telleria y Amaia Agirre y actuarán Auntxa Trikitixa Eskola y Pauso-K\, entre otros. Además\, se presentará el once titular de Euskaraldia. \n\n\n\n \n\n\n\nEl programa completo hasta el 25 de mayo\, cuando se celebrará un acto final en la plaza Ensanche\, se puede consultar en este enlace.
URL:https://deplanesporlacomarca.com/agenda-evento/euskaraldia-2025-irun/2025-05-07/
LOCATION:Ayuntamiento de Irun\, San Juan Arria Plaza\, 1\, Irun\, Gipuzkoa\, España
ATTACH;FMTTYPE=image/jpeg:https://deplanesporlacomarca.com/wp-content/uploads/2025/04/euskaraldia_2025_irun.jpg
GEO:43.3378705;-1.788833
X-APPLE-STRUCTURED-LOCATION;VALUE=URI;X-ADDRESS=Ayuntamiento de Irun San Juan Arria Plaza 1 Irun Gipuzkoa España;X-APPLE-RADIUS=500;X-TITLE=San Juan Arria Plaza\, 1:geo:-1.788833,43.3378705
END:VEVENT
END:VCALENDAR