BEGIN:VCALENDAR
VERSION:2.0
PRODID:-//De planes por la comarca - ECPv6.15.20//NONSGML v1.0//EN
CALSCALE:GREGORIAN
METHOD:PUBLISH
X-WR-CALNAME:De planes por la comarca
X-ORIGINAL-URL:https://deplanesporlacomarca.com
X-WR-CALDESC:Eventos para De planes por la comarca
REFRESH-INTERVAL;VALUE=DURATION:PT1H
X-Robots-Tag:noindex
X-PUBLISHED-TTL:PT1H
BEGIN:VTIMEZONE
TZID:Europe/Madrid
BEGIN:DAYLIGHT
TZOFFSETFROM:+0100
TZOFFSETTO:+0200
TZNAME:CEST
DTSTART:20250330T010000
END:DAYLIGHT
BEGIN:STANDARD
TZOFFSETFROM:+0200
TZOFFSETTO:+0100
TZNAME:CET
DTSTART:20251026T010000
END:STANDARD
BEGIN:DAYLIGHT
TZOFFSETFROM:+0100
TZOFFSETTO:+0200
TZNAME:CEST
DTSTART:20260329T010000
END:DAYLIGHT
BEGIN:STANDARD
TZOFFSETFROM:+0200
TZOFFSETTO:+0100
TZNAME:CET
DTSTART:20261025T010000
END:STANDARD
BEGIN:DAYLIGHT
TZOFFSETFROM:+0100
TZOFFSETTO:+0200
TZNAME:CEST
DTSTART:20270328T010000
END:DAYLIGHT
BEGIN:STANDARD
TZOFFSETFROM:+0200
TZOFFSETTO:+0100
TZNAME:CET
DTSTART:20271031T010000
END:STANDARD
END:VTIMEZONE
BEGIN:VEVENT
DTSTART;TZID=Europe/Madrid:20260423T103000
DTEND;TZID=Europe/Madrid:20260423T103000
DTSTAMP:20260419T190745
CREATED:20260128T082622Z
LAST-MODIFIED:20260128T082624Z
UID:10041679-1776940200-1776940200@deplanesporlacomarca.com
SUMMARY:VISITE D´HENDAYE: "QUARTIER PLAGE" (HENDAYE)
DESCRIPTION:Plan para descubrir Hendaya haciendo una visita guiada por el barrio de la playa.  \n\n\n\n \n\n\n\nCon «Las gemelas» detrás\, España en frente y el océano extendiéndose hasta el horizonte\, este es un panorama verdaderamente único para un paseo por Hendaye. \n\n\n\n \n\n\n\nEs la oportunidad perfecta para descubrir el patrimonio natural de la ciudad\, así como su arquitectura costera\, incluyendo las villas neovascas diseñadas por Edmond Durandeau. \n\n\n\n \n\n\n\nEsta visita también te permitirá revivir la turbulenta historia entre Francia y España. \n\n\n\n \n\n\n\nTiene un precio de 3 euros (entre 6 y 16 años) y 6 euros (adultos). Puedes reservar tu plaza en este enlace.
URL:https://deplanesporlacomarca.com/agenda-evento/visite-dhendaye-quartier-plage-hendaye/2026-04-23/
LOCATION:Plage D´Hendaye\, Hendaye\, Francia
ATTACH;FMTTYPE=image/jpeg:https://deplanesporlacomarca.com/wp-content/uploads/2023/08/de-planes-por-la-comarca-hendaya-francia-bidasoa-txingudi-detxokos-635.jpg
GEO:43.359399;-1.766148
END:VEVENT
BEGIN:VEVENT
DTSTART;TZID=Europe/Madrid:20260430T103000
DTEND;TZID=Europe/Madrid:20260430T103000
DTSTAMP:20260419T190745
CREATED:20260128T082622Z
LAST-MODIFIED:20260128T082624Z
UID:10041680-1777545000-1777545000@deplanesporlacomarca.com
SUMMARY:VISITE D´HENDAYE: "QUARTIER PLAGE" (HENDAYE)
DESCRIPTION:Plan para descubrir Hendaya haciendo una visita guiada por el barrio de la playa.  \n\n\n\n \n\n\n\nCon «Las gemelas» detrás\, España en frente y el océano extendiéndose hasta el horizonte\, este es un panorama verdaderamente único para un paseo por Hendaye. \n\n\n\n \n\n\n\nEs la oportunidad perfecta para descubrir el patrimonio natural de la ciudad\, así como su arquitectura costera\, incluyendo las villas neovascas diseñadas por Edmond Durandeau. \n\n\n\n \n\n\n\nEsta visita también te permitirá revivir la turbulenta historia entre Francia y España. \n\n\n\n \n\n\n\nTiene un precio de 3 euros (entre 6 y 16 años) y 6 euros (adultos). Puedes reservar tu plaza en este enlace.
URL:https://deplanesporlacomarca.com/agenda-evento/visite-dhendaye-quartier-plage-hendaye/2026-04-30/
LOCATION:Plage D´Hendaye\, Hendaye\, Francia
ATTACH;FMTTYPE=image/jpeg:https://deplanesporlacomarca.com/wp-content/uploads/2023/08/de-planes-por-la-comarca-hendaya-francia-bidasoa-txingudi-detxokos-635.jpg
GEO:43.359399;-1.766148
END:VEVENT
END:VCALENDAR