BEGIN:VCALENDAR
VERSION:2.0
PRODID:-//De planes por la comarca - ECPv6.15.20//NONSGML v1.0//EN
CALSCALE:GREGORIAN
METHOD:PUBLISH
X-WR-CALNAME:De planes por la comarca
X-ORIGINAL-URL:https://deplanesporlacomarca.com
X-WR-CALDESC:Eventos para De planes por la comarca
REFRESH-INTERVAL;VALUE=DURATION:PT1H
X-Robots-Tag:noindex
X-PUBLISHED-TTL:PT1H
BEGIN:VTIMEZONE
TZID:Europe/Madrid
BEGIN:DAYLIGHT
TZOFFSETFROM:+0100
TZOFFSETTO:+0200
TZNAME:CEST
DTSTART:20230326T010000
END:DAYLIGHT
BEGIN:STANDARD
TZOFFSETFROM:+0200
TZOFFSETTO:+0100
TZNAME:CET
DTSTART:20231029T010000
END:STANDARD
BEGIN:DAYLIGHT
TZOFFSETFROM:+0100
TZOFFSETTO:+0200
TZNAME:CEST
DTSTART:20240331T010000
END:DAYLIGHT
BEGIN:STANDARD
TZOFFSETFROM:+0200
TZOFFSETTO:+0100
TZNAME:CET
DTSTART:20241027T010000
END:STANDARD
BEGIN:DAYLIGHT
TZOFFSETFROM:+0100
TZOFFSETTO:+0200
TZNAME:CEST
DTSTART:20250330T010000
END:DAYLIGHT
BEGIN:STANDARD
TZOFFSETFROM:+0200
TZOFFSETTO:+0100
TZNAME:CET
DTSTART:20251026T010000
END:STANDARD
BEGIN:DAYLIGHT
TZOFFSETFROM:+0100
TZOFFSETTO:+0200
TZNAME:CEST
DTSTART:20260329T010000
END:DAYLIGHT
BEGIN:STANDARD
TZOFFSETFROM:+0200
TZOFFSETTO:+0100
TZNAME:CET
DTSTART:20261025T010000
END:STANDARD
BEGIN:DAYLIGHT
TZOFFSETFROM:+0100
TZOFFSETTO:+0200
TZNAME:CEST
DTSTART:20270328T010000
END:DAYLIGHT
BEGIN:STANDARD
TZOFFSETFROM:+0200
TZOFFSETTO:+0100
TZNAME:CET
DTSTART:20271031T010000
END:STANDARD
END:VTIMEZONE
BEGIN:VEVENT
DTSTART;TZID=Europe/Madrid:20260111T120000
DTEND;TZID=Europe/Madrid:20260111T120000
DTSTAMP:20260419T232235
CREATED:20260107T083513Z
LAST-MODIFIED:20260107T083514Z
UID:10041491-1768132800-1768132800@deplanesporlacomarca.com
SUMMARY:REUNIÓN INFORMATIVA PARA LA ORGANIZACIÓN DE LA COMPARSA "IÑUDE ETA ARTZAIAK" 2026 (IRUN)
DESCRIPTION:El grupo de dantza Eraiki está inmerso en la preparación de la habitual comparsa de Iñude eta Artzaiak que recorrerá las calles de Irun el 8 de febrero. \n\n\n\n \n\n\n\nPara organizar esta comparsa el grupo convoca una reunión que tendrá lugar en la asociación de vecinos de Behobia a las 12.00 horas del mediodía. En dicha reunión se abrirá la inscripción para todo aquel que esté interesado en participar en la comparsa ya sea como dantzari o personaje. \n\n\n\n \n\n\n\nDesde hace años Eraiki Dantza Taldea organiza la comparsa de Iñude eta Artzaiak de Irun. Este año la comparsa recorrerá las principales calles de la ciudad el 8 de febrero\, como viene siendo habitual el fin de semana previo a los carnavales. \n\n\n\n \n\n\n\nEl desfile está compuesto por dantzaris de todas las edades que interpretan los papeles de nodrizas y pastores. La comparsa también cuenta con otro tipo de personajes: obispo\, alcalde\, cartero\, médicos o enfermeras\, entre otros muchos. La inscripción para participar en la comparsa tanto como dantzari como personaje está abierta a todo aquel que esté interesado.
URL:https://deplanesporlacomarca.com/agenda-evento/reunion-informativa-para-la-organizacion-de-la-comparsa-inude-eta-artzaiak-2026-irun/
LOCATION:A. VV. Behobia\, Endarlaza Hiribidea\, 6\, Irun\, Gipuzkoa\, 20305\, España
ATTACH;FMTTYPE=image/jpeg:https://deplanesporlacomarca.com/wp-content/uploads/2025/01/inude_eta_artzaiak_irun_gipuzkoa.jpg
GEO:43.3423108;-1.762093
X-APPLE-STRUCTURED-LOCATION;VALUE=URI;X-ADDRESS=A. VV. Behobia Endarlaza Hiribidea 6 Irun Gipuzkoa 20305 España;X-APPLE-RADIUS=500;X-TITLE=Endarlaza Hiribidea\, 6:geo:-1.762093,43.3423108
END:VEVENT
BEGIN:VEVENT
DTSTART;TZID=Europe/Madrid:20250927T200000
DTEND;TZID=Europe/Madrid:20250927T220000
DTSTAMP:20260419T232235
CREATED:20250924T084716Z
LAST-MODIFIED:20250924T084720Z
UID:10040360-1759003200-1759010400@deplanesporlacomarca.com
SUMMARY:CONCIERTO DE "REMEMBER TALDEA" - BARRIO BEHOBIA (IRUN)
DESCRIPTION:Concierto de Remember Taldea en el Barrio de Behobia de Irun\, junto a la AVV del barrio\, con mucha música y mucho baile\, a partir de las 20.00 horas. \n\n\n\n \n\n\n\nPlan con entrada libre.
URL:https://deplanesporlacomarca.com/agenda-evento/concierto-de-remember-taldea-barrio-behobia-irun/
LOCATION:A. VV. Behobia\, Endarlaza Hiribidea\, 6\, Irun\, Gipuzkoa\, 20305\, España
ATTACH;FMTTYPE=image/jpeg:https://deplanesporlacomarca.com/wp-content/uploads/2025/09/concierto_remember_taldea_27_septiembre_2025_barrio_behobia_irun.jpg
GEO:43.3423108;-1.762093
X-APPLE-STRUCTURED-LOCATION;VALUE=URI;X-ADDRESS=A. VV. Behobia Endarlaza Hiribidea 6 Irun Gipuzkoa 20305 España;X-APPLE-RADIUS=500;X-TITLE=Endarlaza Hiribidea\, 6:geo:-1.762093,43.3423108
END:VEVENT
BEGIN:VEVENT
DTSTART;TZID=Europe/Madrid:20250125T120000
DTEND;TZID=Europe/Madrid:20250125T120000
DTSTAMP:20260419T232235
CREATED:20250117T133937Z
LAST-MODIFIED:20250117T133940Z
UID:10038172-1737806400-1737806400@deplanesporlacomarca.com
SUMMARY:REUNIÓN INFORMATIVA PARA LA ORGANIZACIÓN DE LA COMPARSA "IÑUDE ETA ARTZAIAK" 2025 (IRUN)
DESCRIPTION:El grupo de dantza Eraiki está inmerso en la preparación de la habitual comparsa de Iñude eta Artzaiak que recorrerá las calles de Irun el 23 de febrero. \n\n\n\n \n\n\n\nPara organizar esta comparsa el grupo convoca una reunión que tendrá lugar en la asociación de vecinos de Behobia a las 12.00 horas del mediodía. En dicha reunión se abrirá la inscripción para todo aquel que esté interesado en participar en la comparsa ya sea como dantzari o personaje. \n\n\n\n \n\n\n\nDesde hace años Eraiki Dantza Taldea organiza la comparsa de Iñude eta Artzaiak de Irun. Este año la comparsa recorrerá las principales calles de la ciudad el 23 de febrero\, como viene siendo habitual el fin de semana previo a los carnavales. \n\n\n\n \n\n\n\nEl desfile está compuesto por dantzaris de todas las edades que interpretan los papeles de nodrizas y pastores. La comparsa también cuenta con otro tipo de personajes: obispo\, alcalde\, cartero\, médicos o enfermeras\, entre otros muchos. La inscripción para participar en la comparsa tanto como dantzari como personaje está abierta a todo aquel que esté interesado.
URL:https://deplanesporlacomarca.com/agenda-evento/reunion-informativa-para-la-organizacion-de-la-comparsa-inude-eta-artzaiak-2025-irun/
LOCATION:A. VV. Behobia\, Endarlaza Hiribidea\, 6\, Irun\, Gipuzkoa\, 20305\, España
ATTACH;FMTTYPE=image/jpeg:https://deplanesporlacomarca.com/wp-content/uploads/2019/01/reunion_informativa_comparsa_inude_eta_artzaiak_2019_irun.jpg
GEO:43.3423108;-1.762093
X-APPLE-STRUCTURED-LOCATION;VALUE=URI;X-ADDRESS=A. VV. Behobia Endarlaza Hiribidea 6 Irun Gipuzkoa 20305 España;X-APPLE-RADIUS=500;X-TITLE=Endarlaza Hiribidea\, 6:geo:-1.762093,43.3423108
END:VEVENT
BEGIN:VEVENT
DTSTART;TZID=Europe/Madrid:20241116T180000
DTEND;TZID=Europe/Madrid:20241116T180000
DTSTAMP:20260419T232235
CREATED:20241114T130804Z
LAST-MODIFIED:20241114T130807Z
UID:10037275-1731780000-1731780000@deplanesporlacomarca.com
SUMMARY:FIESTA DE OTOÑO\, MARIACHIS "AZTECA FLOR FERNÁNDEZ" - AVV BEHOBIA (IRUN)
DESCRIPTION:Organizado por el área de Cultura del Ayuntamiento de Irun\, en colaboración con la Asociación de Vecinos de Irun\, vecinos y vecinas de Irun podrán disfrutar una tarde especial en Behobia\, en la trasera de la Asociación de Vecinos\, con un concierto de los mariachis «Azteca Flor Fernández» a partir de las 18.00 horas\, y que estará acompañado por un bar con montaditos. \n\n\n\n \n\n\n\nForma parte de la agenda cultural de los barrios\, uno de los proyectos finalistas del proceso de Presupuestos Participativos de 2023\, nace a raíz de la colaboración entre el Ayuntamiento y diferentes asociaciones de vecinos de la ciudad para dotar de una oferta cultural a los barrios de la ciudad.
URL:https://deplanesporlacomarca.com/agenda-evento/fiesta-de-otono-mariachis-azteca-flor-fernandez-avv-behobia-irun/
LOCATION:A. VV. Behobia\, Endarlaza Hiribidea\, 6\, Irun\, Gipuzkoa\, 20305\, España
ATTACH;FMTTYPE=image/jpeg:https://deplanesporlacomarca.com/wp-content/uploads/2024/11/fiesta_de_otono_16_noviembre_2024_mariachis_azteca_flor_fernandez_avv_behobia_irun.jpg
GEO:43.3423108;-1.762093
X-APPLE-STRUCTURED-LOCATION;VALUE=URI;X-ADDRESS=A. VV. Behobia Endarlaza Hiribidea 6 Irun Gipuzkoa 20305 España;X-APPLE-RADIUS=500;X-TITLE=Endarlaza Hiribidea\, 6:geo:-1.762093,43.3423108
END:VEVENT
END:VCALENDAR