BEGIN:VCALENDAR
VERSION:2.0
PRODID:-//De planes por la comarca - ECPv6.15.20//NONSGML v1.0//EN
CALSCALE:GREGORIAN
METHOD:PUBLISH
X-WR-CALNAME:De planes por la comarca
X-ORIGINAL-URL:https://deplanesporlacomarca.com
X-WR-CALDESC:Eventos para De planes por la comarca
REFRESH-INTERVAL;VALUE=DURATION:PT1H
X-Robots-Tag:noindex
X-PUBLISHED-TTL:PT1H
BEGIN:VTIMEZONE
TZID:Europe/Madrid
BEGIN:DAYLIGHT
TZOFFSETFROM:+0100
TZOFFSETTO:+0200
TZNAME:CEST
DTSTART:20230326T010000
END:DAYLIGHT
BEGIN:STANDARD
TZOFFSETFROM:+0200
TZOFFSETTO:+0100
TZNAME:CET
DTSTART:20231029T010000
END:STANDARD
BEGIN:DAYLIGHT
TZOFFSETFROM:+0100
TZOFFSETTO:+0200
TZNAME:CEST
DTSTART:20240331T010000
END:DAYLIGHT
BEGIN:STANDARD
TZOFFSETFROM:+0200
TZOFFSETTO:+0100
TZNAME:CET
DTSTART:20241027T010000
END:STANDARD
BEGIN:DAYLIGHT
TZOFFSETFROM:+0100
TZOFFSETTO:+0200
TZNAME:CEST
DTSTART:20250330T010000
END:DAYLIGHT
BEGIN:STANDARD
TZOFFSETFROM:+0200
TZOFFSETTO:+0100
TZNAME:CET
DTSTART:20251026T010000
END:STANDARD
BEGIN:DAYLIGHT
TZOFFSETFROM:+0100
TZOFFSETTO:+0200
TZNAME:CEST
DTSTART:20260329T010000
END:DAYLIGHT
BEGIN:STANDARD
TZOFFSETFROM:+0200
TZOFFSETTO:+0100
TZNAME:CET
DTSTART:20261025T010000
END:STANDARD
END:VTIMEZONE
BEGIN:VEVENT
DTSTART;TZID=Europe/Madrid:20250415T100000
DTEND;TZID=Europe/Madrid:20250415T130000
DTSTAMP:20260420T151949
CREATED:20250326T073014Z
LAST-MODIFIED:20250326T073020Z
UID:10038978-1744711200-1744722000@deplanesporlacomarca.com
SUMMARY:TALLER\, "UNIVERSO DRON" - AVV. DUNBOA (IRUN)
DESCRIPTION:Taller de drones en los locales de la AVV. Dunboa de Irun\, impartido por la Asociación Euskodron para estas vacaciones de semana santa.  \n\n\n\n \n\n\n\nEl plan esta dirigido a niñ@s y jóvenes que quieran aprender que es un dron\, como se programa y cómo se vuela. \n\n\n\n \n\n\n\nDurará 9 horas y se realizará los días 14\, 15 y 16 de abril\, y para o que no puedan asistir\, habrá otro grupo los días 22\, 23 y 24 de abril\, en horario de 10 a 13.00 horas. \n\n\n\n \n\n\n\nMas información y reserva de plaza en euskodron.tk@gmail.com.
URL:https://deplanesporlacomarca.com/agenda-evento/taller-universo-dron-avv-dunboa-irun/2025-04-15/
LOCATION:A. VV. Dunboa\, Martxoak\, 8\, Irun\, Gipuzkoa\, España
ATTACH;FMTTYPE=image/jpeg:https://deplanesporlacomarca.com/wp-content/uploads/2025/03/semana_santa_2025_taller_drones_ninos_jovenes_euskodron_avv_dunboa_irun.jpg
GEO:43.3415804;-1.7835254
X-APPLE-STRUCTURED-LOCATION;VALUE=URI;X-ADDRESS=A. VV. Dunboa Martxoak 8 Irun Gipuzkoa España;X-APPLE-RADIUS=500;X-TITLE=Martxoak\, 8:geo:-1.7835254,43.3415804
END:VEVENT
BEGIN:VEVENT
DTSTART;TZID=Europe/Madrid:20250414T100000
DTEND;TZID=Europe/Madrid:20250414T130000
DTSTAMP:20260420T151949
CREATED:20250326T073014Z
LAST-MODIFIED:20250326T073020Z
UID:10038977-1744624800-1744635600@deplanesporlacomarca.com
SUMMARY:TALLER\, "UNIVERSO DRON" - AVV. DUNBOA (IRUN)
DESCRIPTION:Taller de drones en los locales de la AVV. Dunboa de Irun\, impartido por la Asociación Euskodron para estas vacaciones de semana santa.  \n\n\n\n \n\n\n\nEl plan esta dirigido a niñ@s y jóvenes que quieran aprender que es un dron\, como se programa y cómo se vuela. \n\n\n\n \n\n\n\nDurará 9 horas y se realizará los días 14\, 15 y 16 de abril\, y para o que no puedan asistir\, habrá otro grupo los días 22\, 23 y 24 de abril\, en horario de 10 a 13.00 horas. \n\n\n\n \n\n\n\nMas información y reserva de plaza en euskodron.tk@gmail.com.
URL:https://deplanesporlacomarca.com/agenda-evento/taller-universo-dron-avv-dunboa-irun/2025-04-14/
LOCATION:A. VV. Dunboa\, Martxoak\, 8\, Irun\, Gipuzkoa\, España
ATTACH;FMTTYPE=image/jpeg:https://deplanesporlacomarca.com/wp-content/uploads/2025/03/semana_santa_2025_taller_drones_ninos_jovenes_euskodron_avv_dunboa_irun.jpg
GEO:43.3415804;-1.7835254
X-APPLE-STRUCTURED-LOCATION;VALUE=URI;X-ADDRESS=A. VV. Dunboa Martxoak 8 Irun Gipuzkoa España;X-APPLE-RADIUS=500;X-TITLE=Martxoak\, 8:geo:-1.7835254,43.3415804
END:VEVENT
BEGIN:VEVENT
DTSTART;TZID=Europe/Madrid:20250125T180000
DTEND;TZID=Europe/Madrid:20250125T180000
DTSTAMP:20260420T151949
CREATED:20250124T075837Z
LAST-MODIFIED:20250124T075841Z
UID:10038244-1737828000-1737828000@deplanesporlacomarca.com
SUMMARY:TEATRO\, "EL CASO CAMPING" - AVV. DUNBOA (IRUN)
DESCRIPTION:Representación de la obra de teatro «El caso camping«\, a cargo de Kemen Antzerki Taldea\, en la AVV. Dunboa de Irun\, a partir de las 18.00 horas. \n\n\n\n \n\n\n\nPlan con entrada libre hasta completar aforo.
URL:https://deplanesporlacomarca.com/agenda-evento/teatro-el-caso-camping-avv-dunboa-irun/
LOCATION:A. VV. Dunboa\, Martxoak\, 8\, Irun\, Gipuzkoa\, España
ATTACH;FMTTYPE=image/jpeg:https://deplanesporlacomarca.com/wp-content/uploads/2025/01/teatro_el_caso_camping_kemen_antzerki_taldea_25_enero_2025_avv_dumboa_irun.jpg
GEO:43.3415804;-1.7835254
X-APPLE-STRUCTURED-LOCATION;VALUE=URI;X-ADDRESS=A. VV. Dunboa Martxoak 8 Irun Gipuzkoa España;X-APPLE-RADIUS=500;X-TITLE=Martxoak\, 8:geo:-1.7835254,43.3415804
END:VEVENT
BEGIN:VEVENT
DTSTART;TZID=Europe/Madrid:20250104T184500
DTEND;TZID=Europe/Madrid:20250104T194500
DTSTAMP:20260420T151950
CREATED:20241209T164711Z
LAST-MODIFIED:20241209T164715Z
UID:10037879-1736016300-1736019900@deplanesporlacomarca.com
SUMMARY:NAVIDADES 2024 - ACTIVIDADES INFANTILES - ASOCIACIÓN VECINOS DUNBOA (IRUN)
DESCRIPTION:La Asociación de Vecinos del Barrio Dunboa en Irun ha preparado para estas navidades diferentes actividades para niños y niñas. \n\n\n\n \n\n\n\nEste es el detalle de este plan: \n\n\n\n– 15 de Diciembre: 12.00 horas. Espectáculo de magia\, a cargo de Berto Magoa. \n\n\n\n– 22 de Diciembre: 12.00 horas. Espectáculo de magia\, a cargo de Maga María Arandia. \n\n\n\n– 26 de Diciembre: 17.00 – 19.00 horas: Talleres con «Zer ez? Taldea«. \n\n\n\n– 30 de Diciembre: 17.00 – 19.00 horas. Talleres de circo\, a cargo de Armiarma Compagnie. \n\n\n\n– 4 de Enero: 18.45 horas. Recogida de cartas de los Pajes de los Reyes Magos.
URL:https://deplanesporlacomarca.com/agenda-evento/navidades-2024-actividades-infantiles-asociacion-vecinos-dunboa-irun/2025-01-04/
LOCATION:A. VV. Dunboa\, Martxoak\, 8\, Irun\, Gipuzkoa\, España
ATTACH;FMTTYPE=image/jpeg:https://deplanesporlacomarca.com/wp-content/uploads/2024/12/navidades_2024_actividades_ninos_familias_navidad_asociacion_vecinos_dunboa_irun.jpg
GEO:43.3415804;-1.7835254
X-APPLE-STRUCTURED-LOCATION;VALUE=URI;X-ADDRESS=A. VV. Dunboa Martxoak 8 Irun Gipuzkoa España;X-APPLE-RADIUS=500;X-TITLE=Martxoak\, 8:geo:-1.7835254,43.3415804
END:VEVENT
BEGIN:VEVENT
DTSTART;TZID=Europe/Madrid:20241230T170000
DTEND;TZID=Europe/Madrid:20241230T190000
DTSTAMP:20260420T151950
CREATED:20241209T164711Z
LAST-MODIFIED:20241209T164715Z
UID:10037878-1735578000-1735585200@deplanesporlacomarca.com
SUMMARY:NAVIDADES 2024 - ACTIVIDADES INFANTILES - ASOCIACIÓN VECINOS DUNBOA (IRUN)
DESCRIPTION:La Asociación de Vecinos del Barrio Dunboa en Irun ha preparado para estas navidades diferentes actividades para niños y niñas. \n\n\n\n \n\n\n\nEste es el detalle de este plan: \n\n\n\n– 15 de Diciembre: 12.00 horas. Espectáculo de magia\, a cargo de Berto Magoa. \n\n\n\n– 22 de Diciembre: 12.00 horas. Espectáculo de magia\, a cargo de Maga María Arandia. \n\n\n\n– 26 de Diciembre: 17.00 – 19.00 horas: Talleres con «Zer ez? Taldea«. \n\n\n\n– 30 de Diciembre: 17.00 – 19.00 horas. Talleres de circo\, a cargo de Armiarma Compagnie. \n\n\n\n– 4 de Enero: 18.45 horas. Recogida de cartas de los Pajes de los Reyes Magos.
URL:https://deplanesporlacomarca.com/agenda-evento/navidades-2024-actividades-infantiles-asociacion-vecinos-dunboa-irun/2024-12-30/
LOCATION:A. VV. Dunboa\, Martxoak\, 8\, Irun\, Gipuzkoa\, España
ATTACH;FMTTYPE=image/jpeg:https://deplanesporlacomarca.com/wp-content/uploads/2024/12/navidades_2024_actividades_ninos_familias_navidad_asociacion_vecinos_dunboa_irun.jpg
GEO:43.3415804;-1.7835254
X-APPLE-STRUCTURED-LOCATION;VALUE=URI;X-ADDRESS=A. VV. Dunboa Martxoak 8 Irun Gipuzkoa España;X-APPLE-RADIUS=500;X-TITLE=Martxoak\, 8:geo:-1.7835254,43.3415804
END:VEVENT
BEGIN:VEVENT
DTSTART;TZID=Europe/Madrid:20241226T170000
DTEND;TZID=Europe/Madrid:20241226T190000
DTSTAMP:20260420T151950
CREATED:20241209T164711Z
LAST-MODIFIED:20241209T164715Z
UID:10037877-1735232400-1735239600@deplanesporlacomarca.com
SUMMARY:NAVIDADES 2024 - ACTIVIDADES INFANTILES - ASOCIACIÓN VECINOS DUNBOA (IRUN)
DESCRIPTION:La Asociación de Vecinos del Barrio Dunboa en Irun ha preparado para estas navidades diferentes actividades para niños y niñas. \n\n\n\n \n\n\n\nEste es el detalle de este plan: \n\n\n\n– 15 de Diciembre: 12.00 horas. Espectáculo de magia\, a cargo de Berto Magoa. \n\n\n\n– 22 de Diciembre: 12.00 horas. Espectáculo de magia\, a cargo de Maga María Arandia. \n\n\n\n– 26 de Diciembre: 17.00 – 19.00 horas: Talleres con «Zer ez? Taldea«. \n\n\n\n– 30 de Diciembre: 17.00 – 19.00 horas. Talleres de circo\, a cargo de Armiarma Compagnie. \n\n\n\n– 4 de Enero: 18.45 horas. Recogida de cartas de los Pajes de los Reyes Magos.
URL:https://deplanesporlacomarca.com/agenda-evento/navidades-2024-actividades-infantiles-asociacion-vecinos-dunboa-irun/2024-12-26/
LOCATION:A. VV. Dunboa\, Martxoak\, 8\, Irun\, Gipuzkoa\, España
ATTACH;FMTTYPE=image/jpeg:https://deplanesporlacomarca.com/wp-content/uploads/2024/12/navidades_2024_actividades_ninos_familias_navidad_asociacion_vecinos_dunboa_irun.jpg
GEO:43.3415804;-1.7835254
X-APPLE-STRUCTURED-LOCATION;VALUE=URI;X-ADDRESS=A. VV. Dunboa Martxoak 8 Irun Gipuzkoa España;X-APPLE-RADIUS=500;X-TITLE=Martxoak\, 8:geo:-1.7835254,43.3415804
END:VEVENT
BEGIN:VEVENT
DTSTART;TZID=Europe/Madrid:20241222T120000
DTEND;TZID=Europe/Madrid:20241222T120000
DTSTAMP:20260420T151950
CREATED:20241209T164711Z
LAST-MODIFIED:20241209T164715Z
UID:10037876-1734868800-1734868800@deplanesporlacomarca.com
SUMMARY:NAVIDADES 2024 - ACTIVIDADES INFANTILES - ASOCIACIÓN VECINOS DUNBOA (IRUN)
DESCRIPTION:La Asociación de Vecinos del Barrio Dunboa en Irun ha preparado para estas navidades diferentes actividades para niños y niñas. \n\n\n\n \n\n\n\nEste es el detalle de este plan: \n\n\n\n– 15 de Diciembre: 12.00 horas. Espectáculo de magia\, a cargo de Berto Magoa. \n\n\n\n– 22 de Diciembre: 12.00 horas. Espectáculo de magia\, a cargo de Maga María Arandia. \n\n\n\n– 26 de Diciembre: 17.00 – 19.00 horas: Talleres con «Zer ez? Taldea«. \n\n\n\n– 30 de Diciembre: 17.00 – 19.00 horas. Talleres de circo\, a cargo de Armiarma Compagnie. \n\n\n\n– 4 de Enero: 18.45 horas. Recogida de cartas de los Pajes de los Reyes Magos.
URL:https://deplanesporlacomarca.com/agenda-evento/navidades-2024-actividades-infantiles-asociacion-vecinos-dunboa-irun/2024-12-22/
LOCATION:A. VV. Dunboa\, Martxoak\, 8\, Irun\, Gipuzkoa\, España
ATTACH;FMTTYPE=image/jpeg:https://deplanesporlacomarca.com/wp-content/uploads/2024/12/navidades_2024_actividades_ninos_familias_navidad_asociacion_vecinos_dunboa_irun.jpg
GEO:43.3415804;-1.7835254
X-APPLE-STRUCTURED-LOCATION;VALUE=URI;X-ADDRESS=A. VV. Dunboa Martxoak 8 Irun Gipuzkoa España;X-APPLE-RADIUS=500;X-TITLE=Martxoak\, 8:geo:-1.7835254,43.3415804
END:VEVENT
BEGIN:VEVENT
DTSTART;TZID=Europe/Madrid:20241215T120000
DTEND;TZID=Europe/Madrid:20241215T120000
DTSTAMP:20260420T151950
CREATED:20241209T164711Z
LAST-MODIFIED:20241209T164715Z
UID:10037875-1734264000-1734264000@deplanesporlacomarca.com
SUMMARY:NAVIDADES 2024 - ACTIVIDADES INFANTILES - ASOCIACIÓN VECINOS DUNBOA (IRUN)
DESCRIPTION:La Asociación de Vecinos del Barrio Dunboa en Irun ha preparado para estas navidades diferentes actividades para niños y niñas. \n\n\n\n \n\n\n\nEste es el detalle de este plan: \n\n\n\n– 15 de Diciembre: 12.00 horas. Espectáculo de magia\, a cargo de Berto Magoa. \n\n\n\n– 22 de Diciembre: 12.00 horas. Espectáculo de magia\, a cargo de Maga María Arandia. \n\n\n\n– 26 de Diciembre: 17.00 – 19.00 horas: Talleres con «Zer ez? Taldea«. \n\n\n\n– 30 de Diciembre: 17.00 – 19.00 horas. Talleres de circo\, a cargo de Armiarma Compagnie. \n\n\n\n– 4 de Enero: 18.45 horas. Recogida de cartas de los Pajes de los Reyes Magos.
URL:https://deplanesporlacomarca.com/agenda-evento/navidades-2024-actividades-infantiles-asociacion-vecinos-dunboa-irun/2024-12-15/
LOCATION:A. VV. Dunboa\, Martxoak\, 8\, Irun\, Gipuzkoa\, España
ATTACH;FMTTYPE=image/jpeg:https://deplanesporlacomarca.com/wp-content/uploads/2024/12/navidades_2024_actividades_ninos_familias_navidad_asociacion_vecinos_dunboa_irun.jpg
GEO:43.3415804;-1.7835254
X-APPLE-STRUCTURED-LOCATION;VALUE=URI;X-ADDRESS=A. VV. Dunboa Martxoak 8 Irun Gipuzkoa España;X-APPLE-RADIUS=500;X-TITLE=Martxoak\, 8:geo:-1.7835254,43.3415804
END:VEVENT
BEGIN:VEVENT
DTSTART;TZID=Europe/Madrid:20241031T180000
DTEND;TZID=Europe/Madrid:20241031T200000
DTSTAMP:20260420T151950
CREATED:20241030T081644Z
LAST-MODIFIED:20241030T081649Z
UID:10037085-1730397600-1730404800@deplanesporlacomarca.com
SUMMARY:HALLOWEEN 2024 - FIESTA EN LA AVV DUNBOA (IRUN)
DESCRIPTION:En la AVV de Dunboa de Irun han preparado diferentes actividades para l@s niñ@s con motivo de Halloween. \n\n\n\n \n\n\n\nEste es el programa previsto de este plan: \n\n\n\n– 18.00 horas: Fiesta de disfraces de Halloween. Los participantes desfilarán por la pasarela de modelos. Se sortearán cinco vales para compra de regalos. \n\n\n\n– 18.15 horas: Representación de la obra ”EL MUNDO DE LOS SUEÑOS”. A cargo del grupo Patata Tropikala. \n\n\n\n– 19.00 horas: Reparto de merienda entre los participantes. \n\n\n\n \n\n\n\nLas plazas son limitadas y puedes apuntarte en: \n\n\n\n– 943633633 \n\n\n\n– avvdumboa@hotmail.com
URL:https://deplanesporlacomarca.com/agenda-evento/halloween-2024-fiesta-en-la-avv-dunboa-irun/
LOCATION:A. VV. Dunboa\, Martxoak\, 8\, Irun\, Gipuzkoa\, España
ATTACH;FMTTYPE=image/jpeg:https://deplanesporlacomarca.com/wp-content/uploads/2024/10/halloween_2024_asociacion_vecinos_dunboa_irun.jpg
GEO:43.3415804;-1.7835254
X-APPLE-STRUCTURED-LOCATION;VALUE=URI;X-ADDRESS=A. VV. Dunboa Martxoak 8 Irun Gipuzkoa España;X-APPLE-RADIUS=500;X-TITLE=Martxoak\, 8:geo:-1.7835254,43.3415804
END:VEVENT
BEGIN:VEVENT
DTSTART;TZID=Europe/Madrid:20240914T193000
DTEND;TZID=Europe/Madrid:20240914T193000
DTSTAMP:20260420T151950
CREATED:20240912T061444Z
LAST-MODIFIED:20240912T061447Z
UID:10036661-1726342200-1726342200@deplanesporlacomarca.com
SUMMARY:CONCIERTO Y MONÓLOGO\, "MI GATO SAM" + RAMÓN GUAMÁ - AVV. DUMBOA (IRUN)
DESCRIPTION:Tarde de humor en la AVV. Dumboa de Irun\, con el concierto de «Mi gato Sam» y el monólogo de Ramón Guamá\, a partir de las 19.30 horas. \n\n\n\n \n\n\n\nEl plan está dirigido a todos los públicos\, a partir de 12 años\, y es gratuito\, con aforo limitado.
URL:https://deplanesporlacomarca.com/agenda-evento/concierto-y-monologo-mi-gato-sam-ramon-guama-avv-dumboa-irun/
LOCATION:A. VV. Dunboa\, Martxoak\, 8\, Irun\, Gipuzkoa\, España
ATTACH;FMTTYPE=image/jpeg:https://deplanesporlacomarca.com/wp-content/uploads/2024/09/concierto_monologo_mi_gato_sam_ramon_guama_14_septiembre_2024_avv_dumboa_irun.jpg
GEO:43.3415804;-1.7835254
X-APPLE-STRUCTURED-LOCATION;VALUE=URI;X-ADDRESS=A. VV. Dunboa Martxoak 8 Irun Gipuzkoa España;X-APPLE-RADIUS=500;X-TITLE=Martxoak\, 8:geo:-1.7835254,43.3415804
END:VEVENT
BEGIN:VEVENT
DTSTART;TZID=Europe/Madrid:20240519T120000
DTEND;TZID=Europe/Madrid:20240519T130000
DTSTAMP:20260420T151950
CREATED:20240511T091808Z
LAST-MODIFIED:20240511T091812Z
UID:10035500-1716120000-1716123600@deplanesporlacomarca.com
SUMMARY:FIESTA INFANTIL DE LA PRIMAVERA 2024 - BARRIO DUMBOA (IRUN)
DESCRIPTION:Vuelve la fiesta infantil de la primavera\, organizada por la asociación de vecinos de Dunboa en Irun. Es un plan dirigido a las familias. \n\n\n\n \n\n\n\nAquí tienes todo el programa: \n\n\n\nJueves 16 y Viernes 17 de Mayo \n\n\n\n– 17.00 horas: Juegos de mesa y merienda. \n\n\n\n \n\n\n\nSábado 18 de Mayo \n\n\n\n– 11.30 horas: Concurso de pintura. \n\n\n\n– 13.00 horas: Reparto de premios del concurso de pintura. \n\n\n\n– 16.30 horas: Juegos populares con el grupo GAKO y castillos hinchables. \n\n\n\n– 17.00 horas: Carrera de motos de plástico para niñ@s de 2 y 3 años. \n\n\n\n– 18.45 horas: Merienda \n\n\n\n– 19.00 horas: Fiesta de la espuma \n\n\n\n \n\n\n\nDomingo 19 de Mayo \n\n\n\n– 12.00 horas: Actuación del mago Eriz.
URL:https://deplanesporlacomarca.com/agenda-evento/fiesta-infantil-de-la-primavera-2024-barrio-dumboa-irun/2024-05-19/
LOCATION:A. VV. Dunboa\, Martxoak\, 8\, Irun\, Gipuzkoa\, España
ATTACH;FMTTYPE=image/jpeg:https://deplanesporlacomarca.com/wp-content/uploads/2024/05/fiesta_infantil_primavera_2024_dunboa_irun.jpg
GEO:43.3415804;-1.7835254
X-APPLE-STRUCTURED-LOCATION;VALUE=URI;X-ADDRESS=A. VV. Dunboa Martxoak 8 Irun Gipuzkoa España;X-APPLE-RADIUS=500;X-TITLE=Martxoak\, 8:geo:-1.7835254,43.3415804
END:VEVENT
BEGIN:VEVENT
DTSTART;TZID=Europe/Madrid:20240518T113000
DTEND;TZID=Europe/Madrid:20240518T200000
DTSTAMP:20260420T151950
CREATED:20240511T091808Z
LAST-MODIFIED:20240511T091812Z
UID:10035499-1716031800-1716062400@deplanesporlacomarca.com
SUMMARY:FIESTA INFANTIL DE LA PRIMAVERA 2024 - BARRIO DUMBOA (IRUN)
DESCRIPTION:Vuelve la fiesta infantil de la primavera\, organizada por la asociación de vecinos de Dunboa en Irun. Es un plan dirigido a las familias. \n\n\n\n \n\n\n\nAquí tienes todo el programa: \n\n\n\nJueves 16 y Viernes 17 de Mayo \n\n\n\n– 17.00 horas: Juegos de mesa y merienda. \n\n\n\n \n\n\n\nSábado 18 de Mayo \n\n\n\n– 11.30 horas: Concurso de pintura. \n\n\n\n– 13.00 horas: Reparto de premios del concurso de pintura. \n\n\n\n– 16.30 horas: Juegos populares con el grupo GAKO y castillos hinchables. \n\n\n\n– 17.00 horas: Carrera de motos de plástico para niñ@s de 2 y 3 años. \n\n\n\n– 18.45 horas: Merienda \n\n\n\n– 19.00 horas: Fiesta de la espuma \n\n\n\n \n\n\n\nDomingo 19 de Mayo \n\n\n\n– 12.00 horas: Actuación del mago Eriz.
URL:https://deplanesporlacomarca.com/agenda-evento/fiesta-infantil-de-la-primavera-2024-barrio-dumboa-irun/2024-05-18/
LOCATION:A. VV. Dunboa\, Martxoak\, 8\, Irun\, Gipuzkoa\, España
ATTACH;FMTTYPE=image/jpeg:https://deplanesporlacomarca.com/wp-content/uploads/2024/05/fiesta_infantil_primavera_2024_dunboa_irun.jpg
GEO:43.3415804;-1.7835254
X-APPLE-STRUCTURED-LOCATION;VALUE=URI;X-ADDRESS=A. VV. Dunboa Martxoak 8 Irun Gipuzkoa España;X-APPLE-RADIUS=500;X-TITLE=Martxoak\, 8:geo:-1.7835254,43.3415804
END:VEVENT
BEGIN:VEVENT
DTSTART;TZID=Europe/Madrid:20240517T170000
DTEND;TZID=Europe/Madrid:20240517T170000
DTSTAMP:20260420T151950
CREATED:20240511T091808Z
LAST-MODIFIED:20240511T091812Z
UID:10035498-1715965200-1715965200@deplanesporlacomarca.com
SUMMARY:FIESTA INFANTIL DE LA PRIMAVERA 2024 - BARRIO DUMBOA (IRUN)
DESCRIPTION:Vuelve la fiesta infantil de la primavera\, organizada por la asociación de vecinos de Dunboa en Irun. Es un plan dirigido a las familias. \n\n\n\n \n\n\n\nAquí tienes todo el programa: \n\n\n\nJueves 16 y Viernes 17 de Mayo \n\n\n\n– 17.00 horas: Juegos de mesa y merienda. \n\n\n\n \n\n\n\nSábado 18 de Mayo \n\n\n\n– 11.30 horas: Concurso de pintura. \n\n\n\n– 13.00 horas: Reparto de premios del concurso de pintura. \n\n\n\n– 16.30 horas: Juegos populares con el grupo GAKO y castillos hinchables. \n\n\n\n– 17.00 horas: Carrera de motos de plástico para niñ@s de 2 y 3 años. \n\n\n\n– 18.45 horas: Merienda \n\n\n\n– 19.00 horas: Fiesta de la espuma \n\n\n\n \n\n\n\nDomingo 19 de Mayo \n\n\n\n– 12.00 horas: Actuación del mago Eriz.
URL:https://deplanesporlacomarca.com/agenda-evento/fiesta-infantil-de-la-primavera-2024-barrio-dumboa-irun/2024-05-17/
LOCATION:A. VV. Dunboa\, Martxoak\, 8\, Irun\, Gipuzkoa\, España
ATTACH;FMTTYPE=image/jpeg:https://deplanesporlacomarca.com/wp-content/uploads/2024/05/fiesta_infantil_primavera_2024_dunboa_irun.jpg
GEO:43.3415804;-1.7835254
X-APPLE-STRUCTURED-LOCATION;VALUE=URI;X-ADDRESS=A. VV. Dunboa Martxoak 8 Irun Gipuzkoa España;X-APPLE-RADIUS=500;X-TITLE=Martxoak\, 8:geo:-1.7835254,43.3415804
END:VEVENT
BEGIN:VEVENT
DTSTART;TZID=Europe/Madrid:20240516T170000
DTEND;TZID=Europe/Madrid:20240516T170000
DTSTAMP:20260420T151950
CREATED:20240511T091808Z
LAST-MODIFIED:20240511T091812Z
UID:10035497-1715878800-1715878800@deplanesporlacomarca.com
SUMMARY:FIESTA INFANTIL DE LA PRIMAVERA 2024 - BARRIO DUMBOA (IRUN)
DESCRIPTION:Vuelve la fiesta infantil de la primavera\, organizada por la asociación de vecinos de Dunboa en Irun. Es un plan dirigido a las familias. \n\n\n\n \n\n\n\nAquí tienes todo el programa: \n\n\n\nJueves 16 y Viernes 17 de Mayo \n\n\n\n– 17.00 horas: Juegos de mesa y merienda. \n\n\n\n \n\n\n\nSábado 18 de Mayo \n\n\n\n– 11.30 horas: Concurso de pintura. \n\n\n\n– 13.00 horas: Reparto de premios del concurso de pintura. \n\n\n\n– 16.30 horas: Juegos populares con el grupo GAKO y castillos hinchables. \n\n\n\n– 17.00 horas: Carrera de motos de plástico para niñ@s de 2 y 3 años. \n\n\n\n– 18.45 horas: Merienda \n\n\n\n– 19.00 horas: Fiesta de la espuma \n\n\n\n \n\n\n\nDomingo 19 de Mayo \n\n\n\n– 12.00 horas: Actuación del mago Eriz.
URL:https://deplanesporlacomarca.com/agenda-evento/fiesta-infantil-de-la-primavera-2024-barrio-dumboa-irun/2024-05-16/
LOCATION:A. VV. Dunboa\, Martxoak\, 8\, Irun\, Gipuzkoa\, España
ATTACH;FMTTYPE=image/jpeg:https://deplanesporlacomarca.com/wp-content/uploads/2024/05/fiesta_infantil_primavera_2024_dunboa_irun.jpg
GEO:43.3415804;-1.7835254
X-APPLE-STRUCTURED-LOCATION;VALUE=URI;X-ADDRESS=A. VV. Dunboa Martxoak 8 Irun Gipuzkoa España;X-APPLE-RADIUS=500;X-TITLE=Martxoak\, 8:geo:-1.7835254,43.3415804
END:VEVENT
BEGIN:VEVENT
DTSTART;TZID=Europe/Madrid:20240430T180000
DTEND;TZID=Europe/Madrid:20240430T200000
DTSTAMP:20260420T151950
CREATED:20240419T095643Z
LAST-MODIFIED:20240419T095647Z
UID:10035245-1714500000-1714507200@deplanesporlacomarca.com
SUMMARY:JORNADAS CULTURALES AVV. DUMBOA (IRUN)
DESCRIPTION:La AVV Dunboa de Irun\, a través de su biblioteca\, organizan unas Jornadas Culturales que se van a desarrollar en el local de la asociación vecinal y su entorno. \n\n\n\n \n\n\n\nEste es el plan previsto: \n\n\n\n–  23 de abril\, 19.00 horas: Koldo Salinas ofrece la charla «Comandos en la comandancia del Bidasoa. 1937».  \n\n\n\n– 24 de abril\, 19.00 horas: Taller de iniciación a la genealogía. \n\n\n\n– 27 de abril\, de 11.00 a 13.00 horas\, matinal de ajedrez para todas las edades que incluye un ajedrez gigante. \n\n\n\n– 28 de abril\, de 10.00 a 14.00 horas\, I Feria del Libro Bidasotarra. \n\n\n\n– 30 de abril\, Charlas literarias\, a las 18.00 horas\, con Miren Olascoaga y a las 19.00 horas\, con Román Huarte.
URL:https://deplanesporlacomarca.com/agenda-evento/jornadas-culturales-avv-dumboa-irun/2024-04-30/
LOCATION:A. VV. Dunboa\, Martxoak\, 8\, Irun\, Gipuzkoa\, España
ATTACH;FMTTYPE=image/jpeg:https://deplanesporlacomarca.com/wp-content/uploads/2024/04/jornadas_culturales_abril_2024_avv_dumboa_irun.jpg
GEO:43.3415804;-1.7835254
X-APPLE-STRUCTURED-LOCATION;VALUE=URI;X-ADDRESS=A. VV. Dunboa Martxoak 8 Irun Gipuzkoa España;X-APPLE-RADIUS=500;X-TITLE=Martxoak\, 8:geo:-1.7835254,43.3415804
END:VEVENT
BEGIN:VEVENT
DTSTART;TZID=Europe/Madrid:20240428T100000
DTEND;TZID=Europe/Madrid:20240428T140000
DTSTAMP:20260420T151950
CREATED:20240419T095643Z
LAST-MODIFIED:20240419T095647Z
UID:10035244-1714298400-1714312800@deplanesporlacomarca.com
SUMMARY:JORNADAS CULTURALES AVV. DUMBOA (IRUN)
DESCRIPTION:La AVV Dunboa de Irun\, a través de su biblioteca\, organizan unas Jornadas Culturales que se van a desarrollar en el local de la asociación vecinal y su entorno. \n\n\n\n \n\n\n\nEste es el plan previsto: \n\n\n\n–  23 de abril\, 19.00 horas: Koldo Salinas ofrece la charla «Comandos en la comandancia del Bidasoa. 1937».  \n\n\n\n– 24 de abril\, 19.00 horas: Taller de iniciación a la genealogía. \n\n\n\n– 27 de abril\, de 11.00 a 13.00 horas\, matinal de ajedrez para todas las edades que incluye un ajedrez gigante. \n\n\n\n– 28 de abril\, de 10.00 a 14.00 horas\, I Feria del Libro Bidasotarra. \n\n\n\n– 30 de abril\, Charlas literarias\, a las 18.00 horas\, con Miren Olascoaga y a las 19.00 horas\, con Román Huarte.
URL:https://deplanesporlacomarca.com/agenda-evento/jornadas-culturales-avv-dumboa-irun/2024-04-28/
LOCATION:A. VV. Dunboa\, Martxoak\, 8\, Irun\, Gipuzkoa\, España
ATTACH;FMTTYPE=image/jpeg:https://deplanesporlacomarca.com/wp-content/uploads/2024/04/jornadas_culturales_abril_2024_avv_dumboa_irun.jpg
GEO:43.3415804;-1.7835254
X-APPLE-STRUCTURED-LOCATION;VALUE=URI;X-ADDRESS=A. VV. Dunboa Martxoak 8 Irun Gipuzkoa España;X-APPLE-RADIUS=500;X-TITLE=Martxoak\, 8:geo:-1.7835254,43.3415804
END:VEVENT
BEGIN:VEVENT
DTSTART;TZID=Europe/Madrid:20240427T110000
DTEND;TZID=Europe/Madrid:20240427T130000
DTSTAMP:20260420T151950
CREATED:20240419T095643Z
LAST-MODIFIED:20240419T095647Z
UID:10035243-1714215600-1714222800@deplanesporlacomarca.com
SUMMARY:JORNADAS CULTURALES AVV. DUMBOA (IRUN)
DESCRIPTION:La AVV Dunboa de Irun\, a través de su biblioteca\, organizan unas Jornadas Culturales que se van a desarrollar en el local de la asociación vecinal y su entorno. \n\n\n\n \n\n\n\nEste es el plan previsto: \n\n\n\n–  23 de abril\, 19.00 horas: Koldo Salinas ofrece la charla «Comandos en la comandancia del Bidasoa. 1937».  \n\n\n\n– 24 de abril\, 19.00 horas: Taller de iniciación a la genealogía. \n\n\n\n– 27 de abril\, de 11.00 a 13.00 horas\, matinal de ajedrez para todas las edades que incluye un ajedrez gigante. \n\n\n\n– 28 de abril\, de 10.00 a 14.00 horas\, I Feria del Libro Bidasotarra. \n\n\n\n– 30 de abril\, Charlas literarias\, a las 18.00 horas\, con Miren Olascoaga y a las 19.00 horas\, con Román Huarte.
URL:https://deplanesporlacomarca.com/agenda-evento/jornadas-culturales-avv-dumboa-irun/2024-04-27/
LOCATION:A. VV. Dunboa\, Martxoak\, 8\, Irun\, Gipuzkoa\, España
ATTACH;FMTTYPE=image/jpeg:https://deplanesporlacomarca.com/wp-content/uploads/2024/04/jornadas_culturales_abril_2024_avv_dumboa_irun.jpg
GEO:43.3415804;-1.7835254
X-APPLE-STRUCTURED-LOCATION;VALUE=URI;X-ADDRESS=A. VV. Dunboa Martxoak 8 Irun Gipuzkoa España;X-APPLE-RADIUS=500;X-TITLE=Martxoak\, 8:geo:-1.7835254,43.3415804
END:VEVENT
BEGIN:VEVENT
DTSTART;TZID=Europe/Madrid:20240424T190000
DTEND;TZID=Europe/Madrid:20240424T190000
DTSTAMP:20260420T151950
CREATED:20240419T095643Z
LAST-MODIFIED:20240419T095647Z
UID:10035242-1713985200-1713985200@deplanesporlacomarca.com
SUMMARY:JORNADAS CULTURALES AVV. DUMBOA (IRUN)
DESCRIPTION:La AVV Dunboa de Irun\, a través de su biblioteca\, organizan unas Jornadas Culturales que se van a desarrollar en el local de la asociación vecinal y su entorno. \n\n\n\n \n\n\n\nEste es el plan previsto: \n\n\n\n–  23 de abril\, 19.00 horas: Koldo Salinas ofrece la charla «Comandos en la comandancia del Bidasoa. 1937».  \n\n\n\n– 24 de abril\, 19.00 horas: Taller de iniciación a la genealogía. \n\n\n\n– 27 de abril\, de 11.00 a 13.00 horas\, matinal de ajedrez para todas las edades que incluye un ajedrez gigante. \n\n\n\n– 28 de abril\, de 10.00 a 14.00 horas\, I Feria del Libro Bidasotarra. \n\n\n\n– 30 de abril\, Charlas literarias\, a las 18.00 horas\, con Miren Olascoaga y a las 19.00 horas\, con Román Huarte.
URL:https://deplanesporlacomarca.com/agenda-evento/jornadas-culturales-avv-dumboa-irun/2024-04-24/
LOCATION:A. VV. Dunboa\, Martxoak\, 8\, Irun\, Gipuzkoa\, España
ATTACH;FMTTYPE=image/jpeg:https://deplanesporlacomarca.com/wp-content/uploads/2024/04/jornadas_culturales_abril_2024_avv_dumboa_irun.jpg
GEO:43.3415804;-1.7835254
X-APPLE-STRUCTURED-LOCATION;VALUE=URI;X-ADDRESS=A. VV. Dunboa Martxoak 8 Irun Gipuzkoa España;X-APPLE-RADIUS=500;X-TITLE=Martxoak\, 8:geo:-1.7835254,43.3415804
END:VEVENT
BEGIN:VEVENT
DTSTART;TZID=Europe/Madrid:20240423T190000
DTEND;TZID=Europe/Madrid:20240423T190000
DTSTAMP:20260420T151950
CREATED:20240419T095643Z
LAST-MODIFIED:20240419T095647Z
UID:10035241-1713898800-1713898800@deplanesporlacomarca.com
SUMMARY:JORNADAS CULTURALES AVV. DUMBOA (IRUN)
DESCRIPTION:La AVV Dunboa de Irun\, a través de su biblioteca\, organizan unas Jornadas Culturales que se van a desarrollar en el local de la asociación vecinal y su entorno. \n\n\n\n \n\n\n\nEste es el plan previsto: \n\n\n\n–  23 de abril\, 19.00 horas: Koldo Salinas ofrece la charla «Comandos en la comandancia del Bidasoa. 1937».  \n\n\n\n– 24 de abril\, 19.00 horas: Taller de iniciación a la genealogía. \n\n\n\n– 27 de abril\, de 11.00 a 13.00 horas\, matinal de ajedrez para todas las edades que incluye un ajedrez gigante. \n\n\n\n– 28 de abril\, de 10.00 a 14.00 horas\, I Feria del Libro Bidasotarra. \n\n\n\n– 30 de abril\, Charlas literarias\, a las 18.00 horas\, con Miren Olascoaga y a las 19.00 horas\, con Román Huarte.
URL:https://deplanesporlacomarca.com/agenda-evento/jornadas-culturales-avv-dumboa-irun/2024-04-23/
LOCATION:A. VV. Dunboa\, Martxoak\, 8\, Irun\, Gipuzkoa\, España
ATTACH;FMTTYPE=image/jpeg:https://deplanesporlacomarca.com/wp-content/uploads/2024/04/jornadas_culturales_abril_2024_avv_dumboa_irun.jpg
GEO:43.3415804;-1.7835254
X-APPLE-STRUCTURED-LOCATION;VALUE=URI;X-ADDRESS=A. VV. Dunboa Martxoak 8 Irun Gipuzkoa España;X-APPLE-RADIUS=500;X-TITLE=Martxoak\, 8:geo:-1.7835254,43.3415804
END:VEVENT
END:VCALENDAR