BEGIN:VCALENDAR
VERSION:2.0
PRODID:-//De planes por la comarca - ECPv6.15.20//NONSGML v1.0//EN
CALSCALE:GREGORIAN
METHOD:PUBLISH
X-WR-CALNAME:De planes por la comarca
X-ORIGINAL-URL:https://deplanesporlacomarca.com
X-WR-CALDESC:Eventos para De planes por la comarca
REFRESH-INTERVAL;VALUE=DURATION:PT1H
X-Robots-Tag:noindex
X-PUBLISHED-TTL:PT1H
BEGIN:VTIMEZONE
TZID:Europe/Madrid
BEGIN:DAYLIGHT
TZOFFSETFROM:+0100
TZOFFSETTO:+0200
TZNAME:CEST
DTSTART:20230326T010000
END:DAYLIGHT
BEGIN:STANDARD
TZOFFSETFROM:+0200
TZOFFSETTO:+0100
TZNAME:CET
DTSTART:20231029T010000
END:STANDARD
BEGIN:DAYLIGHT
TZOFFSETFROM:+0100
TZOFFSETTO:+0200
TZNAME:CEST
DTSTART:20240331T010000
END:DAYLIGHT
BEGIN:STANDARD
TZOFFSETFROM:+0200
TZOFFSETTO:+0100
TZNAME:CET
DTSTART:20241027T010000
END:STANDARD
BEGIN:DAYLIGHT
TZOFFSETFROM:+0100
TZOFFSETTO:+0200
TZNAME:CEST
DTSTART:20250330T010000
END:DAYLIGHT
BEGIN:STANDARD
TZOFFSETFROM:+0200
TZOFFSETTO:+0100
TZNAME:CET
DTSTART:20251026T010000
END:STANDARD
BEGIN:DAYLIGHT
TZOFFSETFROM:+0100
TZOFFSETTO:+0200
TZNAME:CEST
DTSTART:20260329T010000
END:DAYLIGHT
BEGIN:STANDARD
TZOFFSETFROM:+0200
TZOFFSETTO:+0100
TZNAME:CET
DTSTART:20261025T010000
END:STANDARD
END:VTIMEZONE
BEGIN:VEVENT
DTSTART;TZID=Europe/Madrid:20250510T100000
DTEND;TZID=Europe/Madrid:20250510T140000
DTSTAMP:20260421T160148
CREATED:20250428T081813Z
LAST-MODIFIED:20250428T081816Z
UID:10039273-1746871200-1746885600@deplanesporlacomarca.com
SUMMARY:"TALLER DE ACUARELA" - ACADEMIA DE DIBUJO Y PINTURA (IRUN)
DESCRIPTION:La Academia Municipal de Dibujo y Pintura de Irun organiza un taller sobre la técnica de acuarela\, a partir de las 10.00 horas. \n\n\n\n \n\n\n\nEste taller de masterclass tiene como objetivo practicar la técnica de acuarela. Cada alumno participará desde su nivel de experiencia. La actividad se dividirá en dos partes: en la primera\, el pintor expondrá y explicará su obra\, y en la segunda\, los participantes realizarán un trabajo práctico bajo la supervisión del artista. \n\n\n\n \n\n\n\nLas personas interesadas pueden realizar la inscripción hasta el próximo 6 de mayo\, a través de este enlace. El plan tiene un precio de 21\,60 Euros. \n\n\n\n \n\n\n\nEl grupo se formará con un mínimo de cinco personas y un máximo de quince. \n\n\n\n \n\n\n\nMateriales: Papel de acuarela\, pinceles\, pinturas. \n\n\n\n \n\n\n\nPara participar en el taller no es necesario tener conocimientos previos.
URL:https://deplanesporlacomarca.com/agenda-evento/taller-de-acuarela-academia-de-dibujo-y-pintura-irun/
LOCATION:Academia Municipal de Dibujo y Pintura\, c/ Reina Fabiola\, 28\, Irun\, Gipuzkoa\, España
GEO:43.3386981;-1.809348
X-APPLE-STRUCTURED-LOCATION;VALUE=URI;X-ADDRESS=Academia Municipal de Dibujo y Pintura c/ Reina Fabiola 28 Irun Gipuzkoa España;X-APPLE-RADIUS=500;X-TITLE=c/ Reina Fabiola\, 28:geo:-1.809348,43.3386981
END:VEVENT
BEGIN:VEVENT
DTSTART;TZID=Europe/Madrid:20250301T100000
DTEND;TZID=Europe/Madrid:20250301T140000
DTSTAMP:20260421T160148
CREATED:20250214T130644Z
LAST-MODIFIED:20250214T130648Z
UID:10038464-1740823200-1740837600@deplanesporlacomarca.com
SUMMARY:TALLER\, "FIGURA CON MODELO" - ACADEMIA MUNICIPAL DE DIBUJO Y PINTURA (IRUN)
DESCRIPTION:Taller de figuras que tiene lugar\, entre las 10.00 y las 14.00 horas\, en la Academia Municipal de Pintura y Dibujo de Irun. L@s participantes realizarán prácticas de representación del cuerpo humano con la ayuda de una modelo profesional. \n\n\n\n \n\n\n\nLos materiales básicos serán el papel\, el lápiz y el carboncillo\, además de los materiales que los destinatarios utilizan habitualmente o tienen a su disposición como aceite\, acuarelas y pasteles. \n\n\n\n \n\n\n\nEl plan está dirigido a todos los públicos mayores de 16 años\, tiene un precio de 35\,60 Euros y puedes inscribirte en este enlace\, desde el 17 al 26 de febrero. \n\n\n\n \n\n\n\nPara participar en el taller no es necesario tener conocimientos previos de dibujo o pintura.
URL:https://deplanesporlacomarca.com/agenda-evento/taller-figura-con-modelo-academia-municipal-de-dibujo-y-pintura-irun/
LOCATION:Academia Municipal de Dibujo y Pintura\, c/ Reina Fabiola\, 28\, Irun\, Gipuzkoa\, España
ATTACH;FMTTYPE=image/jpeg:https://deplanesporlacomarca.com/wp-content/uploads/2025/02/taller_figura_con_modelo_1_marzo_2025_academia_municipal_dibujo_pintura_irun.jpg
GEO:43.3386981;-1.809348
X-APPLE-STRUCTURED-LOCATION;VALUE=URI;X-ADDRESS=Academia Municipal de Dibujo y Pintura c/ Reina Fabiola 28 Irun Gipuzkoa España;X-APPLE-RADIUS=500;X-TITLE=c/ Reina Fabiola\, 28:geo:-1.809348,43.3386981
END:VEVENT
BEGIN:VEVENT
DTSTART;TZID=Europe/Madrid:20241130T100000
DTEND;TZID=Europe/Madrid:20241130T140000
DTSTAMP:20260421T160148
CREATED:20241119T132259Z
LAST-MODIFIED:20241119T132305Z
UID:10037283-1732960800-1732975200@deplanesporlacomarca.com
SUMMARY:MASTERCLASS CON AINIZE TXOPITEA - ACADEMIA MUNICIPAL DE DIBUJO Y PINTURA (IRUN)
DESCRIPTION:En esta masterclass/taller que tiene lugar en la Academia Municipal de Dibujo y Pintura de Irun\, Ainize Txopitea nos mostrará su trabajo y haremos una práctica basada en el collage. \n\n\n\n \n\n\n\nAinize Txopitea (Donostia-San Sebastián\, 1977) es una artista multidisciplinar que desde una edad temprana desarrolla una sensibilidad especial por los elementos que la rodean\, los cuales transcribe en su trabajo empleando medios como el collage\, la fotografía\, las técnicas mixtas\, y los soportes audiovisuales. Su enfoque destaca por seguir una línea estética de profundidad emotiva y conceptual\, donde se integran el lenguaje y la imagen\, la poesía y lo visual\, buscando crear una conexión entre el ser humano y la naturaleza. \n\n\n\n \n\n\n\nAinize se graduó en Digital Media Production en University of the Arts de Londres\, 2002\, donde perfeccionó su talento artístico y su vocación rupturista desarrollando su propio lenguaje. Con 20 años de trayectoria a sus espaldas\, desde sus primeras muestras en museos\, galerías e instituciones en el panorama artístico nacional e internacional\, destaca por su personal búsqueda por las cuestiones existenciales impregnando de su esencia en sus obras\, depuradas a menudo en mensajes lanzados al espectador. \n\n\n\n \n\n\n\nEl plan está dirigido a todos los públicos mayores de 16 años\, tiene un precio de 21\,60 Euros y puedes inscribirte en este enlace. \n\n\n\n \n\n\n\nNo es necesario tener conocimientos previos para participar en el taller.
URL:https://deplanesporlacomarca.com/agenda-evento/masterclass-con-ainize-txopitea-academia-municipal-de-dibujo-y-pintura-irun/
LOCATION:Academia Municipal de Dibujo y Pintura\, c/ Reina Fabiola\, 28\, Irun\, Gipuzkoa\, España
ATTACH;FMTTYPE=image/jpeg:https://deplanesporlacomarca.com/wp-content/uploads/2024/11/masterclass_taller_ainize_txopitea_30_noviembre_2024_academia_dibujo_pintura_irun.jpg
GEO:43.3386981;-1.809348
X-APPLE-STRUCTURED-LOCATION;VALUE=URI;X-ADDRESS=Academia Municipal de Dibujo y Pintura c/ Reina Fabiola 28 Irun Gipuzkoa España;X-APPLE-RADIUS=500;X-TITLE=c/ Reina Fabiola\, 28:geo:-1.809348,43.3386981
END:VEVENT
BEGIN:VEVENT
DTSTART;TZID=Europe/Madrid:20240511T100000
DTEND;TZID=Europe/Madrid:20240511T140000
DTSTAMP:20260421T160148
CREATED:20240430T160935Z
LAST-MODIFIED:20240430T160940Z
UID:10035383-1715421600-1715436000@deplanesporlacomarca.com
SUMMARY:CURSO DE PINTURA AL AIRE LIBRE - 11 DE MAYO - ACADEMIA DE DIBUJO Y PINTURA (IRUN)
DESCRIPTION:El área de Cultura del Ayuntamiento de Irun informa de esta actividad que organiza la Academia de Dibujo y Pintura de Irun. \n\n\n\n \n\n\n\nEl plan de hoy es un curso de pintura al aire libre. Tendrá cuatro horas de duración y se dirige a personas interesadas en el paisaje y su representación del natural. Este taller tiene como propósito el acercamiento al paisaje en nuestro entorno del Bidasoa y disfrutar del aire libre realizando una actividad placentera. No requiere conocimientos previos. La cita es es de 10.00 a 14.00 horas. \n\n\n\n \n\n\n\nPartiendo de la composición\, el dibujo\, y la mancha hasta el acabado final. Este taller pretende resolver en un pequeño formato un apunte resuelto que suponga un primer paso para futuros trabajos. Además\, se estudiará el procedimiento (óleo\, acuarela\, lápices\, etc.) más adecuado a las necesidades de cada uno. \n\n\n\n \n\n\n\nEl precio es de 21\,60 Euros y las inscripciones serán hasta el 8 de mayo y las personas interesadas se pueden inscribir\, a través de la sede electrónica. Si necesitas más información puedes escribir al correo pinturamargoa@irun.org o llamar al 606 220 417 ó 695 752 994. El grupo se formará con un mínimo de 5 personas y un máximo de 15 alumnos.
URL:https://deplanesporlacomarca.com/agenda-evento/curso-de-pintura-al-aire-libre-11-de-mayo-academia-de-dibujo-y-pintura-irun/
LOCATION:Academia Municipal de Dibujo y Pintura\, c/ Reina Fabiola\, 28\, Irun\, Gipuzkoa\, España
ATTACH;FMTTYPE=image/jpeg:https://deplanesporlacomarca.com/wp-content/uploads/2024/04/curso_pintura_al_aire_libre_11_mayo_2024_academia_municipal_dibujo_pintura_irun.jpg
GEO:43.3386981;-1.809348
X-APPLE-STRUCTURED-LOCATION;VALUE=URI;X-ADDRESS=Academia Municipal de Dibujo y Pintura c/ Reina Fabiola 28 Irun Gipuzkoa España;X-APPLE-RADIUS=500;X-TITLE=c/ Reina Fabiola\, 28:geo:-1.809348,43.3386981
END:VEVENT
END:VCALENDAR