BEGIN:VCALENDAR
VERSION:2.0
PRODID:-//De planes por la comarca - ECPv6.15.20//NONSGML v1.0//EN
CALSCALE:GREGORIAN
METHOD:PUBLISH
X-WR-CALNAME:De planes por la comarca
X-ORIGINAL-URL:https://deplanesporlacomarca.com
X-WR-CALDESC:Eventos para De planes por la comarca
REFRESH-INTERVAL;VALUE=DURATION:PT1H
X-Robots-Tag:noindex
X-PUBLISHED-TTL:PT1H
BEGIN:VTIMEZONE
TZID:Europe/Madrid
BEGIN:DAYLIGHT
TZOFFSETFROM:+0100
TZOFFSETTO:+0200
TZNAME:CEST
DTSTART:20230326T010000
END:DAYLIGHT
BEGIN:STANDARD
TZOFFSETFROM:+0200
TZOFFSETTO:+0100
TZNAME:CET
DTSTART:20231029T010000
END:STANDARD
BEGIN:DAYLIGHT
TZOFFSETFROM:+0100
TZOFFSETTO:+0200
TZNAME:CEST
DTSTART:20240331T010000
END:DAYLIGHT
BEGIN:STANDARD
TZOFFSETFROM:+0200
TZOFFSETTO:+0100
TZNAME:CET
DTSTART:20241027T010000
END:STANDARD
BEGIN:DAYLIGHT
TZOFFSETFROM:+0100
TZOFFSETTO:+0200
TZNAME:CEST
DTSTART:20250330T010000
END:DAYLIGHT
BEGIN:STANDARD
TZOFFSETFROM:+0200
TZOFFSETTO:+0100
TZNAME:CET
DTSTART:20251026T010000
END:STANDARD
END:VTIMEZONE
BEGIN:VEVENT
DTSTART;TZID=Europe/Madrid:20240809T220000
DTEND;TZID=Europe/Madrid:20240809T220000
DTSTAMP:20260420T142207
CREATED:20240704T141837Z
LAST-MODIFIED:20240704T141840Z
UID:10036094-1723240800-1723240800@deplanesporlacomarca.com
SUMMARY:VISITA GUIADA\, "NOCHES DE LUZ" - JULIO - AGOSTO 2024 (HONDARRIBIA)
DESCRIPTION:Este verano\, de entre las diferentes visitas guiadas que han preparado en Arma Plaza\, para conocer y/o descubrir Hondarribia\, está la realización de una visita nocturna que tiene lugar cada viernes\, durante los meses de julio y agosto. \n\n\n\n \n\n\n\nEntre sombras del pasado descubriremos lugares cargados de historia y misterio. Pasear por las calles medievales y escuchar los relatos de cazadores de ballenas y personajes ilustres de Hondarribia marcarán la visita más “oscura” y brillante de la noche. \n\n\n\n \n\n\n\n¡No olvidarás esta visita! \n\n\n\n \n\n\n\nEl plan tiene una duración de 90 minutos\, un precio de 10 Euros (gratuito para los hondarribiarras y para menores de 12 años) y está limitado a 15 participantes. Comienza a las 22.00 horas (recomendable acudir al punto de encuentro en Arma Plaza\, a las 21.45 horas). \n\n\n\n \n\n\n\nPuedes hacer tu reserva previamente en la Oficina de turismo o a través\, de este enlace.
URL:https://deplanesporlacomarca.com/agenda-evento/visita-guiada-noches-de-luz-julio-agosto-2024-hondarribia/2024-08-09/
LOCATION:Arma Plaza\, Información cultural y turística\, Arma Plaza\, 9\, Hondarribia\, Gipuzkoa\, 20280\, España
ATTACH;FMTTYPE=image/jpeg:https://deplanesporlacomarca.com/wp-content/uploads/2022/07/de-planes-por-la-comarca-hondarribia-gipuzkoa-bidasoa-txingudi-detxokos-515.jpg
GEO:43.3636037;-1.7916066
X-APPLE-STRUCTURED-LOCATION;VALUE=URI;X-ADDRESS=Arma Plaza Información cultural y turística Arma Plaza 9 Hondarribia Gipuzkoa 20280 España;X-APPLE-RADIUS=500;X-TITLE=Arma Plaza\, 9:geo:-1.7916066,43.3636037
END:VEVENT
BEGIN:VEVENT
DTSTART;TZID=Europe/Madrid:20240802T220000
DTEND;TZID=Europe/Madrid:20240802T220000
DTSTAMP:20260420T142207
CREATED:20240704T141837Z
LAST-MODIFIED:20240704T141840Z
UID:10036093-1722636000-1722636000@deplanesporlacomarca.com
SUMMARY:VISITA GUIADA\, "NOCHES DE LUZ" - JULIO - AGOSTO 2024 (HONDARRIBIA)
DESCRIPTION:Este verano\, de entre las diferentes visitas guiadas que han preparado en Arma Plaza\, para conocer y/o descubrir Hondarribia\, está la realización de una visita nocturna que tiene lugar cada viernes\, durante los meses de julio y agosto. \n\n\n\n \n\n\n\nEntre sombras del pasado descubriremos lugares cargados de historia y misterio. Pasear por las calles medievales y escuchar los relatos de cazadores de ballenas y personajes ilustres de Hondarribia marcarán la visita más “oscura” y brillante de la noche. \n\n\n\n \n\n\n\n¡No olvidarás esta visita! \n\n\n\n \n\n\n\nEl plan tiene una duración de 90 minutos\, un precio de 10 Euros (gratuito para los hondarribiarras y para menores de 12 años) y está limitado a 15 participantes. Comienza a las 22.00 horas (recomendable acudir al punto de encuentro en Arma Plaza\, a las 21.45 horas). \n\n\n\n \n\n\n\nPuedes hacer tu reserva previamente en la Oficina de turismo o a través\, de este enlace.
URL:https://deplanesporlacomarca.com/agenda-evento/visita-guiada-noches-de-luz-julio-agosto-2024-hondarribia/2024-08-02/
LOCATION:Arma Plaza\, Información cultural y turística\, Arma Plaza\, 9\, Hondarribia\, Gipuzkoa\, 20280\, España
ATTACH;FMTTYPE=image/jpeg:https://deplanesporlacomarca.com/wp-content/uploads/2022/07/de-planes-por-la-comarca-hondarribia-gipuzkoa-bidasoa-txingudi-detxokos-515.jpg
GEO:43.3636037;-1.7916066
X-APPLE-STRUCTURED-LOCATION;VALUE=URI;X-ADDRESS=Arma Plaza Información cultural y turística Arma Plaza 9 Hondarribia Gipuzkoa 20280 España;X-APPLE-RADIUS=500;X-TITLE=Arma Plaza\, 9:geo:-1.7916066,43.3636037
END:VEVENT
BEGIN:VEVENT
DTSTART;TZID=Europe/Madrid:20240726T220000
DTEND;TZID=Europe/Madrid:20240726T220000
DTSTAMP:20260420T142207
CREATED:20240704T141837Z
LAST-MODIFIED:20240704T141840Z
UID:10036092-1722031200-1722031200@deplanesporlacomarca.com
SUMMARY:VISITA GUIADA\, "NOCHES DE LUZ" - JULIO - AGOSTO 2024 (HONDARRIBIA)
DESCRIPTION:Este verano\, de entre las diferentes visitas guiadas que han preparado en Arma Plaza\, para conocer y/o descubrir Hondarribia\, está la realización de una visita nocturna que tiene lugar cada viernes\, durante los meses de julio y agosto. \n\n\n\n \n\n\n\nEntre sombras del pasado descubriremos lugares cargados de historia y misterio. Pasear por las calles medievales y escuchar los relatos de cazadores de ballenas y personajes ilustres de Hondarribia marcarán la visita más “oscura” y brillante de la noche. \n\n\n\n \n\n\n\n¡No olvidarás esta visita! \n\n\n\n \n\n\n\nEl plan tiene una duración de 90 minutos\, un precio de 10 Euros (gratuito para los hondarribiarras y para menores de 12 años) y está limitado a 15 participantes. Comienza a las 22.00 horas (recomendable acudir al punto de encuentro en Arma Plaza\, a las 21.45 horas). \n\n\n\n \n\n\n\nPuedes hacer tu reserva previamente en la Oficina de turismo o a través\, de este enlace.
URL:https://deplanesporlacomarca.com/agenda-evento/visita-guiada-noches-de-luz-julio-agosto-2024-hondarribia/2024-07-26/
LOCATION:Arma Plaza\, Información cultural y turística\, Arma Plaza\, 9\, Hondarribia\, Gipuzkoa\, 20280\, España
ATTACH;FMTTYPE=image/jpeg:https://deplanesporlacomarca.com/wp-content/uploads/2022/07/de-planes-por-la-comarca-hondarribia-gipuzkoa-bidasoa-txingudi-detxokos-515.jpg
GEO:43.3636037;-1.7916066
X-APPLE-STRUCTURED-LOCATION;VALUE=URI;X-ADDRESS=Arma Plaza Información cultural y turística Arma Plaza 9 Hondarribia Gipuzkoa 20280 España;X-APPLE-RADIUS=500;X-TITLE=Arma Plaza\, 9:geo:-1.7916066,43.3636037
END:VEVENT
BEGIN:VEVENT
DTSTART;TZID=Europe/Madrid:20240719T220000
DTEND;TZID=Europe/Madrid:20240719T220000
DTSTAMP:20260420T142207
CREATED:20240704T141837Z
LAST-MODIFIED:20240704T141840Z
UID:10036091-1721426400-1721426400@deplanesporlacomarca.com
SUMMARY:VISITA GUIADA\, "NOCHES DE LUZ" - JULIO - AGOSTO 2024 (HONDARRIBIA)
DESCRIPTION:Este verano\, de entre las diferentes visitas guiadas que han preparado en Arma Plaza\, para conocer y/o descubrir Hondarribia\, está la realización de una visita nocturna que tiene lugar cada viernes\, durante los meses de julio y agosto. \n\n\n\n \n\n\n\nEntre sombras del pasado descubriremos lugares cargados de historia y misterio. Pasear por las calles medievales y escuchar los relatos de cazadores de ballenas y personajes ilustres de Hondarribia marcarán la visita más “oscura” y brillante de la noche. \n\n\n\n \n\n\n\n¡No olvidarás esta visita! \n\n\n\n \n\n\n\nEl plan tiene una duración de 90 minutos\, un precio de 10 Euros (gratuito para los hondarribiarras y para menores de 12 años) y está limitado a 15 participantes. Comienza a las 22.00 horas (recomendable acudir al punto de encuentro en Arma Plaza\, a las 21.45 horas). \n\n\n\n \n\n\n\nPuedes hacer tu reserva previamente en la Oficina de turismo o a través\, de este enlace.
URL:https://deplanesporlacomarca.com/agenda-evento/visita-guiada-noches-de-luz-julio-agosto-2024-hondarribia/2024-07-19/
LOCATION:Arma Plaza\, Información cultural y turística\, Arma Plaza\, 9\, Hondarribia\, Gipuzkoa\, 20280\, España
ATTACH;FMTTYPE=image/jpeg:https://deplanesporlacomarca.com/wp-content/uploads/2022/07/de-planes-por-la-comarca-hondarribia-gipuzkoa-bidasoa-txingudi-detxokos-515.jpg
GEO:43.3636037;-1.7916066
X-APPLE-STRUCTURED-LOCATION;VALUE=URI;X-ADDRESS=Arma Plaza Información cultural y turística Arma Plaza 9 Hondarribia Gipuzkoa 20280 España;X-APPLE-RADIUS=500;X-TITLE=Arma Plaza\, 9:geo:-1.7916066,43.3636037
END:VEVENT
BEGIN:VEVENT
DTSTART;TZID=Europe/Madrid:20240712T220000
DTEND;TZID=Europe/Madrid:20240712T220000
DTSTAMP:20260420T142207
CREATED:20240704T141837Z
LAST-MODIFIED:20240704T141840Z
UID:10036090-1720821600-1720821600@deplanesporlacomarca.com
SUMMARY:VISITA GUIADA\, "NOCHES DE LUZ" - JULIO - AGOSTO 2024 (HONDARRIBIA)
DESCRIPTION:Este verano\, de entre las diferentes visitas guiadas que han preparado en Arma Plaza\, para conocer y/o descubrir Hondarribia\, está la realización de una visita nocturna que tiene lugar cada viernes\, durante los meses de julio y agosto. \n\n\n\n \n\n\n\nEntre sombras del pasado descubriremos lugares cargados de historia y misterio. Pasear por las calles medievales y escuchar los relatos de cazadores de ballenas y personajes ilustres de Hondarribia marcarán la visita más “oscura” y brillante de la noche. \n\n\n\n \n\n\n\n¡No olvidarás esta visita! \n\n\n\n \n\n\n\nEl plan tiene una duración de 90 minutos\, un precio de 10 Euros (gratuito para los hondarribiarras y para menores de 12 años) y está limitado a 15 participantes. Comienza a las 22.00 horas (recomendable acudir al punto de encuentro en Arma Plaza\, a las 21.45 horas). \n\n\n\n \n\n\n\nPuedes hacer tu reserva previamente en la Oficina de turismo o a través\, de este enlace.
URL:https://deplanesporlacomarca.com/agenda-evento/visita-guiada-noches-de-luz-julio-agosto-2024-hondarribia/2024-07-12/
LOCATION:Arma Plaza\, Información cultural y turística\, Arma Plaza\, 9\, Hondarribia\, Gipuzkoa\, 20280\, España
ATTACH;FMTTYPE=image/jpeg:https://deplanesporlacomarca.com/wp-content/uploads/2022/07/de-planes-por-la-comarca-hondarribia-gipuzkoa-bidasoa-txingudi-detxokos-515.jpg
GEO:43.3636037;-1.7916066
X-APPLE-STRUCTURED-LOCATION;VALUE=URI;X-ADDRESS=Arma Plaza Información cultural y turística Arma Plaza 9 Hondarribia Gipuzkoa 20280 España;X-APPLE-RADIUS=500;X-TITLE=Arma Plaza\, 9:geo:-1.7916066,43.3636037
END:VEVENT
BEGIN:VEVENT
DTSTART;TZID=Europe/Madrid:20240705T220000
DTEND;TZID=Europe/Madrid:20240705T220000
DTSTAMP:20260420T142207
CREATED:20240704T141837Z
LAST-MODIFIED:20240704T141840Z
UID:10036089-1720216800-1720216800@deplanesporlacomarca.com
SUMMARY:VISITA GUIADA\, "NOCHES DE LUZ" - JULIO - AGOSTO 2024 (HONDARRIBIA)
DESCRIPTION:Este verano\, de entre las diferentes visitas guiadas que han preparado en Arma Plaza\, para conocer y/o descubrir Hondarribia\, está la realización de una visita nocturna que tiene lugar cada viernes\, durante los meses de julio y agosto. \n\n\n\n \n\n\n\nEntre sombras del pasado descubriremos lugares cargados de historia y misterio. Pasear por las calles medievales y escuchar los relatos de cazadores de ballenas y personajes ilustres de Hondarribia marcarán la visita más “oscura” y brillante de la noche. \n\n\n\n \n\n\n\n¡No olvidarás esta visita! \n\n\n\n \n\n\n\nEl plan tiene una duración de 90 minutos\, un precio de 10 Euros (gratuito para los hondarribiarras y para menores de 12 años) y está limitado a 15 participantes. Comienza a las 22.00 horas (recomendable acudir al punto de encuentro en Arma Plaza\, a las 21.45 horas). \n\n\n\n \n\n\n\nPuedes hacer tu reserva previamente en la Oficina de turismo o a través\, de este enlace.
URL:https://deplanesporlacomarca.com/agenda-evento/visita-guiada-noches-de-luz-julio-agosto-2024-hondarribia/2024-07-05/
LOCATION:Arma Plaza\, Información cultural y turística\, Arma Plaza\, 9\, Hondarribia\, Gipuzkoa\, 20280\, España
ATTACH;FMTTYPE=image/jpeg:https://deplanesporlacomarca.com/wp-content/uploads/2022/07/de-planes-por-la-comarca-hondarribia-gipuzkoa-bidasoa-txingudi-detxokos-515.jpg
GEO:43.3636037;-1.7916066
X-APPLE-STRUCTURED-LOCATION;VALUE=URI;X-ADDRESS=Arma Plaza Información cultural y turística Arma Plaza 9 Hondarribia Gipuzkoa 20280 España;X-APPLE-RADIUS=500;X-TITLE=Arma Plaza\, 9:geo:-1.7916066,43.3636037
END:VEVENT
END:VCALENDAR