BEGIN:VCALENDAR
VERSION:2.0
PRODID:-//De planes por la comarca - ECPv6.15.20//NONSGML v1.0//EN
CALSCALE:GREGORIAN
METHOD:PUBLISH
X-WR-CALNAME:De planes por la comarca
X-ORIGINAL-URL:https://deplanesporlacomarca.com
X-WR-CALDESC:Eventos para De planes por la comarca
REFRESH-INTERVAL;VALUE=DURATION:PT1H
X-Robots-Tag:noindex
X-PUBLISHED-TTL:PT1H
BEGIN:VTIMEZONE
TZID:Europe/Madrid
BEGIN:DAYLIGHT
TZOFFSETFROM:+0100
TZOFFSETTO:+0200
TZNAME:CEST
DTSTART:20240331T010000
END:DAYLIGHT
BEGIN:STANDARD
TZOFFSETFROM:+0200
TZOFFSETTO:+0100
TZNAME:CET
DTSTART:20241027T010000
END:STANDARD
BEGIN:DAYLIGHT
TZOFFSETFROM:+0100
TZOFFSETTO:+0200
TZNAME:CEST
DTSTART:20250330T010000
END:DAYLIGHT
BEGIN:STANDARD
TZOFFSETFROM:+0200
TZOFFSETTO:+0100
TZNAME:CET
DTSTART:20251026T010000
END:STANDARD
BEGIN:DAYLIGHT
TZOFFSETFROM:+0100
TZOFFSETTO:+0200
TZNAME:CEST
DTSTART:20260329T010000
END:DAYLIGHT
BEGIN:STANDARD
TZOFFSETFROM:+0200
TZOFFSETTO:+0100
TZNAME:CET
DTSTART:20261025T010000
END:STANDARD
BEGIN:DAYLIGHT
TZOFFSETFROM:+0100
TZOFFSETTO:+0200
TZNAME:CEST
DTSTART:20270328T010000
END:DAYLIGHT
BEGIN:STANDARD
TZOFFSETFROM:+0200
TZOFFSETTO:+0100
TZNAME:CET
DTSTART:20271031T010000
END:STANDARD
END:VTIMEZONE
BEGIN:VEVENT
DTSTART;TZID=Europe/Madrid:20260418T120000
DTEND;TZID=Europe/Madrid:20260418T120000
DTSTAMP:20260421T223923
CREATED:20260330T144300Z
LAST-MODIFIED:20260330T144301Z
UID:10042389-1776513600-1776513600@deplanesporlacomarca.com
SUMMARY:EXHIBICIÓN DE DANZA CLÁSICA EN LA BARANDILLA DE DUNBOA - ABRIL 2026 (IRUN)
DESCRIPTION:El día 29 de abril se conmemora el Día Internacional de la Danza. Por ese motivo\, tiene lugar en la barandilla del canal de Dumboa de Irun la actuación de danza clásica tradicional\, como cada año\, con la participación de diversas escuelas de baile de Irun y de Hondarribia. \n\n\n\n \n\n\n\nEl plan comienza a las 12.00 horas con la actuación de barra de los/as participantes más jóvenes y a continuación\, la de personas adultas. \n\n\n\n \n\n\n\nHorario de las barandillas separadas por edades: \n\n\n\n– 12.00 horas – Barandilla pequeñas y pequeños \n\n\n\n– 12.25 horas – Barandilla edad mediana \n\n\n\n– 12.45 horas – Barandilla de mayores \n\n\n\n \n\n\n\nParticipantes: Studio  de Danza Miren Gómez\, Escuela Municipal de Danza de Irun\, Estudio de Danza Elena Echeveste\, Studio de Danza Juncal\, 22 Academy\, Hondarribiko Musika eta Dantza Eskola\, Dantza Eskola Pilar Peña y Basque Ballerina By Amaia Leiza
URL:https://deplanesporlacomarca.com/agenda-evento/exhibicion-de-danza-clasica-en-la-barandilla-de-dunboa-abril-2026-irun/
LOCATION:Barandilla Barrio Dumboa\, Dumboa kalea\, Irun\, Gipuzkoa\, España
ATTACH;FMTTYPE=image/jpeg:https://deplanesporlacomarca.com/wp-content/uploads/2022/04/dia_de_la_danza_clasica_barandilla_dunboa_irun.jpg
GEO:43.3405178;-1.7847842
X-APPLE-STRUCTURED-LOCATION;VALUE=URI;X-ADDRESS=Barandilla Barrio Dumboa Dumboa kalea Irun Gipuzkoa España;X-APPLE-RADIUS=500;X-TITLE=Dumboa kalea:geo:-1.7847842,43.3405178
END:VEVENT
BEGIN:VEVENT
DTSTART;TZID=Europe/Madrid:20250405T120000
DTEND;TZID=Europe/Madrid:20250405T133000
DTSTAMP:20260421T223923
CREATED:20250324T132126Z
LAST-MODIFIED:20250403T053901Z
UID:10038972-1743854400-1743859800@deplanesporlacomarca.com
SUMMARY:EXHIBICIÓN DE DANZA CLÁSICA EN LA BARANDILLA DE DUNBOA EN IRUN
DESCRIPTION:El día 29 de abril se conmemora el Día Internacional de la Danza. Por ese motivo\, tiene lugar en la barandilla del canal de Dumboa de Irun la actuación de danza clásica tradicional\, como cada año\, con la participación de diversas escuelas de baile de Irun y de Hondarribia. \n\n\n\n \n\n\n\nEl plan comienza a las 12.00 horas con la actuación de barra de los/as participantes más jóvenes y a continuación\, la de personas adultas. \n\n\n\n \n\n\n\nHorario de las barandillas separadas por edades: \n\n\n\n– 12.00 horas – Barandilla pequeñas y pequeños \n\n\n\n– 12.25 horas – Barandilla edad mediana \n\n\n\n– 12.45 horas – Barandilla de mayores
URL:https://deplanesporlacomarca.com/agenda-evento/exhibicion-de-danza-clasica-en-la-barandilla-de-dunboa-en-irun/
LOCATION:Barandilla Barrio Dumboa\, Dumboa kalea\, Irun\, Gipuzkoa\, España
ATTACH;FMTTYPE=image/jpeg:https://deplanesporlacomarca.com/wp-content/uploads/2022/04/dia_de_la_danza_clasica_barandilla_dunboa_irun.jpg
GEO:43.3405178;-1.7847842
X-APPLE-STRUCTURED-LOCATION;VALUE=URI;X-ADDRESS=Barandilla Barrio Dumboa Dumboa kalea Irun Gipuzkoa España;X-APPLE-RADIUS=500;X-TITLE=Dumboa kalea:geo:-1.7847842,43.3405178
END:VEVENT
END:VCALENDAR