BEGIN:VCALENDAR
VERSION:2.0
PRODID:-//De planes por la comarca - ECPv6.15.20//NONSGML v1.0//EN
CALSCALE:GREGORIAN
METHOD:PUBLISH
X-WR-CALNAME:De planes por la comarca
X-ORIGINAL-URL:https://deplanesporlacomarca.com
X-WR-CALDESC:Eventos para De planes por la comarca
REFRESH-INTERVAL;VALUE=DURATION:PT1H
X-Robots-Tag:noindex
X-PUBLISHED-TTL:PT1H
BEGIN:VTIMEZONE
TZID:Europe/Madrid
BEGIN:DAYLIGHT
TZOFFSETFROM:+0100
TZOFFSETTO:+0200
TZNAME:CEST
DTSTART:20230326T010000
END:DAYLIGHT
BEGIN:STANDARD
TZOFFSETFROM:+0200
TZOFFSETTO:+0100
TZNAME:CET
DTSTART:20231029T010000
END:STANDARD
BEGIN:DAYLIGHT
TZOFFSETFROM:+0100
TZOFFSETTO:+0200
TZNAME:CEST
DTSTART:20240331T010000
END:DAYLIGHT
BEGIN:STANDARD
TZOFFSETFROM:+0200
TZOFFSETTO:+0100
TZNAME:CET
DTSTART:20241027T010000
END:STANDARD
BEGIN:DAYLIGHT
TZOFFSETFROM:+0100
TZOFFSETTO:+0200
TZNAME:CEST
DTSTART:20250330T010000
END:DAYLIGHT
BEGIN:STANDARD
TZOFFSETFROM:+0200
TZOFFSETTO:+0100
TZNAME:CET
DTSTART:20251026T010000
END:STANDARD
BEGIN:DAYLIGHT
TZOFFSETFROM:+0100
TZOFFSETTO:+0200
TZNAME:CEST
DTSTART:20260329T010000
END:DAYLIGHT
BEGIN:STANDARD
TZOFFSETFROM:+0200
TZOFFSETTO:+0100
TZNAME:CET
DTSTART:20261025T010000
END:STANDARD
END:VTIMEZONE
BEGIN:VEVENT
DTSTART;TZID=Europe/Madrid:20250511T103000
DTEND;TZID=Europe/Madrid:20250511T180000
DTSTAMP:20260420T153641
CREATED:20250507T162811Z
LAST-MODIFIED:20250507T162850Z
UID:10039500-1746959400-1746986400@deplanesporlacomarca.com
SUMMARY:II FERIA DEL LIBRO AUTORES LOCALES BIDASOTARRAK - BIBLIOTECA DUNBOA (IRUN)
DESCRIPTION:La Biblioteca Dunboa de Irun organiza\, junto a la asociación cultural UKKER\, la II Feria del Libro «Autores Locales Bidasotarrak» desde las 10.30 horas. \n\n\n\n \n\n\n\nTendremos música\, presentaciones\, venta de libros\, cuenta cuentos\, etc. Un programa preparado con esmero y que seguro os va a gustar. \n\n\n\n \n\n\n\nEste es todo el detalle: \n\n\n\n– 10.30 horas: Presentación de la feria. \n\n\n\n– 11.00 horas: Presentaciones de libros: «Cosas que escribí mientras me dejaba el pelo largo»\, Itxaso Terceño y «Ludo Vitae»\, Mikel Artola. \n\n\n\n– 11.30 horas: Música: «Irnolaiz Sax Laukotea». \n\n\n\n– 11.45 horas: Lectura dramatizada. \n\n\n\n– 12.00 horas:  \n\n\n\n* Presentaciones de libros: «¿Estás bien?\, Rebeca González\, «Poemas al viento»\, Iosu Torres y «No soy una bruja»\, Rosa Rubio. \n\n\n\n* Cuenta cuentos: «Amalur»\, Bakarne Atxukarro + Taller infantil. \n\n\n\n* Sesión de micrófono abierto. \n\n\n\n– 13.15 horas: Presentación de libro: «Todo lo que tiene nombre»\, Tania Serrulla. \n\n\n\n– 16.00 horas: Juegos de rol. Elba liburudenda. (a partir de 12 años\, inscripción previa) \n\n\n\n– 16.30 horas: Cuentacuentos y pintacaras. \n\n\n\n– 17.00 horas: Recital poético y danza. «Poemas en el tiempo»\, Menchu y Elena Echeveste.
URL:https://deplanesporlacomarca.com/agenda-evento/ii-feria-del-libro-autores-locales-bidasotarrak-biblioteca-dunboa-irun/
LOCATION:Biblioteca Dumboa\, Martxoak 8\, 4\, Irun\, Gipuzkoa
ATTACH;FMTTYPE=image/jpeg:https://deplanesporlacomarca.com/wp-content/uploads/2025/05/ii_feria_del_libro_autores_locales_bidasotarrak_11_mayo_2025_biblioteca_dunboa_irun.jpg
GEO:43.3399723;-1.7947122
X-APPLE-STRUCTURED-LOCATION;VALUE=URI;X-ADDRESS=Biblioteca Dumboa Martxoak 8 4 Irun Gipuzkoa;X-APPLE-RADIUS=500;X-TITLE=Martxoak 8\, 4:geo:-1.7947122,43.3399723
END:VEVENT
BEGIN:VEVENT
DTSTART;TZID=Europe/Madrid:20250425T190000
DTEND;TZID=Europe/Madrid:20250425T203000
DTSTAMP:20260420T153641
CREATED:20240904T163333Z
LAST-MODIFIED:20240904T163607Z
UID:10036639-1745607600-1745613000@deplanesporlacomarca.com
SUMMARY:TALLERES\, "ESCRITURA EMOCIONAL" - 2024-2025 - BIBLIOTECA DUMBOA (IRUN)
DESCRIPTION:Clases de escritura emocional\, impartidas por la escritora Itziar Sistiaga\, en la Biblioteca Dumboa de Irun\, a partir de las 19.00 horas. \n\n\n\n \n\n\n\nTendrán lugar un viernes cada mes desde Septiembre hasta Junio. \n\n\n\n \n\n\n\nEl precio de cada clase es de 25 Euros y las plazas son limitadas. Así que si te interesa\, te puedes apuntar en: hola@itziarsistiaga.com
URL:https://deplanesporlacomarca.com/agenda-evento/talleres-escritura-emocional-2024-2025-biblioteca-dumboa-irun/2025-04-25/
LOCATION:Biblioteca Dumboa\, Martxoak 8\, 4\, Irun\, Gipuzkoa
ATTACH;FMTTYPE=image/jpeg:https://deplanesporlacomarca.com/wp-content/uploads/2024/09/talleres_escritura_emocional_2024_2025_itziar_sistiaga_biblioteca_dunboa_irun.jpg
GEO:43.3399723;-1.7947122
X-APPLE-STRUCTURED-LOCATION;VALUE=URI;X-ADDRESS=Biblioteca Dumboa Martxoak 8 4 Irun Gipuzkoa;X-APPLE-RADIUS=500;X-TITLE=Martxoak 8\, 4:geo:-1.7947122,43.3399723
END:VEVENT
BEGIN:VEVENT
DTSTART;TZID=Europe/Madrid:20250328T190000
DTEND;TZID=Europe/Madrid:20250328T203000
DTSTAMP:20260420T153641
CREATED:20240904T163333Z
LAST-MODIFIED:20240904T163607Z
UID:10036638-1743188400-1743193800@deplanesporlacomarca.com
SUMMARY:TALLERES\, "ESCRITURA EMOCIONAL" - 2024-2025 - BIBLIOTECA DUMBOA (IRUN)
DESCRIPTION:Clases de escritura emocional\, impartidas por la escritora Itziar Sistiaga\, en la Biblioteca Dumboa de Irun\, a partir de las 19.00 horas. \n\n\n\n \n\n\n\nTendrán lugar un viernes cada mes desde Septiembre hasta Junio. \n\n\n\n \n\n\n\nEl precio de cada clase es de 25 Euros y las plazas son limitadas. Así que si te interesa\, te puedes apuntar en: hola@itziarsistiaga.com
URL:https://deplanesporlacomarca.com/agenda-evento/talleres-escritura-emocional-2024-2025-biblioteca-dumboa-irun/2025-03-28/
LOCATION:Biblioteca Dumboa\, Martxoak 8\, 4\, Irun\, Gipuzkoa
ATTACH;FMTTYPE=image/jpeg:https://deplanesporlacomarca.com/wp-content/uploads/2024/09/talleres_escritura_emocional_2024_2025_itziar_sistiaga_biblioteca_dunboa_irun.jpg
GEO:43.3399723;-1.7947122
X-APPLE-STRUCTURED-LOCATION;VALUE=URI;X-ADDRESS=Biblioteca Dumboa Martxoak 8 4 Irun Gipuzkoa;X-APPLE-RADIUS=500;X-TITLE=Martxoak 8\, 4:geo:-1.7947122,43.3399723
END:VEVENT
BEGIN:VEVENT
DTSTART;TZID=Europe/Madrid:20250228T190000
DTEND;TZID=Europe/Madrid:20250228T203000
DTSTAMP:20260420T153641
CREATED:20240904T163333Z
LAST-MODIFIED:20240904T163607Z
UID:10036637-1740769200-1740774600@deplanesporlacomarca.com
SUMMARY:TALLERES\, "ESCRITURA EMOCIONAL" - 2024-2025 - BIBLIOTECA DUMBOA (IRUN)
DESCRIPTION:Clases de escritura emocional\, impartidas por la escritora Itziar Sistiaga\, en la Biblioteca Dumboa de Irun\, a partir de las 19.00 horas. \n\n\n\n \n\n\n\nTendrán lugar un viernes cada mes desde Septiembre hasta Junio. \n\n\n\n \n\n\n\nEl precio de cada clase es de 25 Euros y las plazas son limitadas. Así que si te interesa\, te puedes apuntar en: hola@itziarsistiaga.com
URL:https://deplanesporlacomarca.com/agenda-evento/talleres-escritura-emocional-2024-2025-biblioteca-dumboa-irun/2025-02-28/
LOCATION:Biblioteca Dumboa\, Martxoak 8\, 4\, Irun\, Gipuzkoa
ATTACH;FMTTYPE=image/jpeg:https://deplanesporlacomarca.com/wp-content/uploads/2024/09/talleres_escritura_emocional_2024_2025_itziar_sistiaga_biblioteca_dunboa_irun.jpg
GEO:43.3399723;-1.7947122
X-APPLE-STRUCTURED-LOCATION;VALUE=URI;X-ADDRESS=Biblioteca Dumboa Martxoak 8 4 Irun Gipuzkoa;X-APPLE-RADIUS=500;X-TITLE=Martxoak 8\, 4:geo:-1.7947122,43.3399723
END:VEVENT
BEGIN:VEVENT
DTSTART;TZID=Europe/Madrid:20250124T190000
DTEND;TZID=Europe/Madrid:20250124T203000
DTSTAMP:20260420T153641
CREATED:20240904T163333Z
LAST-MODIFIED:20240904T163607Z
UID:10036636-1737745200-1737750600@deplanesporlacomarca.com
SUMMARY:TALLERES\, "ESCRITURA EMOCIONAL" - 2024-2025 - BIBLIOTECA DUMBOA (IRUN)
DESCRIPTION:Clases de escritura emocional\, impartidas por la escritora Itziar Sistiaga\, en la Biblioteca Dumboa de Irun\, a partir de las 19.00 horas. \n\n\n\n \n\n\n\nTendrán lugar un viernes cada mes desde Septiembre hasta Junio. \n\n\n\n \n\n\n\nEl precio de cada clase es de 25 Euros y las plazas son limitadas. Así que si te interesa\, te puedes apuntar en: hola@itziarsistiaga.com
URL:https://deplanesporlacomarca.com/agenda-evento/talleres-escritura-emocional-2024-2025-biblioteca-dumboa-irun/2025-01-24/
LOCATION:Biblioteca Dumboa\, Martxoak 8\, 4\, Irun\, Gipuzkoa
ATTACH;FMTTYPE=image/jpeg:https://deplanesporlacomarca.com/wp-content/uploads/2024/09/talleres_escritura_emocional_2024_2025_itziar_sistiaga_biblioteca_dunboa_irun.jpg
GEO:43.3399723;-1.7947122
X-APPLE-STRUCTURED-LOCATION;VALUE=URI;X-ADDRESS=Biblioteca Dumboa Martxoak 8 4 Irun Gipuzkoa;X-APPLE-RADIUS=500;X-TITLE=Martxoak 8\, 4:geo:-1.7947122,43.3399723
END:VEVENT
BEGIN:VEVENT
DTSTART;TZID=Europe/Madrid:20241213T190000
DTEND;TZID=Europe/Madrid:20241213T203000
DTSTAMP:20260420T153641
CREATED:20240904T163333Z
LAST-MODIFIED:20240904T163607Z
UID:10036635-1734116400-1734121800@deplanesporlacomarca.com
SUMMARY:TALLERES\, "ESCRITURA EMOCIONAL" - 2024-2025 - BIBLIOTECA DUMBOA (IRUN)
DESCRIPTION:Clases de escritura emocional\, impartidas por la escritora Itziar Sistiaga\, en la Biblioteca Dumboa de Irun\, a partir de las 19.00 horas. \n\n\n\n \n\n\n\nTendrán lugar un viernes cada mes desde Septiembre hasta Junio. \n\n\n\n \n\n\n\nEl precio de cada clase es de 25 Euros y las plazas son limitadas. Así que si te interesa\, te puedes apuntar en: hola@itziarsistiaga.com
URL:https://deplanesporlacomarca.com/agenda-evento/talleres-escritura-emocional-2024-2025-biblioteca-dumboa-irun/2024-12-13/
LOCATION:Biblioteca Dumboa\, Martxoak 8\, 4\, Irun\, Gipuzkoa
ATTACH;FMTTYPE=image/jpeg:https://deplanesporlacomarca.com/wp-content/uploads/2024/09/talleres_escritura_emocional_2024_2025_itziar_sistiaga_biblioteca_dunboa_irun.jpg
GEO:43.3399723;-1.7947122
X-APPLE-STRUCTURED-LOCATION;VALUE=URI;X-ADDRESS=Biblioteca Dumboa Martxoak 8 4 Irun Gipuzkoa;X-APPLE-RADIUS=500;X-TITLE=Martxoak 8\, 4:geo:-1.7947122,43.3399723
END:VEVENT
BEGIN:VEVENT
DTSTART;TZID=Europe/Madrid:20241129T190000
DTEND;TZID=Europe/Madrid:20241129T203000
DTSTAMP:20260420T153641
CREATED:20240904T163333Z
LAST-MODIFIED:20240904T163607Z
UID:10036634-1732906800-1732912200@deplanesporlacomarca.com
SUMMARY:TALLERES\, "ESCRITURA EMOCIONAL" - 2024-2025 - BIBLIOTECA DUMBOA (IRUN)
DESCRIPTION:Clases de escritura emocional\, impartidas por la escritora Itziar Sistiaga\, en la Biblioteca Dumboa de Irun\, a partir de las 19.00 horas. \n\n\n\n \n\n\n\nTendrán lugar un viernes cada mes desde Septiembre hasta Junio. \n\n\n\n \n\n\n\nEl precio de cada clase es de 25 Euros y las plazas son limitadas. Así que si te interesa\, te puedes apuntar en: hola@itziarsistiaga.com
URL:https://deplanesporlacomarca.com/agenda-evento/talleres-escritura-emocional-2024-2025-biblioteca-dumboa-irun/2024-11-29/
LOCATION:Biblioteca Dumboa\, Martxoak 8\, 4\, Irun\, Gipuzkoa
ATTACH;FMTTYPE=image/jpeg:https://deplanesporlacomarca.com/wp-content/uploads/2024/09/talleres_escritura_emocional_2024_2025_itziar_sistiaga_biblioteca_dunboa_irun.jpg
GEO:43.3399723;-1.7947122
X-APPLE-STRUCTURED-LOCATION;VALUE=URI;X-ADDRESS=Biblioteca Dumboa Martxoak 8 4 Irun Gipuzkoa;X-APPLE-RADIUS=500;X-TITLE=Martxoak 8\, 4:geo:-1.7947122,43.3399723
END:VEVENT
BEGIN:VEVENT
DTSTART;TZID=Europe/Madrid:20241127T193000
DTEND;TZID=Europe/Madrid:20241127T193000
DTSTAMP:20260420T153641
CREATED:20241127T081451Z
LAST-MODIFIED:20241127T081455Z
UID:10037408-1732735800-1732735800@deplanesporlacomarca.com
SUMMARY:PRESENTACIÓN LIBRO\, "¿ESTÁS BIEN?" - BIBLIOTECA DUNBOA (IRUN)
DESCRIPTION:Presentación del libro «¿Estás bien?«\, el último libro de Rebeca González\, en la Biblioteca Dunboa de Irun\, a partir de las 19.30 horas. \n\n\n\n \n\n\n\nEn este libro\, diferente a muchos\, la persona que lo lea encontrará una invitación. Será invitada a reflexionar. «¿Estás bien?»\, es una reflexión expresada y narrada en la historia de su protagonista\, Luis. El cual a través de sus sentimientos nos cuenta qué y cómo se siente en su núcleo familiar\, en su día a día\, en su vida en general. Y cómo\, sin ser consciente de ello\, busca que alguien le haga «la pregunta».Intensidad en un relato\, que no es más que una invitación a que quien lo desee responda «la pregunta». \n\n\n\n \n\n\n\nEl plan es gratuito.
URL:https://deplanesporlacomarca.com/agenda-evento/presentacion-libro-estas-bien-biblioteca-dunboa-irun/
LOCATION:Biblioteca Dumboa\, Martxoak 8\, 4\, Irun\, Gipuzkoa
ATTACH;FMTTYPE=image/jpeg:https://deplanesporlacomarca.com/wp-content/uploads/2024/11/presentacion_libro_estas_bien_27_noviembre_2024_biblioteca_dunboa_irun.jpg
GEO:43.3399723;-1.7947122
X-APPLE-STRUCTURED-LOCATION;VALUE=URI;X-ADDRESS=Biblioteca Dumboa Martxoak 8 4 Irun Gipuzkoa;X-APPLE-RADIUS=500;X-TITLE=Martxoak 8\, 4:geo:-1.7947122,43.3399723
END:VEVENT
BEGIN:VEVENT
DTSTART;TZID=Europe/Madrid:20241025T190000
DTEND;TZID=Europe/Madrid:20241025T203000
DTSTAMP:20260420T153641
CREATED:20240904T163333Z
LAST-MODIFIED:20240904T163607Z
UID:10036633-1729882800-1729888200@deplanesporlacomarca.com
SUMMARY:TALLERES\, "ESCRITURA EMOCIONAL" - 2024-2025 - BIBLIOTECA DUMBOA (IRUN)
DESCRIPTION:Clases de escritura emocional\, impartidas por la escritora Itziar Sistiaga\, en la Biblioteca Dumboa de Irun\, a partir de las 19.00 horas. \n\n\n\n \n\n\n\nTendrán lugar un viernes cada mes desde Septiembre hasta Junio. \n\n\n\n \n\n\n\nEl precio de cada clase es de 25 Euros y las plazas son limitadas. Así que si te interesa\, te puedes apuntar en: hola@itziarsistiaga.com
URL:https://deplanesporlacomarca.com/agenda-evento/talleres-escritura-emocional-2024-2025-biblioteca-dumboa-irun/2024-10-25/
LOCATION:Biblioteca Dumboa\, Martxoak 8\, 4\, Irun\, Gipuzkoa
ATTACH;FMTTYPE=image/jpeg:https://deplanesporlacomarca.com/wp-content/uploads/2024/09/talleres_escritura_emocional_2024_2025_itziar_sistiaga_biblioteca_dunboa_irun.jpg
GEO:43.3399723;-1.7947122
X-APPLE-STRUCTURED-LOCATION;VALUE=URI;X-ADDRESS=Biblioteca Dumboa Martxoak 8 4 Irun Gipuzkoa;X-APPLE-RADIUS=500;X-TITLE=Martxoak 8\, 4:geo:-1.7947122,43.3399723
END:VEVENT
BEGIN:VEVENT
DTSTART;TZID=Europe/Madrid:20240927T190000
DTEND;TZID=Europe/Madrid:20240927T203000
DTSTAMP:20260420T153641
CREATED:20240904T163333Z
LAST-MODIFIED:20240904T163607Z
UID:10036632-1727463600-1727469000@deplanesporlacomarca.com
SUMMARY:TALLERES\, "ESCRITURA EMOCIONAL" - 2024-2025 - BIBLIOTECA DUMBOA (IRUN)
DESCRIPTION:Clases de escritura emocional\, impartidas por la escritora Itziar Sistiaga\, en la Biblioteca Dumboa de Irun\, a partir de las 19.00 horas. \n\n\n\n \n\n\n\nTendrán lugar un viernes cada mes desde Septiembre hasta Junio. \n\n\n\n \n\n\n\nEl precio de cada clase es de 25 Euros y las plazas son limitadas. Así que si te interesa\, te puedes apuntar en: hola@itziarsistiaga.com
URL:https://deplanesporlacomarca.com/agenda-evento/talleres-escritura-emocional-2024-2025-biblioteca-dumboa-irun/2024-09-27/
LOCATION:Biblioteca Dumboa\, Martxoak 8\, 4\, Irun\, Gipuzkoa
ATTACH;FMTTYPE=image/jpeg:https://deplanesporlacomarca.com/wp-content/uploads/2024/09/talleres_escritura_emocional_2024_2025_itziar_sistiaga_biblioteca_dunboa_irun.jpg
GEO:43.3399723;-1.7947122
X-APPLE-STRUCTURED-LOCATION;VALUE=URI;X-ADDRESS=Biblioteca Dumboa Martxoak 8 4 Irun Gipuzkoa;X-APPLE-RADIUS=500;X-TITLE=Martxoak 8\, 4:geo:-1.7947122,43.3399723
END:VEVENT
BEGIN:VEVENT
DTSTART;TZID=Europe/Madrid:20240611T190000
DTEND;TZID=Europe/Madrid:20240611T190000
DTSTAMP:20260420T153641
CREATED:20240529T165704Z
LAST-MODIFIED:20240529T165707Z
UID:10035713-1718132400-1718132400@deplanesporlacomarca.com
SUMMARY:PRESENTACIÓN DE LOS LIBROS\, "LA LUZ QUE ROBÓ MIS SENTIDOS" Y "PISANDO CRISTALES ROTOS" - BIBLIOTECA DUMBOA (IRUN)
DESCRIPTION:Presentación de los libros «La luz que robó mis sentidos»\, de Itsaso Ogallar y «Pisando cristales rotos» de Mª Mar Estevez\, el día 3 y el 11 de junio\, respectivamente\, en la Biblioteca Dunboa de Irun\, a partir de las 19.00 horas. \n\n\n\n \n\n\n\nPlan con entrada libre.
URL:https://deplanesporlacomarca.com/agenda-evento/presentacion-de-los-libros-la-luz-que-robo-mis-sentidos-y-pisando-cristales-rotos-biblioteca-dumboa-irun/2024-06-11/
LOCATION:Biblioteca Dumboa\, Martxoak 8\, 4\, Irun\, Gipuzkoa
ATTACH;FMTTYPE=image/jpeg:https://deplanesporlacomarca.com/wp-content/uploads/2024/05/presentacion_libro_la_luz_que_robo_mis_sentidos_pisando_cristales_3_11_junio_2024_biblioteca_dunboa_irun.jpg
GEO:43.3399723;-1.7947122
X-APPLE-STRUCTURED-LOCATION;VALUE=URI;X-ADDRESS=Biblioteca Dumboa Martxoak 8 4 Irun Gipuzkoa;X-APPLE-RADIUS=500;X-TITLE=Martxoak 8\, 4:geo:-1.7947122,43.3399723
END:VEVENT
BEGIN:VEVENT
DTSTART;TZID=Europe/Madrid:20240603T190000
DTEND;TZID=Europe/Madrid:20240603T190000
DTSTAMP:20260420T153641
CREATED:20240529T165704Z
LAST-MODIFIED:20240529T165707Z
UID:10035712-1717441200-1717441200@deplanesporlacomarca.com
SUMMARY:PRESENTACIÓN DE LOS LIBROS\, "LA LUZ QUE ROBÓ MIS SENTIDOS" Y "PISANDO CRISTALES ROTOS" - BIBLIOTECA DUMBOA (IRUN)
DESCRIPTION:Presentación de los libros «La luz que robó mis sentidos»\, de Itsaso Ogallar y «Pisando cristales rotos» de Mª Mar Estevez\, el día 3 y el 11 de junio\, respectivamente\, en la Biblioteca Dunboa de Irun\, a partir de las 19.00 horas. \n\n\n\n \n\n\n\nPlan con entrada libre.
URL:https://deplanesporlacomarca.com/agenda-evento/presentacion-de-los-libros-la-luz-que-robo-mis-sentidos-y-pisando-cristales-rotos-biblioteca-dumboa-irun/2024-06-03/
LOCATION:Biblioteca Dumboa\, Martxoak 8\, 4\, Irun\, Gipuzkoa
ATTACH;FMTTYPE=image/jpeg:https://deplanesporlacomarca.com/wp-content/uploads/2024/05/presentacion_libro_la_luz_que_robo_mis_sentidos_pisando_cristales_3_11_junio_2024_biblioteca_dunboa_irun.jpg
GEO:43.3399723;-1.7947122
X-APPLE-STRUCTURED-LOCATION;VALUE=URI;X-ADDRESS=Biblioteca Dumboa Martxoak 8 4 Irun Gipuzkoa;X-APPLE-RADIUS=500;X-TITLE=Martxoak 8\, 4:geo:-1.7947122,43.3399723
END:VEVENT
BEGIN:VEVENT
DTSTART;TZID=Europe/Madrid:20240527T190000
DTEND;TZID=Europe/Madrid:20240527T190000
DTSTAMP:20260420T153641
CREATED:20240524T163311Z
LAST-MODIFIED:20240524T163315Z
UID:10035645-1716836400-1716836400@deplanesporlacomarca.com
SUMMARY:PRESENTACIÓN DEL LIBRO\, "HISTORIAS LUNARES" - BIBLIOTECA DUMBOA (IRUN)
DESCRIPTION:Presentación de «Historias lunares / Ilargiaren Istoriak»\, el último libro de Carlota García y Rubén Bravo en la Biblioteca Dunboa de Irun\, a partir de las 19.00 horas. \n\n\n\n \n\n\n\nPlan con entrada libre.
URL:https://deplanesporlacomarca.com/agenda-evento/presentacion-del-libro-historias-lunares-biblioteca-dumboa-irun/
LOCATION:Biblioteca Dumboa\, Martxoak 8\, 4\, Irun\, Gipuzkoa
ATTACH;FMTTYPE=image/jpeg:https://deplanesporlacomarca.com/wp-content/uploads/2024/05/presentacion_ilargiaren_historiak_historias_lunares_27_mayo_2024_biblioteca_dunboa_irun.jpg
GEO:43.3399723;-1.7947122
X-APPLE-STRUCTURED-LOCATION;VALUE=URI;X-ADDRESS=Biblioteca Dumboa Martxoak 8 4 Irun Gipuzkoa;X-APPLE-RADIUS=500;X-TITLE=Martxoak 8\, 4:geo:-1.7947122,43.3399723
END:VEVENT
BEGIN:VEVENT
DTSTART;TZID=Europe/Madrid:20240522T190000
DTEND;TZID=Europe/Madrid:20240522T190000
DTSTAMP:20260420T153641
CREATED:20240515T160202Z
LAST-MODIFIED:20240515T160206Z
UID:10035539-1716404400-1716404400@deplanesporlacomarca.com
SUMMARY:PRESENTACIÓN DEL LIBRO\, "ILARGI/LUNA" - BIBLIOTECA DUMBOA (IRUN)
DESCRIPTION:Presentación de «Ilargi/Luna«\, el último libro de Juan Manuel Uría y Sihara Nuño en la Biblioteca Dunboa de Irun\, a partir de las 19.00 horas. \n\n\n\n \n\n\n\nPlan con entrada libre.
URL:https://deplanesporlacomarca.com/agenda-evento/presentacion-del-libro-ilargi-luna-biblioteca-dumboa-irun/
LOCATION:Biblioteca Dumboa\, Martxoak 8\, 4\, Irun\, Gipuzkoa
ATTACH;FMTTYPE=image/jpeg:https://deplanesporlacomarca.com/wp-content/uploads/2024/05/presentacion_libro_ilargi_luna_juan_manuel_uria_sihara_nuno_mayo_2024_biblioteca_dumboa_irun.jpg
GEO:43.3399723;-1.7947122
X-APPLE-STRUCTURED-LOCATION;VALUE=URI;X-ADDRESS=Biblioteca Dumboa Martxoak 8 4 Irun Gipuzkoa;X-APPLE-RADIUS=500;X-TITLE=Martxoak 8\, 4:geo:-1.7947122,43.3399723
END:VEVENT
BEGIN:VEVENT
DTSTART;TZID=Europe/Madrid:20240428T100000
DTEND;TZID=Europe/Madrid:20240428T140000
DTSTAMP:20260420T153641
CREATED:20240417T074533Z
LAST-MODIFIED:20240419T095144Z
UID:10035222-1714298400-1714312800@deplanesporlacomarca.com
SUMMARY:I FERIA DEL LIBRO AUTORES LOCALES BIDASOTARRAK - BIBLIOTECA DUNBOA (IRUN)
DESCRIPTION:La Biblioteca Dunboa de Irun organiza la I Feria del Libro «Autores Locales Bidasotarrak» desde las 10.00 horas.  \n\n\n\n \n\n\n\n\n\n\n\n \n\n\n\nEl plan se presenta con este programa: \n\n\n\n – 10.00 horas: Presentación y apertura. Actuación musical\, a cargo de un grupo de cámara del Conservatorio de Irun. \n\n\n\n– 11.00 horas: Recital de poesía. \n\n\n\n– 12.00 horas: Mesa redonda. Edición y autoedición.  \n\n\n\n– 13.00 horas: Charla literaria con Bakarne Atxukarro. Presentará su último trabajo «Carnaval rural. Cuentos intantiles». \n\n\n\n– 14.00 horas. Despedida y cierre. \n\n\n\n \n\n\n\nEn la plaza frente a la Biblioteca: \n\n\n\n– Zona expositiva para los escritores. \n\n\n\n– Zona para el libro de segunda mano. \n\n\n\n – 11.30 horas: Gigantes de Ondare\, junto a una txaranga. \n\n\n\n \n\n\n\nEn la sala de la biblioteca\, actividades para l@s niñ@s que se irán comunicando.
URL:https://deplanesporlacomarca.com/agenda-evento/i-feria-del-libro-autores-locales-bidasotarrak-biblioteca-dunboa-irun/
LOCATION:Biblioteca Dumboa\, Martxoak 8\, 4\, Irun\, Gipuzkoa
ATTACH;FMTTYPE=image/jpeg:https://deplanesporlacomarca.com/wp-content/uploads/2024/04/i_feria_del_libro_autores_locales_bidasotarrak_28_abril_2024_biblioteca_dunboa_irun.jpg
GEO:43.3399723;-1.7947122
X-APPLE-STRUCTURED-LOCATION;VALUE=URI;X-ADDRESS=Biblioteca Dumboa Martxoak 8 4 Irun Gipuzkoa;X-APPLE-RADIUS=500;X-TITLE=Martxoak 8\, 4:geo:-1.7947122,43.3399723
END:VEVENT
END:VCALENDAR