BEGIN:VCALENDAR
VERSION:2.0
PRODID:-//De planes por la comarca - ECPv6.15.20//NONSGML v1.0//EN
CALSCALE:GREGORIAN
METHOD:PUBLISH
X-WR-CALNAME:De planes por la comarca
X-ORIGINAL-URL:https://deplanesporlacomarca.com
X-WR-CALDESC:Eventos para De planes por la comarca
REFRESH-INTERVAL;VALUE=DURATION:PT1H
X-Robots-Tag:noindex
X-PUBLISHED-TTL:PT1H
BEGIN:VTIMEZONE
TZID:Europe/Madrid
BEGIN:DAYLIGHT
TZOFFSETFROM:+0100
TZOFFSETTO:+0200
TZNAME:CEST
DTSTART:20250330T010000
END:DAYLIGHT
BEGIN:STANDARD
TZOFFSETFROM:+0200
TZOFFSETTO:+0100
TZNAME:CET
DTSTART:20251026T010000
END:STANDARD
BEGIN:DAYLIGHT
TZOFFSETFROM:+0100
TZOFFSETTO:+0200
TZNAME:CEST
DTSTART:20260329T010000
END:DAYLIGHT
BEGIN:STANDARD
TZOFFSETFROM:+0200
TZOFFSETTO:+0100
TZNAME:CET
DTSTART:20261025T010000
END:STANDARD
BEGIN:DAYLIGHT
TZOFFSETFROM:+0100
TZOFFSETTO:+0200
TZNAME:CEST
DTSTART:20270328T010000
END:DAYLIGHT
BEGIN:STANDARD
TZOFFSETFROM:+0200
TZOFFSETTO:+0100
TZNAME:CET
DTSTART:20271031T010000
END:STANDARD
END:VTIMEZONE
BEGIN:VEVENT
DTSTART;TZID=Europe/Madrid:20260425T080000
DTEND;TZID=Europe/Madrid:20260425T130000
DTSTAMP:20260420T100032
CREATED:20260108T201002Z
LAST-MODIFIED:20260325T155244Z
UID:10042334-1777104000-1777122000@deplanesporlacomarca.com
SUMMARY:HONDARRIBIKO AZOKA EN SAN PEDRO KALEA (HONDARRIBIA)
DESCRIPTION:Como cada sábado\, mercado de productos de los baserritarras en San Pedro Kalea de Hondarribia.  \n\n\n\n \n\n\n\nPlan que comienza a las 08.00 horas.
URL:https://deplanesporlacomarca.com/agenda-evento/hondarribiko-azoka-en-san-pedro-kalea-hondarribia-2/2026-04-25/
LOCATION:Calle San Pedro\, Calle San Pedro\, Hondarribia\, Gipuzkoa\, España
ATTACH;FMTTYPE=image/jpeg:https://deplanesporlacomarca.com/wp-content/uploads/2022/03/hondarribiko_azoka_hondarribia.jpg
GEO:43.3681807;-1.793962
X-APPLE-STRUCTURED-LOCATION;VALUE=URI;X-ADDRESS=Calle San Pedro Calle San Pedro Hondarribia Gipuzkoa España;X-APPLE-RADIUS=500;X-TITLE=Calle San Pedro:geo:-1.793962,43.3681807
END:VEVENT
END:VCALENDAR