BEGIN:VCALENDAR
VERSION:2.0
PRODID:-//De planes por la comarca - ECPv6.15.20//NONSGML v1.0//EN
CALSCALE:GREGORIAN
METHOD:PUBLISH
X-ORIGINAL-URL:https://deplanesporlacomarca.com
X-WR-CALDESC:Eventos para De planes por la comarca
REFRESH-INTERVAL;VALUE=DURATION:PT1H
X-Robots-Tag:noindex
X-PUBLISHED-TTL:PT1H
BEGIN:VTIMEZONE
TZID:Europe/Madrid
BEGIN:DAYLIGHT
TZOFFSETFROM:+0100
TZOFFSETTO:+0200
TZNAME:CEST
DTSTART:20240331T010000
END:DAYLIGHT
BEGIN:STANDARD
TZOFFSETFROM:+0200
TZOFFSETTO:+0100
TZNAME:CET
DTSTART:20241027T010000
END:STANDARD
BEGIN:DAYLIGHT
TZOFFSETFROM:+0100
TZOFFSETTO:+0200
TZNAME:CEST
DTSTART:20250330T010000
END:DAYLIGHT
BEGIN:STANDARD
TZOFFSETFROM:+0200
TZOFFSETTO:+0100
TZNAME:CET
DTSTART:20251026T010000
END:STANDARD
BEGIN:DAYLIGHT
TZOFFSETFROM:+0100
TZOFFSETTO:+0200
TZNAME:CEST
DTSTART:20260329T010000
END:DAYLIGHT
BEGIN:STANDARD
TZOFFSETFROM:+0200
TZOFFSETTO:+0100
TZNAME:CET
DTSTART:20261025T010000
END:STANDARD
END:VTIMEZONE
BEGIN:VEVENT
DTSTART;TZID=Europe/Madrid:20250615T090000
DTEND;TZID=Europe/Madrid:20250615T200000
DTSTAMP:20260420T175641
CREATED:20250605T062745Z
LAST-MODIFIED:20250605T062859Z
UID:10039789-1749978000-1750017600@deplanesporlacomarca.com
SUMMARY:XV. TORNEO DE ESCUELAS DE FÚTBOL DEL BIDASOA - UGALDE - VENTAS (IRUN)
DESCRIPTION:XV. edición del Torneo de Escuelas de Fútbol del Bidasoa\, organizado por el CD. Mariño en el campo de fútbol Ugalde Ventas de Irun durante los días 14 y 15 de junio. \n\n\n\n \n\n\n\nDiferentes escuelas de fútbol se enfrentarán para ver quién se alza con el trofeo.
URL:https://deplanesporlacomarca.com/agenda-evento/xv-torneo-de-escuelas-de-futbol-del-bidasoa-ugalde-ventas-irun/2025-06-15/
LOCATION:Campo de Futbol Ugalde Ventas\, Araba Kalea\, 22\, Irun\, Gipuzkoa\, España
ATTACH;FMTTYPE=image/jpeg:https://deplanesporlacomarca.com/wp-content/uploads/2025/06/15_torneo_escuelas_de_futbol_del_bidasoa_14_15_junio_2025_ventas_irun.jpg
GEO:43.329837;-1.8137742
X-APPLE-STRUCTURED-LOCATION;VALUE=URI;X-ADDRESS=Campo de Futbol Ugalde Ventas Araba Kalea 22 Irun Gipuzkoa España;X-APPLE-RADIUS=500;X-TITLE=Araba Kalea\, 22:geo:-1.8137742,43.329837
END:VEVENT
BEGIN:VEVENT
DTSTART;TZID=Europe/Madrid:20250614T090000
DTEND;TZID=Europe/Madrid:20250614T200000
DTSTAMP:20260420T175641
CREATED:20250605T062745Z
LAST-MODIFIED:20250605T062859Z
UID:10039788-1749891600-1749931200@deplanesporlacomarca.com
SUMMARY:XV. TORNEO DE ESCUELAS DE FÚTBOL DEL BIDASOA - UGALDE - VENTAS (IRUN)
DESCRIPTION:XV. edición del Torneo de Escuelas de Fútbol del Bidasoa\, organizado por el CD. Mariño en el campo de fútbol Ugalde Ventas de Irun durante los días 14 y 15 de junio. \n\n\n\n \n\n\n\nDiferentes escuelas de fútbol se enfrentarán para ver quién se alza con el trofeo.
URL:https://deplanesporlacomarca.com/agenda-evento/xv-torneo-de-escuelas-de-futbol-del-bidasoa-ugalde-ventas-irun/2025-06-14/
LOCATION:Campo de Futbol Ugalde Ventas\, Araba Kalea\, 22\, Irun\, Gipuzkoa\, España
ATTACH;FMTTYPE=image/jpeg:https://deplanesporlacomarca.com/wp-content/uploads/2025/06/15_torneo_escuelas_de_futbol_del_bidasoa_14_15_junio_2025_ventas_irun.jpg
GEO:43.329837;-1.8137742
X-APPLE-STRUCTURED-LOCATION;VALUE=URI;X-ADDRESS=Campo de Futbol Ugalde Ventas Araba Kalea 22 Irun Gipuzkoa España;X-APPLE-RADIUS=500;X-TITLE=Araba Kalea\, 22:geo:-1.8137742,43.329837
END:VEVENT
END:VCALENDAR