BEGIN:VCALENDAR
VERSION:2.0
PRODID:-//De planes por la comarca - ECPv6.15.20//NONSGML v1.0//EN
CALSCALE:GREGORIAN
METHOD:PUBLISH
X-ORIGINAL-URL:https://deplanesporlacomarca.com
X-WR-CALDESC:Eventos para De planes por la comarca
REFRESH-INTERVAL;VALUE=DURATION:PT1H
X-Robots-Tag:noindex
X-PUBLISHED-TTL:PT1H
BEGIN:VTIMEZONE
TZID:Europe/Madrid
BEGIN:DAYLIGHT
TZOFFSETFROM:+0100
TZOFFSETTO:+0200
TZNAME:CEST
DTSTART:20240331T010000
END:DAYLIGHT
BEGIN:STANDARD
TZOFFSETFROM:+0200
TZOFFSETTO:+0100
TZNAME:CET
DTSTART:20241027T010000
END:STANDARD
BEGIN:DAYLIGHT
TZOFFSETFROM:+0100
TZOFFSETTO:+0200
TZNAME:CEST
DTSTART:20250330T010000
END:DAYLIGHT
BEGIN:STANDARD
TZOFFSETFROM:+0200
TZOFFSETTO:+0100
TZNAME:CET
DTSTART:20251026T010000
END:STANDARD
BEGIN:DAYLIGHT
TZOFFSETFROM:+0100
TZOFFSETTO:+0200
TZNAME:CEST
DTSTART:20260329T010000
END:DAYLIGHT
BEGIN:STANDARD
TZOFFSETFROM:+0200
TZOFFSETTO:+0100
TZNAME:CET
DTSTART:20261025T010000
END:STANDARD
BEGIN:DAYLIGHT
TZOFFSETFROM:+0100
TZOFFSETTO:+0200
TZNAME:CEST
DTSTART:20270328T010000
END:DAYLIGHT
BEGIN:STANDARD
TZOFFSETFROM:+0200
TZOFFSETTO:+0100
TZNAME:CET
DTSTART:20271031T010000
END:STANDARD
END:VTIMEZONE
BEGIN:VEVENT
DTSTART;TZID=Europe/Madrid:20260105T100000
DTEND;TZID=Europe/Madrid:20260105T190000
DTSTAMP:20260421T224153
CREATED:20260103T101425Z
LAST-MODIFIED:20260103T101427Z
UID:10041490-1767607200-1767639600@deplanesporlacomarca.com
SUMMARY:NAVIDADES 2025\, "FIESTA DE REYES" - BARRIO DE SAN MIGUEL (IRUN)
DESCRIPTION:La AVV. San Miguel de Irun ha preparado una fiesta para recibir a los Reyes Magos. \n\n\n\n \n\n\n\nEste es el plan previsto: \n\n\n\n– 10.00 – 13.00 horas: El paje del Rey Melchor recogerá las cartas. \n\n\n\n– 17.00 horas: Visita del Rey Melchor. \n\n\n\n \n\n\n\nTiene lugar en el Centro Social de San Miguel.
URL:https://deplanesporlacomarca.com/agenda-evento/navidades-2025-fiesta-de-reyes-barrio-de-san-miguel-irun/
LOCATION:Centro Social San Miguel\, Javier Esteban Indart\, 5\, Irun\, Gipuzkoa\, España
ATTACH;FMTTYPE=image/jpeg:https://deplanesporlacomarca.com/wp-content/uploads/2026/01/navidades_2025_fiesta_de_reyes_5_enero_2026_barrio_san_miguel_irun.jpg
GEO:43.3413436;-1.7997805
X-APPLE-STRUCTURED-LOCATION;VALUE=URI;X-ADDRESS=Centro Social San Miguel Javier Esteban Indart 5 Irun Gipuzkoa España;X-APPLE-RADIUS=500;X-TITLE=Javier Esteban Indart\, 5:geo:-1.7997805,43.3413436
END:VEVENT
BEGIN:VEVENT
DTSTART;TZID=Europe/Madrid:20251213T103000
DTEND;TZID=Europe/Madrid:20251213T123000
DTSTAMP:20260421T224153
CREATED:20251207T173407Z
LAST-MODIFIED:20251212T181725Z
UID:10041340-1765621800-1765629000@deplanesporlacomarca.com
SUMMARY:TALLER NAVIDEÑO PARA NIÑOS - CENTRO SOCIAL SAN MIGUEL (IRUN)
DESCRIPTION:Taller de adorno móvil de fieltro\, dirigido a niñas y niños de entre 7 y 12 años\, que tiene lugar en el Centro Social San Miguel de Irun\, a partir de las 10.30 horas. \n\n\n\n \n\n\n\nVamos a crear una obra de arte para la pared: cortaremos los patrones de diferentes figuras de cartón y los pasamos al fieltro. Cortaremos y pegaremos las piezas en las cuerdas\, y luego\, las colgaremos en un palo de madera. ¡Listo para añadir un toque de estilo a tu hogar!  \n\n\n\n \n\n\n\nEl plan tiene plazas limitadas y es necesario apuntarse en: aavvsanmi@gmail.com o el jueves 11 de diciembre\, de 17.30 a 19.30 horas en la AVV. San Miguel.
URL:https://deplanesporlacomarca.com/agenda-evento/taller-navideno-para-ninos-centro-social-san-miguel-irun/
LOCATION:Centro Social San Miguel\, Javier Esteban Indart\, 5\, Irun\, Gipuzkoa\, España
ATTACH;FMTTYPE=image/jpeg:https://deplanesporlacomarca.com/wp-content/uploads/2025/12/navidades_2025_taller_ninos_adorno_movil_san_miguel_irun.jpg
GEO:43.3413436;-1.7997805
X-APPLE-STRUCTURED-LOCATION;VALUE=URI;X-ADDRESS=Centro Social San Miguel Javier Esteban Indart 5 Irun Gipuzkoa España;X-APPLE-RADIUS=500;X-TITLE=Javier Esteban Indart\, 5:geo:-1.7997805,43.3413436
END:VEVENT
BEGIN:VEVENT
DTSTART;TZID=Europe/Madrid:20251129T103000
DTEND;TZID=Europe/Madrid:20251129T130000
DTSTAMP:20260421T224153
CREATED:20251127T091009Z
LAST-MODIFIED:20251127T091011Z
UID:10041038-1764412200-1764421200@deplanesporlacomarca.com
SUMMARY:CONCURSO DE CHRISTMAS - AVV. SAN MIGUEL (IRUN)
DESCRIPTION:La Asociación de Vecinos de San Miguel de Irun organiza su concurso de “Christmas”\, una actividad creativa que tiene lugar de 10.30 a 13.00 horas en el Centro Social de San Miguel. \n\n\n\n \n\n\n\nPodrán participar niños y niñas de entre 5 y 13 años\, divididos en dos categorías: \n\n\n\n– 5 a 9 años \n\n\n\n– 10 a 13 años \n\n\n\n \n\n\n\nNo olvides tus pinturas!
URL:https://deplanesporlacomarca.com/agenda-evento/concurso-de-christmas-avv-san-miguel-irun/
LOCATION:Centro Social San Miguel\, Javier Esteban Indart\, 5\, Irun\, Gipuzkoa\, España
ATTACH;FMTTYPE=image/jpeg:https://deplanesporlacomarca.com/wp-content/uploads/2025/11/concurso_christmas_navidenos_2025_asociacion_vecinos_san_miguel_irun.jpg
GEO:43.3413436;-1.7997805
X-APPLE-STRUCTURED-LOCATION;VALUE=URI;X-ADDRESS=Centro Social San Miguel Javier Esteban Indart 5 Irun Gipuzkoa España;X-APPLE-RADIUS=500;X-TITLE=Javier Esteban Indart\, 5:geo:-1.7997805,43.3413436
END:VEVENT
BEGIN:VEVENT
DTSTART;TZID=Europe/Madrid:20250405T103000
DTEND;TZID=Europe/Madrid:20250405T180000
DTSTAMP:20260421T224153
CREATED:20250401T124116Z
LAST-MODIFIED:20250401T124119Z
UID:10039104-1743849000-1743876000@deplanesporlacomarca.com
SUMMARY:KULTUR JARDUERAK AUZOETAN - ACTIVADES CULTURALES EN LOS BARRIOS 2025 - SAN MIGUEL - ANZARÁN (IRUN)
DESCRIPTION:La agenda cultural de los barrios\, uno de los proyectos finalistas del proceso de Presupuestos Participativos de 2024\, nace a raíz de la colaboración entre el Ayuntamiento de Irun y diferentes asociaciones de vecinos de la ciudad para dotar de una oferta cultural de calidad los barrios de la ciudad de Irun. \n\n\n\n \n\n\n\nEl plan para hoy tiene lugar en los barrios de San Miguel y Anzarán: \n\n\n\nSan Miguel \n\n\n\n– Taller de juegos libre y experimentaciónDisfrutarán de retos para el movimiento\, estímulos con texturas\, colores y formas diferentes\, juegos simbólico y de contrucciones\, mesas de experimentación en las que disfrutarán de sus sentidos\, mediante materiales naturales\, sin estructurar\, para dar rienda suelta a la imaginación y que se sumerjan en el juego. Horario: 10.30 – 12.30 horas Lugar: C.S. de Mayores de San Miguel Edad: 0-6 años. \n\n\n\n \n\n\n\nAnzarán \n\n\n\n– Espectáculo de magia «Zu zara magoa». Horario: 17.00 horas. Lugar: Local social en c/Hendaia. Entrada libre
URL:https://deplanesporlacomarca.com/agenda-evento/kultur-jarduerak-auzoetan-activades-culturales-en-los-barrios-2025-san-miguel-anzaran-irun/
LOCATION:Centro Social San Miguel\, Javier Esteban Indart\, 5\, Irun\, Gipuzkoa\, España
GEO:43.3413436;-1.7997805
X-APPLE-STRUCTURED-LOCATION;VALUE=URI;X-ADDRESS=Centro Social San Miguel Javier Esteban Indart 5 Irun Gipuzkoa España;X-APPLE-RADIUS=500;X-TITLE=Javier Esteban Indart\, 5:geo:-1.7997805,43.3413436
END:VEVENT
END:VCALENDAR