BEGIN:VCALENDAR
VERSION:2.0
PRODID:-//De planes por la comarca - ECPv6.15.20//NONSGML v1.0//EN
CALSCALE:GREGORIAN
METHOD:PUBLISH
X-WR-CALNAME:De planes por la comarca
X-ORIGINAL-URL:https://deplanesporlacomarca.com
X-WR-CALDESC:Eventos para De planes por la comarca
REFRESH-INTERVAL;VALUE=DURATION:PT1H
X-Robots-Tag:noindex
X-PUBLISHED-TTL:PT1H
BEGIN:VTIMEZONE
TZID:Europe/Madrid
BEGIN:DAYLIGHT
TZOFFSETFROM:+0100
TZOFFSETTO:+0200
TZNAME:CEST
DTSTART:20230326T010000
END:DAYLIGHT
BEGIN:STANDARD
TZOFFSETFROM:+0200
TZOFFSETTO:+0100
TZNAME:CET
DTSTART:20231029T010000
END:STANDARD
BEGIN:DAYLIGHT
TZOFFSETFROM:+0100
TZOFFSETTO:+0200
TZNAME:CEST
DTSTART:20240331T010000
END:DAYLIGHT
BEGIN:STANDARD
TZOFFSETFROM:+0200
TZOFFSETTO:+0100
TZNAME:CET
DTSTART:20241027T010000
END:STANDARD
BEGIN:DAYLIGHT
TZOFFSETFROM:+0100
TZOFFSETTO:+0200
TZNAME:CEST
DTSTART:20250330T010000
END:DAYLIGHT
BEGIN:STANDARD
TZOFFSETFROM:+0200
TZOFFSETTO:+0100
TZNAME:CET
DTSTART:20251026T010000
END:STANDARD
BEGIN:DAYLIGHT
TZOFFSETFROM:+0100
TZOFFSETTO:+0200
TZNAME:CEST
DTSTART:20260329T010000
END:DAYLIGHT
BEGIN:STANDARD
TZOFFSETFROM:+0200
TZOFFSETTO:+0100
TZNAME:CET
DTSTART:20261025T010000
END:STANDARD
END:VTIMEZONE
BEGIN:VEVENT
DTSTART;TZID=Europe/Madrid:20250417T090000
DTEND;TZID=Europe/Madrid:20250417T130000
DTSTAMP:20260420T071928
CREATED:20250404T143637Z
LAST-MODIFIED:20250404T143640Z
UID:10039136-1744880400-1744894800@deplanesporlacomarca.com
SUMMARY:SEMANA SANTA 2025 - CURSILLOS EN HÍPICA JAIZUBIA (IRUN)
DESCRIPTION:El Club Hípico Jaizubia de Irun vuelve a organizar un año más los cursillos de Semana Santa. Además de aprender a montar a caballo\, los alumnos aprenderán también a cuidarlos y a disfrutar con ellos en plena naturaleza. \n\n\n\n \n\n\n\nLos cursillos serán de una semana\, de 9.00 a 13.00 horas. El primer turno será los 14\,15\,16\,17 y 18 de abril y el segundo\, los días 21\, 22\, 23\, 24 y 25 de abril. \n\n\n\n \n\n\n\nEl precio del cursillo de una semana es de 140 euros\, para los socios y de 181 euros\, para los no socios.  \n\n\n\n \n\n\n\nInscripciones y más información en la oficina del club y en los teléfonos 943 61 90 15 / 630 07 77 29.
URL:https://deplanesporlacomarca.com/agenda-evento/semana-santa-2025-cursillos-en-hipica-jaizubia-irun/2025-04-17/
LOCATION:Club Hipico Jaizubia\, Jaizubia Hiribidea\, 1\, Irun\, Gipuzkoa\, España
ATTACH;FMTTYPE=image/jpeg:https://deplanesporlacomarca.com/wp-content/uploads/2025/04/semana_santa_2025_cursillos_club_hipica_jaizubia_irun.jpg
GEO:43.3394097;-1.8202125
X-APPLE-STRUCTURED-LOCATION;VALUE=URI;X-ADDRESS=Club Hipico Jaizubia Jaizubia Hiribidea 1 Irun Gipuzkoa España;X-APPLE-RADIUS=500;X-TITLE=Jaizubia Hiribidea\, 1:geo:-1.8202125,43.3394097
END:VEVENT
BEGIN:VEVENT
DTSTART;TZID=Europe/Madrid:20250416T090000
DTEND;TZID=Europe/Madrid:20250416T130000
DTSTAMP:20260420T071928
CREATED:20250404T143637Z
LAST-MODIFIED:20250404T143640Z
UID:10039135-1744794000-1744808400@deplanesporlacomarca.com
SUMMARY:SEMANA SANTA 2025 - CURSILLOS EN HÍPICA JAIZUBIA (IRUN)
DESCRIPTION:El Club Hípico Jaizubia de Irun vuelve a organizar un año más los cursillos de Semana Santa. Además de aprender a montar a caballo\, los alumnos aprenderán también a cuidarlos y a disfrutar con ellos en plena naturaleza. \n\n\n\n \n\n\n\nLos cursillos serán de una semana\, de 9.00 a 13.00 horas. El primer turno será los 14\,15\,16\,17 y 18 de abril y el segundo\, los días 21\, 22\, 23\, 24 y 25 de abril. \n\n\n\n \n\n\n\nEl precio del cursillo de una semana es de 140 euros\, para los socios y de 181 euros\, para los no socios.  \n\n\n\n \n\n\n\nInscripciones y más información en la oficina del club y en los teléfonos 943 61 90 15 / 630 07 77 29.
URL:https://deplanesporlacomarca.com/agenda-evento/semana-santa-2025-cursillos-en-hipica-jaizubia-irun/2025-04-16/
LOCATION:Club Hipico Jaizubia\, Jaizubia Hiribidea\, 1\, Irun\, Gipuzkoa\, España
ATTACH;FMTTYPE=image/jpeg:https://deplanesporlacomarca.com/wp-content/uploads/2025/04/semana_santa_2025_cursillos_club_hipica_jaizubia_irun.jpg
GEO:43.3394097;-1.8202125
X-APPLE-STRUCTURED-LOCATION;VALUE=URI;X-ADDRESS=Club Hipico Jaizubia Jaizubia Hiribidea 1 Irun Gipuzkoa España;X-APPLE-RADIUS=500;X-TITLE=Jaizubia Hiribidea\, 1:geo:-1.8202125,43.3394097
END:VEVENT
BEGIN:VEVENT
DTSTART;TZID=Europe/Madrid:20250415T090000
DTEND;TZID=Europe/Madrid:20250415T130000
DTSTAMP:20260420T071928
CREATED:20250404T143637Z
LAST-MODIFIED:20250404T143640Z
UID:10039134-1744707600-1744722000@deplanesporlacomarca.com
SUMMARY:SEMANA SANTA 2025 - CURSILLOS EN HÍPICA JAIZUBIA (IRUN)
DESCRIPTION:El Club Hípico Jaizubia de Irun vuelve a organizar un año más los cursillos de Semana Santa. Además de aprender a montar a caballo\, los alumnos aprenderán también a cuidarlos y a disfrutar con ellos en plena naturaleza. \n\n\n\n \n\n\n\nLos cursillos serán de una semana\, de 9.00 a 13.00 horas. El primer turno será los 14\,15\,16\,17 y 18 de abril y el segundo\, los días 21\, 22\, 23\, 24 y 25 de abril. \n\n\n\n \n\n\n\nEl precio del cursillo de una semana es de 140 euros\, para los socios y de 181 euros\, para los no socios.  \n\n\n\n \n\n\n\nInscripciones y más información en la oficina del club y en los teléfonos 943 61 90 15 / 630 07 77 29.
URL:https://deplanesporlacomarca.com/agenda-evento/semana-santa-2025-cursillos-en-hipica-jaizubia-irun/2025-04-15/
LOCATION:Club Hipico Jaizubia\, Jaizubia Hiribidea\, 1\, Irun\, Gipuzkoa\, España
ATTACH;FMTTYPE=image/jpeg:https://deplanesporlacomarca.com/wp-content/uploads/2025/04/semana_santa_2025_cursillos_club_hipica_jaizubia_irun.jpg
GEO:43.3394097;-1.8202125
X-APPLE-STRUCTURED-LOCATION;VALUE=URI;X-ADDRESS=Club Hipico Jaizubia Jaizubia Hiribidea 1 Irun Gipuzkoa España;X-APPLE-RADIUS=500;X-TITLE=Jaizubia Hiribidea\, 1:geo:-1.8202125,43.3394097
END:VEVENT
BEGIN:VEVENT
DTSTART;TZID=Europe/Madrid:20250414T090000
DTEND;TZID=Europe/Madrid:20250414T130000
DTSTAMP:20260420T071928
CREATED:20250404T143637Z
LAST-MODIFIED:20250404T143640Z
UID:10039133-1744621200-1744635600@deplanesporlacomarca.com
SUMMARY:SEMANA SANTA 2025 - CURSILLOS EN HÍPICA JAIZUBIA (IRUN)
DESCRIPTION:El Club Hípico Jaizubia de Irun vuelve a organizar un año más los cursillos de Semana Santa. Además de aprender a montar a caballo\, los alumnos aprenderán también a cuidarlos y a disfrutar con ellos en plena naturaleza. \n\n\n\n \n\n\n\nLos cursillos serán de una semana\, de 9.00 a 13.00 horas. El primer turno será los 14\,15\,16\,17 y 18 de abril y el segundo\, los días 21\, 22\, 23\, 24 y 25 de abril. \n\n\n\n \n\n\n\nEl precio del cursillo de una semana es de 140 euros\, para los socios y de 181 euros\, para los no socios.  \n\n\n\n \n\n\n\nInscripciones y más información en la oficina del club y en los teléfonos 943 61 90 15 / 630 07 77 29.
URL:https://deplanesporlacomarca.com/agenda-evento/semana-santa-2025-cursillos-en-hipica-jaizubia-irun/2025-04-14/
LOCATION:Club Hipico Jaizubia\, Jaizubia Hiribidea\, 1\, Irun\, Gipuzkoa\, España
ATTACH;FMTTYPE=image/jpeg:https://deplanesporlacomarca.com/wp-content/uploads/2025/04/semana_santa_2025_cursillos_club_hipica_jaizubia_irun.jpg
GEO:43.3394097;-1.8202125
X-APPLE-STRUCTURED-LOCATION;VALUE=URI;X-ADDRESS=Club Hipico Jaizubia Jaizubia Hiribidea 1 Irun Gipuzkoa España;X-APPLE-RADIUS=500;X-TITLE=Jaizubia Hiribidea\, 1:geo:-1.8202125,43.3394097
END:VEVENT
BEGIN:VEVENT
DTSTART;TZID=Europe/Madrid:20240519T160000
DTEND;TZID=Europe/Madrid:20240519T200000
DTSTAMP:20260420T071928
CREATED:20240506T095956Z
LAST-MODIFIED:20240506T100003Z
UID:10035431-1716134400-1716148800@deplanesporlacomarca.com
SUMMARY:JORNADA DE PUERTAS ABIERTAS - CLUB HÍPICO JAIZUBIA (IRUN)
DESCRIPTION:El Club Hípico Jaizubia de Irun organiza una jornada de puertas abiertas dirigida a niñas y niños de entre 3 y 7 años\, para que conozcan los shetlands (caballos en miniatura) del club. \n\n\n\n \n\n\n\nEl plan tiene lugar en horario de 16.00 a 20.00 horas.
URL:https://deplanesporlacomarca.com/agenda-evento/jornada-de-puertas-abiertas-club-hipico-jaizubia-irun-2/
LOCATION:Club Hipico Jaizubia\, Jaizubia Hiribidea\, 1\, Irun\, Gipuzkoa\, España
ATTACH;FMTTYPE=image/jpeg:https://deplanesporlacomarca.com/wp-content/uploads/2024/05/jornada_puertas_abiertas_ninos_ninas_19_mayo_2024_club_hipico_jaizubia_irun.jpg
GEO:43.3394097;-1.8202125
X-APPLE-STRUCTURED-LOCATION;VALUE=URI;X-ADDRESS=Club Hipico Jaizubia Jaizubia Hiribidea 1 Irun Gipuzkoa España;X-APPLE-RADIUS=500;X-TITLE=Jaizubia Hiribidea\, 1:geo:-1.8202125,43.3394097
END:VEVENT
BEGIN:VEVENT
DTSTART;TZID=Europe/Madrid:20240512T090000
DTEND;TZID=Europe/Madrid:20240512T140000
DTSTAMP:20260420T071928
CREATED:20240508T160955Z
LAST-MODIFIED:20240508T160959Z
UID:10035473-1715504400-1715522400@deplanesporlacomarca.com
SUMMARY:HÍPICA\, "II COPA ANAGAN DE SALTO DE OBSTÁCULOS 2024" - CLUB HÍPICO JAIZUBIA (IRUN)
DESCRIPTION:El Club Hípico Jaizubia de Irun acoge este fin de semana en sus instalaciones la II Copa ANAGAN de Salto de Obstáculos 2024.  \n\n\n\n \n\n\n\nEn total se repartirán 6.000 euros de premios en metálico y regalos para los primeros clasificados de cada altura. La Gran Prueba de esta 3a fase de la Copa Anagán se disputará el domingo a mediodía y en ella podremos ver a algunos de los mejores jinetes y amazonas del panorama hípico estatal. Un campeonato a cuatro fases que organizan conjuntamente el club irundarra con la Federación Vasca de Hípica y los clubes de Heras (Cantabria)\, Zizur (Navarra) y Mungia (Bizkaia). Entre los participantes se encuentran jinetes profesionales como Kevin González de Zárate ( no11 en el ranking 2024 de la Real Federación Hípica Española)\, Peio Elorduy (no 20 del ranking RFHE)\, Rubén Gómez (no 42 del ranking RFHE) o Xabier Zabaleta entre otros. También competirán menores bien posicionados en categorías juveniles\, así como jóvenes promesas tanto del Club Hípico Jaizubia\, como de otras hípicas procedentes de la Comunidad Autónoma Vasca\, Navarra y Cantabria.  \n\n\n\n \n\n\n\nDesde el club comentan que «es una copa que tiene bastante fuerza a nivel estatal y que cuenta con mucha participación. Suelen ser pruebas muy competitivas y de gran espectacularidad. También ofrecen la oportunidad de conocer de cerca a grandes jinetes y futuras promesas\, lo que unido a que el club irundarra está situado en un entorno privilegiado\, es un buen plan para disfrutar del fin de semana. Parece que el tiempo también acompañará\, por lo que que animamos a la gente a que se acerque a disfrutar de este espectacular deporte». \n\n\n\n \n\n\n\nLa cita del sábado arrancará a las 9:30 horas\, mientras que la del domingo dará inicio media hora antes. Habrá saltos a diferentes alturas desde 0\,50 metros hasta 1\,30 metros y para facilitar la llegada de los participantes y asistentes\, se habilitarán aparcamientos en Txingudi Ikastola y alrededores del Palacio de Urdanibia.
URL:https://deplanesporlacomarca.com/agenda-evento/hipica-ii-copa-anagan-de-salto-de-obstaculos-2024-club-hipico-jaizubia-irun/2024-05-12/
LOCATION:Club Hipico Jaizubia\, Jaizubia Hiribidea\, 1\, Irun\, Gipuzkoa\, España
ATTACH;FMTTYPE=image/jpeg:https://deplanesporlacomarca.com/wp-content/uploads/2024/05/ii_copa_anagan_salto_obstaculos_mayo_2024_club_hipico_jaizubia_irun.jpg
GEO:43.3394097;-1.8202125
X-APPLE-STRUCTURED-LOCATION;VALUE=URI;X-ADDRESS=Club Hipico Jaizubia Jaizubia Hiribidea 1 Irun Gipuzkoa España;X-APPLE-RADIUS=500;X-TITLE=Jaizubia Hiribidea\, 1:geo:-1.8202125,43.3394097
END:VEVENT
BEGIN:VEVENT
DTSTART;TZID=Europe/Madrid:20240511T093000
DTEND;TZID=Europe/Madrid:20240511T093000
DTSTAMP:20260420T071928
CREATED:20240508T160955Z
LAST-MODIFIED:20240508T160959Z
UID:10035472-1715419800-1715419800@deplanesporlacomarca.com
SUMMARY:HÍPICA\, "II COPA ANAGAN DE SALTO DE OBSTÁCULOS 2024" - CLUB HÍPICO JAIZUBIA (IRUN)
DESCRIPTION:El Club Hípico Jaizubia de Irun acoge este fin de semana en sus instalaciones la II Copa ANAGAN de Salto de Obstáculos 2024.  \n\n\n\n \n\n\n\nEn total se repartirán 6.000 euros de premios en metálico y regalos para los primeros clasificados de cada altura. La Gran Prueba de esta 3a fase de la Copa Anagán se disputará el domingo a mediodía y en ella podremos ver a algunos de los mejores jinetes y amazonas del panorama hípico estatal. Un campeonato a cuatro fases que organizan conjuntamente el club irundarra con la Federación Vasca de Hípica y los clubes de Heras (Cantabria)\, Zizur (Navarra) y Mungia (Bizkaia). Entre los participantes se encuentran jinetes profesionales como Kevin González de Zárate ( no11 en el ranking 2024 de la Real Federación Hípica Española)\, Peio Elorduy (no 20 del ranking RFHE)\, Rubén Gómez (no 42 del ranking RFHE) o Xabier Zabaleta entre otros. También competirán menores bien posicionados en categorías juveniles\, así como jóvenes promesas tanto del Club Hípico Jaizubia\, como de otras hípicas procedentes de la Comunidad Autónoma Vasca\, Navarra y Cantabria.  \n\n\n\n \n\n\n\nDesde el club comentan que «es una copa que tiene bastante fuerza a nivel estatal y que cuenta con mucha participación. Suelen ser pruebas muy competitivas y de gran espectacularidad. También ofrecen la oportunidad de conocer de cerca a grandes jinetes y futuras promesas\, lo que unido a que el club irundarra está situado en un entorno privilegiado\, es un buen plan para disfrutar del fin de semana. Parece que el tiempo también acompañará\, por lo que que animamos a la gente a que se acerque a disfrutar de este espectacular deporte». \n\n\n\n \n\n\n\nLa cita del sábado arrancará a las 9:30 horas\, mientras que la del domingo dará inicio media hora antes. Habrá saltos a diferentes alturas desde 0\,50 metros hasta 1\,30 metros y para facilitar la llegada de los participantes y asistentes\, se habilitarán aparcamientos en Txingudi Ikastola y alrededores del Palacio de Urdanibia.
URL:https://deplanesporlacomarca.com/agenda-evento/hipica-ii-copa-anagan-de-salto-de-obstaculos-2024-club-hipico-jaizubia-irun/2024-05-11/
LOCATION:Club Hipico Jaizubia\, Jaizubia Hiribidea\, 1\, Irun\, Gipuzkoa\, España
ATTACH;FMTTYPE=image/jpeg:https://deplanesporlacomarca.com/wp-content/uploads/2024/05/ii_copa_anagan_salto_obstaculos_mayo_2024_club_hipico_jaizubia_irun.jpg
GEO:43.3394097;-1.8202125
X-APPLE-STRUCTURED-LOCATION;VALUE=URI;X-ADDRESS=Club Hipico Jaizubia Jaizubia Hiribidea 1 Irun Gipuzkoa España;X-APPLE-RADIUS=500;X-TITLE=Jaizubia Hiribidea\, 1:geo:-1.8202125,43.3394097
END:VEVENT
END:VCALENDAR