BEGIN:VCALENDAR
VERSION:2.0
PRODID:-//De planes por la comarca - ECPv6.15.20//NONSGML v1.0//EN
CALSCALE:GREGORIAN
METHOD:PUBLISH
X-WR-CALNAME:De planes por la comarca
X-ORIGINAL-URL:https://deplanesporlacomarca.com
X-WR-CALDESC:Eventos para De planes por la comarca
REFRESH-INTERVAL;VALUE=DURATION:PT1H
X-Robots-Tag:noindex
X-PUBLISHED-TTL:PT1H
BEGIN:VTIMEZONE
TZID:Europe/Madrid
BEGIN:DAYLIGHT
TZOFFSETFROM:+0100
TZOFFSETTO:+0200
TZNAME:CEST
DTSTART:20230326T010000
END:DAYLIGHT
BEGIN:STANDARD
TZOFFSETFROM:+0200
TZOFFSETTO:+0100
TZNAME:CET
DTSTART:20231029T010000
END:STANDARD
BEGIN:DAYLIGHT
TZOFFSETFROM:+0100
TZOFFSETTO:+0200
TZNAME:CEST
DTSTART:20240331T010000
END:DAYLIGHT
BEGIN:STANDARD
TZOFFSETFROM:+0200
TZOFFSETTO:+0100
TZNAME:CET
DTSTART:20241027T010000
END:STANDARD
BEGIN:DAYLIGHT
TZOFFSETFROM:+0100
TZOFFSETTO:+0200
TZNAME:CEST
DTSTART:20250330T010000
END:DAYLIGHT
BEGIN:STANDARD
TZOFFSETFROM:+0200
TZOFFSETTO:+0100
TZNAME:CET
DTSTART:20251026T010000
END:STANDARD
BEGIN:DAYLIGHT
TZOFFSETFROM:+0100
TZOFFSETTO:+0200
TZNAME:CEST
DTSTART:20260329T010000
END:DAYLIGHT
BEGIN:STANDARD
TZOFFSETFROM:+0200
TZOFFSETTO:+0100
TZNAME:CET
DTSTART:20261025T010000
END:STANDARD
END:VTIMEZONE
BEGIN:VEVENT
DTSTART;TZID=Europe/Madrid:20251025T210000
DTEND;TZID=Europe/Madrid:20251025T210000
DTSTAMP:20260419T184708
CREATED:20251024T081114Z
LAST-MODIFIED:20251024T081115Z
UID:10040624-1761426000-1761426000@deplanesporlacomarca.com
SUMMARY:CONCIERTO\, "CHOEUR D´HOMMES GAZTELU ZAHAR + CHOEUR D´HOMMES EASO" - EGLISE SAINT VINCENT (HENDAYE)
DESCRIPTION:Concierto del coro de hombres Gaztelu Zahar de Hendaye y del coro de hombres Easo de San Sebastían en la Iglesia de San Vicente de Hendaye\, a partir de las 21.00 horas. \n\n\n\n \n\n\n\nEl precio de las entradas para este plan es de 12 Euros y gratuito\, para los menores de 16 años.
URL:https://deplanesporlacomarca.com/agenda-evento/concierto-choeur-dhommes-gaztelu-zahar-choeur-dhommes-easo-eglise-saint-vincent-hendaye/
LOCATION:Eglise Saint Vincent\, 7\, rue du vieux fort\, Hendaye\, Francia
ATTACH;FMTTYPE=image/jpeg:https://deplanesporlacomarca.com/wp-content/uploads/2025/10/concierto_coral_gaztelu_zahar_coro_easo_25_octubre_2025_eglise_saint_vincent_hendaye.jpg
GEO:43.3591072;-1.7746918
X-APPLE-STRUCTURED-LOCATION;VALUE=URI;X-ADDRESS=Eglise Saint Vincent 7 rue du vieux fort Hendaye Francia;X-APPLE-RADIUS=500;X-TITLE=7\, rue du vieux fort:geo:-1.7746918,43.3591072
END:VEVENT
BEGIN:VEVENT
DTSTART;TZID=Europe/Madrid:20250502T210000
DTEND;TZID=Europe/Madrid:20250502T210000
DTSTAMP:20260419T184708
CREATED:20250430T062102Z
LAST-MODIFIED:20250430T062106Z
UID:10039402-1746219600-1746219600@deplanesporlacomarca.com
SUMMARY:CONCERT\, CHORALE "GAZTELU ZAHAR" - EGLISE SAINT VINCENT (HENDAYE)
DESCRIPTION:Con motivo del 80 aniversario de la coral de hombres «Gaztelu Zahar«\, su primer concierto de esta temporada será en la Iglesia de San Vicente de Hendaye\, a partir de las 21.00 horas. \n\n\n\n \n\n\n\nEl precio de las entradas para este plan es de 12 Euros (menores de 16 años\, gratis) y las puedes conseguir en este enlace.
URL:https://deplanesporlacomarca.com/agenda-evento/concert-chorale-gaztelu-zahar-eglise-saint-vincent-hendaye/
LOCATION:Eglise Saint Vincent\, 7\, rue du vieux fort\, Hendaye\, Francia
ATTACH;FMTTYPE=image/jpeg:https://deplanesporlacomarca.com/wp-content/uploads/2025/04/concert_80_ans_chorale_gaztelu_zahar_2_mayo_2025_eglise_saint_vincent_hendaye.jpg
GEO:43.3591072;-1.7746918
X-APPLE-STRUCTURED-LOCATION;VALUE=URI;X-ADDRESS=Eglise Saint Vincent 7 rue du vieux fort Hendaye Francia;X-APPLE-RADIUS=500;X-TITLE=7\, rue du vieux fort:geo:-1.7746918,43.3591072
END:VEVENT
BEGIN:VEVENT
DTSTART;TZID=Europe/Madrid:20241222T170000
DTEND;TZID=Europe/Madrid:20241222T170000
DTSTAMP:20260419T184708
CREATED:20241205T171752Z
LAST-MODIFIED:20241205T171756Z
UID:10037622-1734886800-1734886800@deplanesporlacomarca.com
SUMMARY:NOËL À HENDAYE 2024 - CONCERT DE NOËL - 22 DE DICIEMBRE - EGLISE ST. VINCENT (HENDAYE)
DESCRIPTION:Concierto de navidad en la Iglesia de San Vicente de Hendaya\, a partir de las 17.00 horas\, con l’Orchestre Intercommunal d´Hendaye. \n\n\n\n \n\n\n\nPlan con entrada libre.
URL:https://deplanesporlacomarca.com/agenda-evento/noel-a-hendaye-2024-concert-de-noel-22-de-diciembre-eglise-st-vincent-hendaye/
LOCATION:Eglise Saint Vincent\, 7\, rue du vieux fort\, Hendaye\, Francia
ATTACH;FMTTYPE=image/jpeg:https://deplanesporlacomarca.com/wp-content/uploads/2024/12/hendaye_en_fete_hendaia_bestan_navidad_2024_hendaya.jpg
GEO:43.3591072;-1.7746918
X-APPLE-STRUCTURED-LOCATION;VALUE=URI;X-ADDRESS=Eglise Saint Vincent 7 rue du vieux fort Hendaye Francia;X-APPLE-RADIUS=500;X-TITLE=7\, rue du vieux fort:geo:-1.7746918,43.3591072
END:VEVENT
END:VCALENDAR