BEGIN:VCALENDAR
VERSION:2.0
PRODID:-//De planes por la comarca - ECPv6.15.20//NONSGML v1.0//EN
CALSCALE:GREGORIAN
METHOD:PUBLISH
X-ORIGINAL-URL:https://deplanesporlacomarca.com
X-WR-CALDESC:Eventos para De planes por la comarca
REFRESH-INTERVAL;VALUE=DURATION:PT1H
X-Robots-Tag:noindex
X-PUBLISHED-TTL:PT1H
BEGIN:VTIMEZONE
TZID:Europe/Madrid
BEGIN:DAYLIGHT
TZOFFSETFROM:+0100
TZOFFSETTO:+0200
TZNAME:CEST
DTSTART:20230326T010000
END:DAYLIGHT
BEGIN:STANDARD
TZOFFSETFROM:+0200
TZOFFSETTO:+0100
TZNAME:CET
DTSTART:20231029T010000
END:STANDARD
BEGIN:DAYLIGHT
TZOFFSETFROM:+0100
TZOFFSETTO:+0200
TZNAME:CEST
DTSTART:20240331T010000
END:DAYLIGHT
BEGIN:STANDARD
TZOFFSETFROM:+0200
TZOFFSETTO:+0100
TZNAME:CET
DTSTART:20241027T010000
END:STANDARD
BEGIN:DAYLIGHT
TZOFFSETFROM:+0100
TZOFFSETTO:+0200
TZNAME:CEST
DTSTART:20250330T010000
END:DAYLIGHT
BEGIN:STANDARD
TZOFFSETFROM:+0200
TZOFFSETTO:+0100
TZNAME:CET
DTSTART:20251026T010000
END:STANDARD
BEGIN:DAYLIGHT
TZOFFSETFROM:+0100
TZOFFSETTO:+0200
TZNAME:CEST
DTSTART:20260329T010000
END:DAYLIGHT
BEGIN:STANDARD
TZOFFSETFROM:+0200
TZOFFSETTO:+0100
TZNAME:CET
DTSTART:20261025T010000
END:STANDARD
END:VTIMEZONE
BEGIN:VEVENT
DTSTART;TZID=Europe/Madrid:20251220T180000
DTEND;TZID=Europe/Madrid:20251220T180000
DTSTAMP:20260421T141922
CREATED:20251218T095741Z
LAST-MODIFIED:20251218T095743Z
UID:10041371-1766253600-1766253600@deplanesporlacomarca.com
SUMMARY:NAVIDADES 2025 - OLENTZERO ENDANEAN (HONDARRIBIA)
DESCRIPTION:Olentzero va a visitar Endanea Garden de Hondarribia. \n\n\n\n \n\n\n\nEs el momento ideal para que los pequeños redacten su carta y puedan entregársela al Olentzero en persona. Es un día especial para ellos y también para nosotros por la felicidad de sus caras al ver a nuestro querido Olentzero.  \n\n\n\n \n\n\n\nEl plan tiene entrada libre y tiene lugar a partir de las 18.00 horas.
URL:https://deplanesporlacomarca.com/agenda-evento/navidades-2025-olentzero-endanean-hondarribia/
LOCATION:Endanea\, Barrio Jaitzubia\, 40\, Hondarribia\, Gipuzkoa\, España
ATTACH;FMTTYPE=image/jpeg:https://deplanesporlacomarca.com/wp-content/uploads/2025/12/navidades_2025_olentzero_20_diciembre_endanea_hondarribia.jpg
GEO:43.34734;-1.82029
X-APPLE-STRUCTURED-LOCATION;VALUE=URI;X-ADDRESS=Endanea Barrio Jaitzubia 40 Hondarribia Gipuzkoa España;X-APPLE-RADIUS=500;X-TITLE=Barrio Jaitzubia\, 40:geo:-1.82029,43.34734
END:VEVENT
BEGIN:VEVENT
DTSTART;TZID=Europe/Madrid:20250322T163000
DTEND;TZID=Europe/Madrid:20250322T173000
DTSTAMP:20260421T141922
CREATED:20250318T150812Z
LAST-MODIFIED:20250318T150815Z
UID:10038922-1742661000-1742664600@deplanesporlacomarca.com
SUMMARY:COMPO GARDEN TOUR 2025 – “TALLER DE HUERTO PARA NIÑOS” – ENDANEA (HONDARRIBIA)
DESCRIPTION:¡Vuelve el evento más esperado por los amantes de la jardinería y las plantas! En esta cuarta edición del COMPO Garden Tour\, te invitamos a participar en una experiencia única donde aprenderás\, compartirás y te inspirarás junto a nuestros expertos y aficionados como tú. Este año\, ofrecemos tres talleres especializados diseñados para todos los públicos\, y también para los más pequeños de la casa. \n\n\n\n \n\n\n\nEl plan de hoy es un “Taller de huerto para niños” que tiene lugar en Endanea Garden de Hondarribia\, a partir de las 16.30 horas. \n\n\n\n \n\n\n\nUn taller diseñado especialmente para los más pequeños. Los niños aprenderán de forma divertida y práctica cómo crear y cuidar su propio huerto. ¡Una actividad perfecta para fomentar su amor por la naturaleza! \n\n\n\n \n\n\n\nEs gratuito y te puedes apuntar en este enlace.
URL:https://deplanesporlacomarca.com/agenda-evento/compo-garden-tour-2025-taller-de-huerto-para-ninos-endanea-hondarribia/
LOCATION:Endanea\, Barrio Jaitzubia\, 40\, Hondarribia\, Gipuzkoa\, España
ATTACH;FMTTYPE=image/jpeg:https://deplanesporlacomarca.com/wp-content/uploads/2020/04/endanea_garden_hondarribia.jpg
GEO:43.34734;-1.82029
X-APPLE-STRUCTURED-LOCATION;VALUE=URI;X-ADDRESS=Endanea Barrio Jaitzubia 40 Hondarribia Gipuzkoa España;X-APPLE-RADIUS=500;X-TITLE=Barrio Jaitzubia\, 40:geo:-1.82029,43.34734
END:VEVENT
BEGIN:VEVENT
DTSTART;TZID=Europe/Madrid:20250322T123000
DTEND;TZID=Europe/Madrid:20250322T133000
DTSTAMP:20260421T141922
CREATED:20250318T150302Z
LAST-MODIFIED:20250318T150304Z
UID:10038921-1742646600-1742650200@deplanesporlacomarca.com
SUMMARY:COMPO GARDEN TOUR 2025 – “TALLER DE PLAGAS Y ENFERMEDADES” – ENDANEA (HONDARRIBIA)
DESCRIPTION:¡Vuelve el evento más esperado por los amantes de la jardinería y las plantas! En esta cuarta edición del COMPO Garden Tour\, te invitamos a participar en una experiencia única donde aprenderás\, compartirás y te inspirarás junto a nuestros expertos y aficionados como tú. Este año\, ofrecemos tres talleres especializados diseñados para todos los públicos\, y también para los más pequeños de la casa. \n\n\n\n \n\n\n\nEl plan de hoy es un “Taller de plagas y enfermedades” que tiene lugar en Endanea Garden de Hondarribia\, a partir de las 12.30 horas. \n\n\n\n \n\n\n\n¿Problemas con plagas o enfermedades en tus plantas? Este taller es para ti. Aprenderás a identificar\, prevenir y tratar las afecciones más comunes que pueden afectar a tus plantas. ¡Trae tus plantas contigo! Nuestros expertos las examinarán y te darán recomendaciones específicas para devolverles su salud. \n\n\n\n \n\n\n\nEs gratuito y te puedes apuntar en este enlace.
URL:https://deplanesporlacomarca.com/agenda-evento/compo-garden-tour-2025-taller-de-plagas-y-enfermedades-endanea-hondarribia/
LOCATION:Endanea\, Barrio Jaitzubia\, 40\, Hondarribia\, Gipuzkoa\, España
ATTACH;FMTTYPE=image/jpeg:https://deplanesporlacomarca.com/wp-content/uploads/2020/04/endanea_garden_hondarribia.jpg
GEO:43.34734;-1.82029
X-APPLE-STRUCTURED-LOCATION;VALUE=URI;X-ADDRESS=Endanea Barrio Jaitzubia 40 Hondarribia Gipuzkoa España;X-APPLE-RADIUS=500;X-TITLE=Barrio Jaitzubia\, 40:geo:-1.82029,43.34734
END:VEVENT
BEGIN:VEVENT
DTSTART;TZID=Europe/Madrid:20250322T103000
DTEND;TZID=Europe/Madrid:20250322T113000
DTSTAMP:20260421T141922
CREATED:20250318T145714Z
LAST-MODIFIED:20250318T145718Z
UID:10038920-1742639400-1742643000@deplanesporlacomarca.com
SUMMARY:COMPO GARDEN TOUR 2025 - "TALLER DE CUIDADOS DE PLANTAS VERDES\, ORQUÍDEAS\, CACTUS Y CRASAS" - ENDANEA (HONDARRIBIA)
DESCRIPTION:¡Vuelve el evento más esperado por los amantes de la jardinería y las plantas! En esta cuarta edición del COMPO Garden Tour\, te invitamos a participar en una experiencia única donde aprenderás\, compartirás y te inspirarás junto a nuestros expertos y aficionados como tú. Este año\, ofrecemos tres talleres especializados diseñados para todos los públicos\, y también para los más pequeños de la casa.  \n\n\n\n \n\n\n\nEl plan de hoy es un «Taller de cuidados de plantas verdes\, orquídeas\, cactus y crasas» que tiene lugar en Endanea Garden de Hondarribia\, a partir de las 10.30 horas. \n\n\n\n \n\n\n\n¿Tienes plantas en casa que no lucen tan saludables como antes? En este taller\, nuestros expertos te enseñarán los secretos para cuidarlas y mantenerlas en perfecto estado. Además\, ¡trae tus plantas contigo! Nuestros especialistas realizarán un diagnóstico personalizado y te darán consejos prácticos para recuperarlas y hacer que luzcan radiantes. \n\n\n\n \n\n\n\nEs gratuito y te puedes apuntar en este enlace.
URL:https://deplanesporlacomarca.com/agenda-evento/compo-garden-tour-2025-taller-de-cuidados-de-plantas-verdes-orquideas-cactus-y-crasas-endanea-hondarribia/
LOCATION:Endanea\, Barrio Jaitzubia\, 40\, Hondarribia\, Gipuzkoa\, España
ATTACH;FMTTYPE=image/jpeg:https://deplanesporlacomarca.com/wp-content/uploads/2020/04/endanea_garden_hondarribia.jpg
GEO:43.34734;-1.82029
X-APPLE-STRUCTURED-LOCATION;VALUE=URI;X-ADDRESS=Endanea Barrio Jaitzubia 40 Hondarribia Gipuzkoa España;X-APPLE-RADIUS=500;X-TITLE=Barrio Jaitzubia\, 40:geo:-1.82029,43.34734
END:VEVENT
BEGIN:VEVENT
DTSTART;TZID=Europe/Madrid:20241215T110000
DTEND;TZID=Europe/Madrid:20241215T110000
DTSTAMP:20260421T141922
CREATED:20241211T183356Z
LAST-MODIFIED:20241211T183401Z
UID:10037887-1734260400-1734260400@deplanesporlacomarca.com
SUMMARY:NAVIDADES 2024 - OLENTZERO ENDANEAN (HONDARRIBIA)
DESCRIPTION:Olentzero va a visitar Endanea Garden de Hondarribia. \n\n\n\n \n\n\n\nEs el momento ideal para que los pequeños redacten su carta y puedan entregársela al Olentzero en persona. Es un día especial para ellos y también para nosotros por la felicidad de sus caras al ver a nuestro querido Olentzero.  \n\n\n\n \n\n\n\nEl plan tiene entrada libre y tiene lugar a partir de las 11.00 horas.
URL:https://deplanesporlacomarca.com/agenda-evento/navidades-2024-olentzero-endanean-hondarribia/
LOCATION:Endanea\, Barrio Jaitzubia\, 40\, Hondarribia\, Gipuzkoa\, España
ATTACH;FMTTYPE=image/jpeg:https://deplanesporlacomarca.com/wp-content/uploads/2024/12/navidades_2024_olentzero_15_diciembre_endanea_hondarribia.jpg
GEO:43.34734;-1.82029
X-APPLE-STRUCTURED-LOCATION;VALUE=URI;X-ADDRESS=Endanea Barrio Jaitzubia 40 Hondarribia Gipuzkoa España;X-APPLE-RADIUS=500;X-TITLE=Barrio Jaitzubia\, 40:geo:-1.82029,43.34734
END:VEVENT
END:VCALENDAR