BEGIN:VCALENDAR
VERSION:2.0
PRODID:-//De planes por la comarca - ECPv6.15.20//NONSGML v1.0//EN
CALSCALE:GREGORIAN
METHOD:PUBLISH
X-ORIGINAL-URL:https://deplanesporlacomarca.com
X-WR-CALDESC:Eventos para De planes por la comarca
REFRESH-INTERVAL;VALUE=DURATION:PT1H
X-Robots-Tag:noindex
X-PUBLISHED-TTL:PT1H
BEGIN:VTIMEZONE
TZID:Europe/Madrid
BEGIN:DAYLIGHT
TZOFFSETFROM:+0100
TZOFFSETTO:+0200
TZNAME:CEST
DTSTART:20240331T010000
END:DAYLIGHT
BEGIN:STANDARD
TZOFFSETFROM:+0200
TZOFFSETTO:+0100
TZNAME:CET
DTSTART:20241027T010000
END:STANDARD
BEGIN:DAYLIGHT
TZOFFSETFROM:+0100
TZOFFSETTO:+0200
TZNAME:CEST
DTSTART:20250330T010000
END:DAYLIGHT
BEGIN:STANDARD
TZOFFSETFROM:+0200
TZOFFSETTO:+0100
TZNAME:CET
DTSTART:20251026T010000
END:STANDARD
BEGIN:DAYLIGHT
TZOFFSETFROM:+0100
TZOFFSETTO:+0200
TZNAME:CEST
DTSTART:20260329T010000
END:DAYLIGHT
BEGIN:STANDARD
TZOFFSETFROM:+0200
TZOFFSETTO:+0100
TZNAME:CET
DTSTART:20261025T010000
END:STANDARD
BEGIN:DAYLIGHT
TZOFFSETFROM:+0100
TZOFFSETTO:+0200
TZNAME:CEST
DTSTART:20270328T010000
END:DAYLIGHT
BEGIN:STANDARD
TZOFFSETFROM:+0200
TZOFFSETTO:+0100
TZNAME:CET
DTSTART:20271031T010000
END:STANDARD
END:VTIMEZONE
BEGIN:VEVENT
DTSTART;TZID=Europe/Madrid:20260122T100000
DTEND;TZID=Europe/Madrid:20260122T190000
DTSTAMP:20260420T080131
CREATED:20260108T163309Z
LAST-MODIFIED:20260108T163311Z
UID:10041507-1769076000-1769108400@deplanesporlacomarca.com
SUMMARY:EXPOSICIÓN\, "GARABATEANDO BIDASOA" - ESPACE CULTUREL MENDI ZOLAN (HENDAYE)
DESCRIPTION:Exposición de los dibujos y cuadernos realizados por Garabateando Bidasoa\, que se puede visitar hasta el 31 de Enero en el Espace Culturel Mendi Zolan de Hendaye. \n\n\n\n \n\n\n\nEl plan tiene entrada libre y este horario: \n\n\n\n– De miércoles a sábados\, de 10.00 a 13.00 horas y de 15.00 a 19.00 horas.
URL:https://deplanesporlacomarca.com/agenda-evento/exposicion-garabateando-bidasoa-espace-culturel-mendi-zolan-hendaye/2026-01-22/
LOCATION:Espace Culturel Mendi Zolan\, 119\, Place du Port\, Hendaye\, Francia
ATTACH;FMTTYPE=image/jpeg:https://deplanesporlacomarca.com/wp-content/uploads/2026/01/exposicion_garabateando_bidasoa_enero_2026_espace_culturel_mendi_zolan_hendaye.jpg
GEO:43.370646;-1.7842951
X-APPLE-STRUCTURED-LOCATION;VALUE=URI;X-ADDRESS=Espace Culturel Mendi Zolan 119 Place du Port Hendaye Francia;X-APPLE-RADIUS=500;X-TITLE=119\, Place du Port:geo:-1.7842951,43.370646
END:VEVENT
BEGIN:VEVENT
DTSTART;TZID=Europe/Madrid:20260121T100000
DTEND;TZID=Europe/Madrid:20260121T190000
DTSTAMP:20260420T080131
CREATED:20260108T163309Z
LAST-MODIFIED:20260108T163311Z
UID:10041506-1768989600-1769022000@deplanesporlacomarca.com
SUMMARY:EXPOSICIÓN\, "GARABATEANDO BIDASOA" - ESPACE CULTUREL MENDI ZOLAN (HENDAYE)
DESCRIPTION:Exposición de los dibujos y cuadernos realizados por Garabateando Bidasoa\, que se puede visitar hasta el 31 de Enero en el Espace Culturel Mendi Zolan de Hendaye. \n\n\n\n \n\n\n\nEl plan tiene entrada libre y este horario: \n\n\n\n– De miércoles a sábados\, de 10.00 a 13.00 horas y de 15.00 a 19.00 horas.
URL:https://deplanesporlacomarca.com/agenda-evento/exposicion-garabateando-bidasoa-espace-culturel-mendi-zolan-hendaye/2026-01-21/
LOCATION:Espace Culturel Mendi Zolan\, 119\, Place du Port\, Hendaye\, Francia
ATTACH;FMTTYPE=image/jpeg:https://deplanesporlacomarca.com/wp-content/uploads/2026/01/exposicion_garabateando_bidasoa_enero_2026_espace_culturel_mendi_zolan_hendaye.jpg
GEO:43.370646;-1.7842951
X-APPLE-STRUCTURED-LOCATION;VALUE=URI;X-ADDRESS=Espace Culturel Mendi Zolan 119 Place du Port Hendaye Francia;X-APPLE-RADIUS=500;X-TITLE=119\, Place du Port:geo:-1.7842951,43.370646
END:VEVENT
BEGIN:VEVENT
DTSTART;TZID=Europe/Madrid:20260117T100000
DTEND;TZID=Europe/Madrid:20260117T190000
DTSTAMP:20260420T080131
CREATED:20260108T163309Z
LAST-MODIFIED:20260108T163311Z
UID:10041505-1768644000-1768676400@deplanesporlacomarca.com
SUMMARY:EXPOSICIÓN\, "GARABATEANDO BIDASOA" - ESPACE CULTUREL MENDI ZOLAN (HENDAYE)
DESCRIPTION:Exposición de los dibujos y cuadernos realizados por Garabateando Bidasoa\, que se puede visitar hasta el 31 de Enero en el Espace Culturel Mendi Zolan de Hendaye. \n\n\n\n \n\n\n\nEl plan tiene entrada libre y este horario: \n\n\n\n– De miércoles a sábados\, de 10.00 a 13.00 horas y de 15.00 a 19.00 horas.
URL:https://deplanesporlacomarca.com/agenda-evento/exposicion-garabateando-bidasoa-espace-culturel-mendi-zolan-hendaye/2026-01-17/
LOCATION:Espace Culturel Mendi Zolan\, 119\, Place du Port\, Hendaye\, Francia
ATTACH;FMTTYPE=image/jpeg:https://deplanesporlacomarca.com/wp-content/uploads/2026/01/exposicion_garabateando_bidasoa_enero_2026_espace_culturel_mendi_zolan_hendaye.jpg
GEO:43.370646;-1.7842951
X-APPLE-STRUCTURED-LOCATION;VALUE=URI;X-ADDRESS=Espace Culturel Mendi Zolan 119 Place du Port Hendaye Francia;X-APPLE-RADIUS=500;X-TITLE=119\, Place du Port:geo:-1.7842951,43.370646
END:VEVENT
BEGIN:VEVENT
DTSTART;TZID=Europe/Madrid:20260116T100000
DTEND;TZID=Europe/Madrid:20260116T190000
DTSTAMP:20260420T080131
CREATED:20260108T163309Z
LAST-MODIFIED:20260108T163311Z
UID:10041504-1768557600-1768590000@deplanesporlacomarca.com
SUMMARY:EXPOSICIÓN\, "GARABATEANDO BIDASOA" - ESPACE CULTUREL MENDI ZOLAN (HENDAYE)
DESCRIPTION:Exposición de los dibujos y cuadernos realizados por Garabateando Bidasoa\, que se puede visitar hasta el 31 de Enero en el Espace Culturel Mendi Zolan de Hendaye. \n\n\n\n \n\n\n\nEl plan tiene entrada libre y este horario: \n\n\n\n– De miércoles a sábados\, de 10.00 a 13.00 horas y de 15.00 a 19.00 horas.
URL:https://deplanesporlacomarca.com/agenda-evento/exposicion-garabateando-bidasoa-espace-culturel-mendi-zolan-hendaye/2026-01-16/
LOCATION:Espace Culturel Mendi Zolan\, 119\, Place du Port\, Hendaye\, Francia
ATTACH;FMTTYPE=image/jpeg:https://deplanesporlacomarca.com/wp-content/uploads/2026/01/exposicion_garabateando_bidasoa_enero_2026_espace_culturel_mendi_zolan_hendaye.jpg
GEO:43.370646;-1.7842951
X-APPLE-STRUCTURED-LOCATION;VALUE=URI;X-ADDRESS=Espace Culturel Mendi Zolan 119 Place du Port Hendaye Francia;X-APPLE-RADIUS=500;X-TITLE=119\, Place du Port:geo:-1.7842951,43.370646
END:VEVENT
BEGIN:VEVENT
DTSTART;TZID=Europe/Madrid:20260115T100000
DTEND;TZID=Europe/Madrid:20260115T190000
DTSTAMP:20260420T080131
CREATED:20260108T163309Z
LAST-MODIFIED:20260108T163311Z
UID:10041503-1768471200-1768503600@deplanesporlacomarca.com
SUMMARY:EXPOSICIÓN\, "GARABATEANDO BIDASOA" - ESPACE CULTUREL MENDI ZOLAN (HENDAYE)
DESCRIPTION:Exposición de los dibujos y cuadernos realizados por Garabateando Bidasoa\, que se puede visitar hasta el 31 de Enero en el Espace Culturel Mendi Zolan de Hendaye. \n\n\n\n \n\n\n\nEl plan tiene entrada libre y este horario: \n\n\n\n– De miércoles a sábados\, de 10.00 a 13.00 horas y de 15.00 a 19.00 horas.
URL:https://deplanesporlacomarca.com/agenda-evento/exposicion-garabateando-bidasoa-espace-culturel-mendi-zolan-hendaye/2026-01-15/
LOCATION:Espace Culturel Mendi Zolan\, 119\, Place du Port\, Hendaye\, Francia
ATTACH;FMTTYPE=image/jpeg:https://deplanesporlacomarca.com/wp-content/uploads/2026/01/exposicion_garabateando_bidasoa_enero_2026_espace_culturel_mendi_zolan_hendaye.jpg
GEO:43.370646;-1.7842951
X-APPLE-STRUCTURED-LOCATION;VALUE=URI;X-ADDRESS=Espace Culturel Mendi Zolan 119 Place du Port Hendaye Francia;X-APPLE-RADIUS=500;X-TITLE=119\, Place du Port:geo:-1.7842951,43.370646
END:VEVENT
BEGIN:VEVENT
DTSTART;TZID=Europe/Madrid:20260114T100000
DTEND;TZID=Europe/Madrid:20260114T190000
DTSTAMP:20260420T080131
CREATED:20260108T163309Z
LAST-MODIFIED:20260108T163311Z
UID:10041502-1768384800-1768417200@deplanesporlacomarca.com
SUMMARY:EXPOSICIÓN\, "GARABATEANDO BIDASOA" - ESPACE CULTUREL MENDI ZOLAN (HENDAYE)
DESCRIPTION:Exposición de los dibujos y cuadernos realizados por Garabateando Bidasoa\, que se puede visitar hasta el 31 de Enero en el Espace Culturel Mendi Zolan de Hendaye. \n\n\n\n \n\n\n\nEl plan tiene entrada libre y este horario: \n\n\n\n– De miércoles a sábados\, de 10.00 a 13.00 horas y de 15.00 a 19.00 horas.
URL:https://deplanesporlacomarca.com/agenda-evento/exposicion-garabateando-bidasoa-espace-culturel-mendi-zolan-hendaye/2026-01-14/
LOCATION:Espace Culturel Mendi Zolan\, 119\, Place du Port\, Hendaye\, Francia
ATTACH;FMTTYPE=image/jpeg:https://deplanesporlacomarca.com/wp-content/uploads/2026/01/exposicion_garabateando_bidasoa_enero_2026_espace_culturel_mendi_zolan_hendaye.jpg
GEO:43.370646;-1.7842951
X-APPLE-STRUCTURED-LOCATION;VALUE=URI;X-ADDRESS=Espace Culturel Mendi Zolan 119 Place du Port Hendaye Francia;X-APPLE-RADIUS=500;X-TITLE=119\, Place du Port:geo:-1.7842951,43.370646
END:VEVENT
BEGIN:VEVENT
DTSTART;TZID=Europe/Madrid:20260110T100000
DTEND;TZID=Europe/Madrid:20260110T190000
DTSTAMP:20260420T080131
CREATED:20260108T163309Z
LAST-MODIFIED:20260108T163311Z
UID:10041501-1768039200-1768071600@deplanesporlacomarca.com
SUMMARY:EXPOSICIÓN\, "GARABATEANDO BIDASOA" - ESPACE CULTUREL MENDI ZOLAN (HENDAYE)
DESCRIPTION:Exposición de los dibujos y cuadernos realizados por Garabateando Bidasoa\, que se puede visitar hasta el 31 de Enero en el Espace Culturel Mendi Zolan de Hendaye. \n\n\n\n \n\n\n\nEl plan tiene entrada libre y este horario: \n\n\n\n– De miércoles a sábados\, de 10.00 a 13.00 horas y de 15.00 a 19.00 horas.
URL:https://deplanesporlacomarca.com/agenda-evento/exposicion-garabateando-bidasoa-espace-culturel-mendi-zolan-hendaye/2026-01-10/
LOCATION:Espace Culturel Mendi Zolan\, 119\, Place du Port\, Hendaye\, Francia
ATTACH;FMTTYPE=image/jpeg:https://deplanesporlacomarca.com/wp-content/uploads/2026/01/exposicion_garabateando_bidasoa_enero_2026_espace_culturel_mendi_zolan_hendaye.jpg
GEO:43.370646;-1.7842951
X-APPLE-STRUCTURED-LOCATION;VALUE=URI;X-ADDRESS=Espace Culturel Mendi Zolan 119 Place du Port Hendaye Francia;X-APPLE-RADIUS=500;X-TITLE=119\, Place du Port:geo:-1.7842951,43.370646
END:VEVENT
BEGIN:VEVENT
DTSTART;TZID=Europe/Madrid:20260109T100000
DTEND;TZID=Europe/Madrid:20260109T190000
DTSTAMP:20260420T080131
CREATED:20260108T163309Z
LAST-MODIFIED:20260108T163311Z
UID:10041500-1767952800-1767985200@deplanesporlacomarca.com
SUMMARY:EXPOSICIÓN\, "GARABATEANDO BIDASOA" - ESPACE CULTUREL MENDI ZOLAN (HENDAYE)
DESCRIPTION:Exposición de los dibujos y cuadernos realizados por Garabateando Bidasoa\, que se puede visitar hasta el 31 de Enero en el Espace Culturel Mendi Zolan de Hendaye. \n\n\n\n \n\n\n\nEl plan tiene entrada libre y este horario: \n\n\n\n– De miércoles a sábados\, de 10.00 a 13.00 horas y de 15.00 a 19.00 horas.
URL:https://deplanesporlacomarca.com/agenda-evento/exposicion-garabateando-bidasoa-espace-culturel-mendi-zolan-hendaye/2026-01-09/
LOCATION:Espace Culturel Mendi Zolan\, 119\, Place du Port\, Hendaye\, Francia
ATTACH;FMTTYPE=image/jpeg:https://deplanesporlacomarca.com/wp-content/uploads/2026/01/exposicion_garabateando_bidasoa_enero_2026_espace_culturel_mendi_zolan_hendaye.jpg
GEO:43.370646;-1.7842951
X-APPLE-STRUCTURED-LOCATION;VALUE=URI;X-ADDRESS=Espace Culturel Mendi Zolan 119 Place du Port Hendaye Francia;X-APPLE-RADIUS=500;X-TITLE=119\, Place du Port:geo:-1.7842951,43.370646
END:VEVENT
BEGIN:VEVENT
DTSTART;TZID=Europe/Madrid:20260108T100000
DTEND;TZID=Europe/Madrid:20260108T190000
DTSTAMP:20260420T080131
CREATED:20260108T163309Z
LAST-MODIFIED:20260108T163311Z
UID:10041499-1767866400-1767898800@deplanesporlacomarca.com
SUMMARY:EXPOSICIÓN\, "GARABATEANDO BIDASOA" - ESPACE CULTUREL MENDI ZOLAN (HENDAYE)
DESCRIPTION:Exposición de los dibujos y cuadernos realizados por Garabateando Bidasoa\, que se puede visitar hasta el 31 de Enero en el Espace Culturel Mendi Zolan de Hendaye. \n\n\n\n \n\n\n\nEl plan tiene entrada libre y este horario: \n\n\n\n– De miércoles a sábados\, de 10.00 a 13.00 horas y de 15.00 a 19.00 horas.
URL:https://deplanesporlacomarca.com/agenda-evento/exposicion-garabateando-bidasoa-espace-culturel-mendi-zolan-hendaye/2026-01-08/
LOCATION:Espace Culturel Mendi Zolan\, 119\, Place du Port\, Hendaye\, Francia
ATTACH;FMTTYPE=image/jpeg:https://deplanesporlacomarca.com/wp-content/uploads/2026/01/exposicion_garabateando_bidasoa_enero_2026_espace_culturel_mendi_zolan_hendaye.jpg
GEO:43.370646;-1.7842951
X-APPLE-STRUCTURED-LOCATION;VALUE=URI;X-ADDRESS=Espace Culturel Mendi Zolan 119 Place du Port Hendaye Francia;X-APPLE-RADIUS=500;X-TITLE=119\, Place du Port:geo:-1.7842951,43.370646
END:VEVENT
BEGIN:VEVENT
DTSTART;TZID=Europe/Madrid:20251026T173000
DTEND;TZID=Europe/Madrid:20251026T173000
DTSTAMP:20260420T080131
CREATED:20251024T143253Z
LAST-MODIFIED:20251024T143255Z
UID:10040634-1761499800-1761499800@deplanesporlacomarca.com
SUMMARY:ESPECTÁCULO\, "HORS NORME" - ESPACE CULTUREL MENDI ZOLAN (HENDAYE)
DESCRIPTION:Dentro de la Semaine des Enfants\, espectáculo en francés\, dirigido a niñ@s\, que lleva por título «Hors norme«\, a cargo de la compañía Betty Blues\, en el Espacio Cultural Mendi Zolan de Hendaye\, a partir de las 17.30 horas. \n\n\n\n \n\n\n\n«Hoy es el cumpleaños de Pablo. ¡Tiene ocho años! Su madre Juliette y su madrina Leïla deciden organizarle una fiesta. Inmediatamente\, a Juliette le preocupa el regalo que ha traído Leïla. ¿Y si no es un regalo digno de un niño? El espacio seguro se verá sacudido por la aparición de personajes curiosos… y la preparación de la fiesta se convertirá en una epopeya histórica\, musical y humorística. Entre realidad e imaginación\, los dos amigos nos interrogarán sobre nuestra historia colectiva con la noción de racionalidad y normalidad.» \n\n\n\n \n\n\n\nEl precio de las entradas para este plan es de 4\,50 Euros\, menores de 8 años\, 6\,50 Euros\, tarifa reducida y 12\,50 Euros\, para el resto. Las puedes adquirir\, aquí.
URL:https://deplanesporlacomarca.com/agenda-evento/espectaculo-hors-norme-espace-culturel-mendi-zolan-hendaye/
LOCATION:Espace Culturel Mendi Zolan\, 119\, Place du Port\, Hendaye\, Francia
ATTACH;FMTTYPE=image/jpeg:https://deplanesporlacomarca.com/wp-content/uploads/2025/10/teatro_musica_hors_norme_betty_blues_cie_26_octubre_2025_espace_culturel_mendi_zolan_hendaye.jpg
GEO:43.370646;-1.7842951
X-APPLE-STRUCTURED-LOCATION;VALUE=URI;X-ADDRESS=Espace Culturel Mendi Zolan 119 Place du Port Hendaye Francia;X-APPLE-RADIUS=500;X-TITLE=119\, Place du Port:geo:-1.7842951,43.370646
END:VEVENT
BEGIN:VEVENT
DTSTART;TZID=Europe/Madrid:20250928T173000
DTEND;TZID=Europe/Madrid:20250928T173000
DTSTAMP:20260420T080131
CREATED:20250927T045429Z
LAST-MODIFIED:20250927T045435Z
UID:10040362-1759080600-1759080600@deplanesporlacomarca.com
SUMMARY:ESPECTÁCULO DE MARIONETAS\, "AQUAVITAE\, LES AVENTURES DU P´TIT LOUP DE MER" - MENDI ZOLAN (HENDAYE)
DESCRIPTION:Espectáculo de marionetas que lleva por título\, «Aquavitae\, Les aventures du P´tit loup de mer«\, representado por la compañía Manœuvres y que tiene lugar en el Espacio Cultural Mendi Zolan de Hendaye\, a partir de las 17.30 horas. \n\n\n\n \n\n\n\nEl plan está dirigido a familias con niños\, a partir de 4 años y es un viaje artístico y educativo en torno a la ecología\, a través del descubrimiento del medio marino. \n\n\n\n \n\n\n\n\n\n\n\n\n\n \n\n\n\n \n\n\n\nSe representa en francés y puedes adquirir las entradas aquí.
URL:https://deplanesporlacomarca.com/agenda-evento/espectaculo-de-marionetas-aquavitae-les-aventures-du-ptit-loup-de-mer-mendi-zolan-hendaye/
LOCATION:Espace Culturel Mendi Zolan\, 119\, Place du Port\, Hendaye\, Francia
ATTACH;FMTTYPE=image/jpeg:https://deplanesporlacomarca.com/wp-content/uploads/2025/09/espectaculo_marionetas_aquavitae_les_aventures_du_p´tit_loup_de_mer_28_septiembre_2025_mendi_zolan_hendaye_.jpg
GEO:43.370646;-1.7842951
X-APPLE-STRUCTURED-LOCATION;VALUE=URI;X-ADDRESS=Espace Culturel Mendi Zolan 119 Place du Port Hendaye Francia;X-APPLE-RADIUS=500;X-TITLE=119\, Place du Port:geo:-1.7842951,43.370646
END:VEVENT
BEGIN:VEVENT
DTSTART;TZID=Europe/Madrid:20250216T173000
DTEND;TZID=Europe/Madrid:20250216T183000
DTSTAMP:20260420T080131
CREATED:20250207T164613Z
LAST-MODIFIED:20250207T164617Z
UID:10038441-1739727000-1739730600@deplanesporlacomarca.com
SUMMARY:FESTIVAL SOLO EN SCÈNE 2025 - ESPACE CULTUREL MENDI ZOLAN (HENDAYE)
DESCRIPTION:Del 13 al 16 de Febrero\, Hendaye vibra al ritmo del «Festival Solo en scène«\, que regresa para una nueva edición puesta bajo el signo de la audacia y la diversidad. Gran noticia este año: el festival se amplía y se extiende a lo largo de cuatro días\, ofreciendo una velada adicional para celebrar toda la riqueza e intensidad del teatro en solitario. \n\n\n\n \n\n\n\nEl teatro en solitario es una experiencia teatral exigente\, tanto para el artista como para el público. Para el artista es un desafío encarnar todo en solitario: emociones\, personajes\, universo. Cada gesto\, cada mirada adquiere significado. Para el público\, la inmersión es total. Y en el Espacio Cultural Mendi Zolan esta proximidad cobra todo su significado. Con su sala de espectáculos de tamaño pequeño\, el vínculo directo e intenso entre artista y espectador está garantizado\, ofreciendo un teatro auténtico e inolvidable. \n\n\n\n \n\n\n\nTienes todo el programa aquí y adquirir las entradas en este enlace.
URL:https://deplanesporlacomarca.com/agenda-evento/festival-solo-en-scene-2025-espace-culturel-mendi-zolan-hendaye/2025-02-16/
LOCATION:Espace Culturel Mendi Zolan\, 119\, Place du Port\, Hendaye\, Francia
ATTACH;FMTTYPE=image/jpeg:https://deplanesporlacomarca.com/wp-content/uploads/2025/02/festival_solo_en_scene_febrero_2025_mendi_zolan_hendaye_hendaya.jpg
GEO:43.370646;-1.7842951
X-APPLE-STRUCTURED-LOCATION;VALUE=URI;X-ADDRESS=Espace Culturel Mendi Zolan 119 Place du Port Hendaye Francia;X-APPLE-RADIUS=500;X-TITLE=119\, Place du Port:geo:-1.7842951,43.370646
END:VEVENT
BEGIN:VEVENT
DTSTART;TZID=Europe/Madrid:20250215T200000
DTEND;TZID=Europe/Madrid:20250215T200000
DTSTAMP:20260420T080131
CREATED:20250207T164613Z
LAST-MODIFIED:20250207T164617Z
UID:10038440-1739649600-1739649600@deplanesporlacomarca.com
SUMMARY:FESTIVAL SOLO EN SCÈNE 2025 - ESPACE CULTUREL MENDI ZOLAN (HENDAYE)
DESCRIPTION:Del 13 al 16 de Febrero\, Hendaye vibra al ritmo del «Festival Solo en scène«\, que regresa para una nueva edición puesta bajo el signo de la audacia y la diversidad. Gran noticia este año: el festival se amplía y se extiende a lo largo de cuatro días\, ofreciendo una velada adicional para celebrar toda la riqueza e intensidad del teatro en solitario. \n\n\n\n \n\n\n\nEl teatro en solitario es una experiencia teatral exigente\, tanto para el artista como para el público. Para el artista es un desafío encarnar todo en solitario: emociones\, personajes\, universo. Cada gesto\, cada mirada adquiere significado. Para el público\, la inmersión es total. Y en el Espacio Cultural Mendi Zolan esta proximidad cobra todo su significado. Con su sala de espectáculos de tamaño pequeño\, el vínculo directo e intenso entre artista y espectador está garantizado\, ofreciendo un teatro auténtico e inolvidable. \n\n\n\n \n\n\n\nTienes todo el programa aquí y adquirir las entradas en este enlace.
URL:https://deplanesporlacomarca.com/agenda-evento/festival-solo-en-scene-2025-espace-culturel-mendi-zolan-hendaye/2025-02-15/
LOCATION:Espace Culturel Mendi Zolan\, 119\, Place du Port\, Hendaye\, Francia
ATTACH;FMTTYPE=image/jpeg:https://deplanesporlacomarca.com/wp-content/uploads/2025/02/festival_solo_en_scene_febrero_2025_mendi_zolan_hendaye_hendaya.jpg
GEO:43.370646;-1.7842951
X-APPLE-STRUCTURED-LOCATION;VALUE=URI;X-ADDRESS=Espace Culturel Mendi Zolan 119 Place du Port Hendaye Francia;X-APPLE-RADIUS=500;X-TITLE=119\, Place du Port:geo:-1.7842951,43.370646
END:VEVENT
BEGIN:VEVENT
DTSTART;TZID=Europe/Madrid:20250214T200000
DTEND;TZID=Europe/Madrid:20250214T200000
DTSTAMP:20260420T080131
CREATED:20250207T164613Z
LAST-MODIFIED:20250207T164617Z
UID:10038439-1739563200-1739563200@deplanesporlacomarca.com
SUMMARY:FESTIVAL SOLO EN SCÈNE 2025 - ESPACE CULTUREL MENDI ZOLAN (HENDAYE)
DESCRIPTION:Del 13 al 16 de Febrero\, Hendaye vibra al ritmo del «Festival Solo en scène«\, que regresa para una nueva edición puesta bajo el signo de la audacia y la diversidad. Gran noticia este año: el festival se amplía y se extiende a lo largo de cuatro días\, ofreciendo una velada adicional para celebrar toda la riqueza e intensidad del teatro en solitario. \n\n\n\n \n\n\n\nEl teatro en solitario es una experiencia teatral exigente\, tanto para el artista como para el público. Para el artista es un desafío encarnar todo en solitario: emociones\, personajes\, universo. Cada gesto\, cada mirada adquiere significado. Para el público\, la inmersión es total. Y en el Espacio Cultural Mendi Zolan esta proximidad cobra todo su significado. Con su sala de espectáculos de tamaño pequeño\, el vínculo directo e intenso entre artista y espectador está garantizado\, ofreciendo un teatro auténtico e inolvidable. \n\n\n\n \n\n\n\nTienes todo el programa aquí y adquirir las entradas en este enlace.
URL:https://deplanesporlacomarca.com/agenda-evento/festival-solo-en-scene-2025-espace-culturel-mendi-zolan-hendaye/2025-02-14/
LOCATION:Espace Culturel Mendi Zolan\, 119\, Place du Port\, Hendaye\, Francia
ATTACH;FMTTYPE=image/jpeg:https://deplanesporlacomarca.com/wp-content/uploads/2025/02/festival_solo_en_scene_febrero_2025_mendi_zolan_hendaye_hendaya.jpg
GEO:43.370646;-1.7842951
X-APPLE-STRUCTURED-LOCATION;VALUE=URI;X-ADDRESS=Espace Culturel Mendi Zolan 119 Place du Port Hendaye Francia;X-APPLE-RADIUS=500;X-TITLE=119\, Place du Port:geo:-1.7842951,43.370646
END:VEVENT
BEGIN:VEVENT
DTSTART;TZID=Europe/Madrid:20250213T200000
DTEND;TZID=Europe/Madrid:20250213T200000
DTSTAMP:20260420T080131
CREATED:20250207T164613Z
LAST-MODIFIED:20250207T164617Z
UID:10038438-1739476800-1739476800@deplanesporlacomarca.com
SUMMARY:FESTIVAL SOLO EN SCÈNE 2025 - ESPACE CULTUREL MENDI ZOLAN (HENDAYE)
DESCRIPTION:Del 13 al 16 de Febrero\, Hendaye vibra al ritmo del «Festival Solo en scène«\, que regresa para una nueva edición puesta bajo el signo de la audacia y la diversidad. Gran noticia este año: el festival se amplía y se extiende a lo largo de cuatro días\, ofreciendo una velada adicional para celebrar toda la riqueza e intensidad del teatro en solitario. \n\n\n\n \n\n\n\nEl teatro en solitario es una experiencia teatral exigente\, tanto para el artista como para el público. Para el artista es un desafío encarnar todo en solitario: emociones\, personajes\, universo. Cada gesto\, cada mirada adquiere significado. Para el público\, la inmersión es total. Y en el Espacio Cultural Mendi Zolan esta proximidad cobra todo su significado. Con su sala de espectáculos de tamaño pequeño\, el vínculo directo e intenso entre artista y espectador está garantizado\, ofreciendo un teatro auténtico e inolvidable. \n\n\n\n \n\n\n\nTienes todo el programa aquí y adquirir las entradas en este enlace.
URL:https://deplanesporlacomarca.com/agenda-evento/festival-solo-en-scene-2025-espace-culturel-mendi-zolan-hendaye/2025-02-13/
LOCATION:Espace Culturel Mendi Zolan\, 119\, Place du Port\, Hendaye\, Francia
ATTACH;FMTTYPE=image/jpeg:https://deplanesporlacomarca.com/wp-content/uploads/2025/02/festival_solo_en_scene_febrero_2025_mendi_zolan_hendaye_hendaya.jpg
GEO:43.370646;-1.7842951
X-APPLE-STRUCTURED-LOCATION;VALUE=URI;X-ADDRESS=Espace Culturel Mendi Zolan 119 Place du Port Hendaye Francia;X-APPLE-RADIUS=500;X-TITLE=119\, Place du Port:geo:-1.7842951,43.370646
END:VEVENT
END:VCALENDAR