BEGIN:VCALENDAR
VERSION:2.0
PRODID:-//De planes por la comarca - ECPv6.15.20//NONSGML v1.0//EN
CALSCALE:GREGORIAN
METHOD:PUBLISH
X-ORIGINAL-URL:https://deplanesporlacomarca.com
X-WR-CALDESC:Eventos para De planes por la comarca
REFRESH-INTERVAL;VALUE=DURATION:PT1H
X-Robots-Tag:noindex
X-PUBLISHED-TTL:PT1H
BEGIN:VTIMEZONE
TZID:Europe/Madrid
BEGIN:DAYLIGHT
TZOFFSETFROM:+0100
TZOFFSETTO:+0200
TZNAME:CEST
DTSTART:20250330T010000
END:DAYLIGHT
BEGIN:STANDARD
TZOFFSETFROM:+0200
TZOFFSETTO:+0100
TZNAME:CET
DTSTART:20251026T010000
END:STANDARD
BEGIN:DAYLIGHT
TZOFFSETFROM:+0100
TZOFFSETTO:+0200
TZNAME:CEST
DTSTART:20260329T010000
END:DAYLIGHT
BEGIN:STANDARD
TZOFFSETFROM:+0200
TZOFFSETTO:+0100
TZNAME:CET
DTSTART:20261025T010000
END:STANDARD
BEGIN:DAYLIGHT
TZOFFSETFROM:+0100
TZOFFSETTO:+0200
TZNAME:CEST
DTSTART:20270328T010000
END:DAYLIGHT
BEGIN:STANDARD
TZOFFSETFROM:+0200
TZOFFSETTO:+0100
TZNAME:CET
DTSTART:20271031T010000
END:STANDARD
END:VTIMEZONE
BEGIN:VEVENT
DTSTART;TZID=Europe/Madrid:20260503T110000
DTEND;TZID=Europe/Madrid:20260503T140000
DTSTAMP:20260419T184747
CREATED:20260417T065039Z
LAST-MODIFIED:20260417T065041Z
UID:10042531-1777806000-1777816800@deplanesporlacomarca.com
SUMMARY:EXPOSICIÓN INAUGURAL\, "ALEJANDRO DE LA SOTA" - EDIFICIO EMIGRACIÓN (IRUN)
DESCRIPTION:Apertura del Espacio Emigración en Irun\, que se estrena con una exposición inaugural dedicada a Alejandro de la Sota\, arquitecto que lo diseñó\, y también a la propia historia y memoria del edificio. Esta muestra será la primera actividad que inaugura este equipamiento municipal toda vez que han finalizado los trabajos de rehabilitación que han logrado mantener la singularidad y carácter propio del edificio original\, y que han corrido a cargo de Irunvi\, la Sociedad Pública de Vivienda de Irun. \n\n\n\n \n\n\n\nBajo el título “Alejandro de la Sota\, obra del arquitecto e historia del Edificio de Emigración de Irun”\, la exposición inaugural propone un recorrido por la trayectoria de uno de los principales referentes de la arquitectura española del siglo XX\, al tiempo que repasa la evolución histórica de este edificio tan singular desde el punto de vista arquitectónico. La exposición\, organizada por el Ayuntamiento de Irun y la Fundación Alejandro de la Sota y comisariada por el arquitecto irunés Xabier Arruabarrena\, será inaugurada oficialmente el lunes\, 20 de abril. \n\n\n\n \n\n\n\nLa muestra inaugural permitirá\, además\, conocer tanto la obra del arquitecto como las distintas etapas por las que ha pasado este enclave desde su construcción en la década de los sesenta hasta su cierre en los años noventa\, poniendo en valor su singularidad arquitectónica y su relevancia histórica. \n\n\n\n \n\n\n\nEl inmueble\, proyectado entre 1963 y 1964 por Alejandro de la Sota junto a José María Iturriaga\, constituye una pieza destacada del patrimonio urbano de Irun. Tras una profunda intervención de rehabilitación\, reabre ahora como equipamiento público destinado a dar respuesta a las necesidades del barrio de San Miguel. \n\n\n\n \n\n\n\nEl nuevo espacio albergará diversos servicios de carácter social y comunitario\, entre ellos un local para personas mayores\, un Haurtxoko\, una biblioteca y la sede de la asociación vecinal\, consolidándose como un punto de encuentro para la vida del barrio. \n\n\n\n \n\n\n\nLa exposición inaugural podrá visitarse entre el 21 de abril y el 3 de mayo\, en horario de mañana (11.00 – 14.00 horas) y tarde (17.00 – 20.00 horas)\, salvo los domingos únicamente por la mañana\, y contará con un total de ocho visitas guiadas que se llevarán a cabo los fines de semana (a las 11.00 horas y a las 12.00 horas). Las personas interesadas podrán realizar la inscripción a través de la web municipal. \n\n\n\n \n\n\n\nEl acceso a este equipamiento social se realizará por dos puntos: en la esquina de la calle Basurko con la calle Anaka y en la calle Bartolomé de Urdinso.
URL:https://deplanesporlacomarca.com/agenda-evento/exposicion-inaugural-alejandro-de-la-sota-edificio-emigracion-irun/2026-05-03/
LOCATION:Espacio Emigración\, Bartolomé de Urdinso\, 2\, Irun\, Gipuzkoa\, 20301\, Spain
ATTACH;FMTTYPE=image/jpeg:https://deplanesporlacomarca.com/wp-content/uploads/2026/04/exposicion_inaugural_arquitecto_alejandro_de_la_sota_edificio_emigracion_abril_mayo_2026_irun.jpg
GEO:43.3412337;-1.8009125
X-APPLE-STRUCTURED-LOCATION;VALUE=URI;X-ADDRESS=Espacio Emigración Bartolomé de Urdinso 2 Irun Gipuzkoa 20301 Spain;X-APPLE-RADIUS=500;X-TITLE=Bartolomé de Urdinso\, 2:geo:-1.8009125,43.3412337
END:VEVENT
END:VCALENDAR