BEGIN:VCALENDAR
VERSION:2.0
PRODID:-//De planes por la comarca - ECPv6.15.20//NONSGML v1.0//EN
CALSCALE:GREGORIAN
METHOD:PUBLISH
X-ORIGINAL-URL:https://deplanesporlacomarca.com
X-WR-CALDESC:Eventos para De planes por la comarca
REFRESH-INTERVAL;VALUE=DURATION:PT1H
X-Robots-Tag:noindex
X-PUBLISHED-TTL:PT1H
BEGIN:VTIMEZONE
TZID:Europe/Madrid
BEGIN:DAYLIGHT
TZOFFSETFROM:+0100
TZOFFSETTO:+0200
TZNAME:CEST
DTSTART:20240331T010000
END:DAYLIGHT
BEGIN:STANDARD
TZOFFSETFROM:+0200
TZOFFSETTO:+0100
TZNAME:CET
DTSTART:20241027T010000
END:STANDARD
BEGIN:DAYLIGHT
TZOFFSETFROM:+0100
TZOFFSETTO:+0200
TZNAME:CEST
DTSTART:20250330T010000
END:DAYLIGHT
BEGIN:STANDARD
TZOFFSETFROM:+0200
TZOFFSETTO:+0100
TZNAME:CET
DTSTART:20251026T010000
END:STANDARD
BEGIN:DAYLIGHT
TZOFFSETFROM:+0100
TZOFFSETTO:+0200
TZNAME:CEST
DTSTART:20260329T010000
END:DAYLIGHT
BEGIN:STANDARD
TZOFFSETFROM:+0200
TZOFFSETTO:+0100
TZNAME:CET
DTSTART:20261025T010000
END:STANDARD
BEGIN:DAYLIGHT
TZOFFSETFROM:+0100
TZOFFSETTO:+0200
TZNAME:CEST
DTSTART:20270328T010000
END:DAYLIGHT
BEGIN:STANDARD
TZOFFSETFROM:+0200
TZOFFSETTO:+0100
TZNAME:CET
DTSTART:20271031T010000
END:STANDARD
END:VTIMEZONE
BEGIN:VEVENT
DTSTART;TZID=Europe/Madrid:20260328T110000
DTEND;TZID=Europe/Madrid:20260328T110000
DTSTAMP:20260420T131116
CREATED:20260121T144141Z
LAST-MODIFIED:20260121T144143Z
UID:10041604-1774695600-1774695600@deplanesporlacomarca.com
SUMMARY:ZUHAITZ EGUNA 2026 (HONDARRIBIA)
DESCRIPTION:Hondarribia celebra el «Zuhaitz Eguna«\, en homenaje a l@s niñ@s que nacieron el año pasado. Como en los últimos años\, el acto tendrá lugar en la zona de San Telmo\, y dará comienzo a las 11.00 horas. \n\n\n\n \n\n\n\n83 niños y niñas nacidos en 2025 y sus familias han sido convocados para plantar melojos (Quercus pyrenaica)\, donde antes había pinos. A las 12.00 horas\, llegará la hora de los nacidos en 2019 para recoger la makila. \n\n\n\n \n\n\n\nHay dos caminos de acceso a la zona donde se plantarán los árboles y se repartirán los palos. Uno\, por el campo de tiro de San Telmo y otro\, por la zona de Higer. En ambos casos\, la distancia a pie es pequeña.
URL:https://deplanesporlacomarca.com/agenda-evento/zuhaitz-eguna-2026-hondarribia/
LOCATION:Faro de Higuer\, Higuer Bidea\, 56\, Hondarribia\, Gipuzkoa\, España
ATTACH;FMTTYPE=image/jpeg:https://deplanesporlacomarca.com/wp-content/uploads/2025/02/zuhaitz_eguna_hondarribia.jpg
GEO:43.3919048;-1.7919203
X-APPLE-STRUCTURED-LOCATION;VALUE=URI;X-ADDRESS=Faro de Higuer Higuer Bidea 56 Hondarribia Gipuzkoa España;X-APPLE-RADIUS=500;X-TITLE=Higuer Bidea\, 56:geo:-1.7919203,43.3919048
END:VEVENT
BEGIN:VEVENT
DTSTART;TZID=Europe/Madrid:20260125T073000
DTEND;TZID=Europe/Madrid:20260125T140000
DTSTAMP:20260420T131116
CREATED:20260121T175032Z
LAST-MODIFIED:20260121T175034Z
UID:10041619-1769326200-1769349600@deplanesporlacomarca.com
SUMMARY:IX. TROFEO OGIBERRI - HONDARRIBIKO XI. TXAKURKROSA (HONDARRIBIA)
DESCRIPTION:Este fin de semana el canicross volverá a Hondarribia de la mano del Club Deportivo Euskanikross. En las inmediaciones del Faro de Higer se celebrará el XI Hondarribiko Txakurkrossa. \n\n\n\n \n\n\n\nEste es el programa previsto de este plan: \n\n\n\n \n\n\n\nSábado 24:  \n\n\n\n– 15.30 horas: Control veterinario y entrega de dorsales. \n\n\n\n– 17.00 horas: Salida individual BIKEJORING. \n\n\n\n– 19.00 horas: Canicross nocturna salidas libres de 3 en 3. \n\n\n\n– 20.15 horas: Entrega premio Campeonato Gipuzkoa y picoteo. \n\n\n\n \n\n\n\nDomingo 25: \n\n\n\n– 07.30 – 8.30 horas: Control veterinario y entrega de dorsales. \n\n\n\n– 08.45 horas: «Bikejoring»\, en el que el can corre y la persona va en bicicleta\, siempre acompasando la carrera al ritmo de su protagonista. \n\n\n\n– 10.00 horas: Canicross salidas libres de 3 en 3. \n\n\n\n– 11.30 horas: Canicross popular. \n\n\n\n– 12.00 horas: Canicross infantil\, sobre una distancia de 100 metros. \n\n\n\n– 13.00 horas: Entrega de premios Trofeo Ogiberri. \n\n\n\n– 13.30 horas: Entrega de premios ETL.
URL:https://deplanesporlacomarca.com/agenda-evento/ix-trofeo-ogiberri-hondarribiko-xi-txakurkrosa-hondarribia/2026-01-25/
LOCATION:Faro de Higuer\, Higuer Bidea\, 56\, Hondarribia\, Gipuzkoa\, España
ATTACH;FMTTYPE=image/jpeg:https://deplanesporlacomarca.com/wp-content/uploads/2026/01/20260124_Hondarribiko-Txakurkrosa-724x1024-1.jpg
GEO:43.3919048;-1.7919203
X-APPLE-STRUCTURED-LOCATION;VALUE=URI;X-ADDRESS=Faro de Higuer Higuer Bidea 56 Hondarribia Gipuzkoa España;X-APPLE-RADIUS=500;X-TITLE=Higuer Bidea\, 56:geo:-1.7919203,43.3919048
END:VEVENT
BEGIN:VEVENT
DTSTART;TZID=Europe/Madrid:20260124T153000
DTEND;TZID=Europe/Madrid:20260124T203000
DTSTAMP:20260420T131116
CREATED:20260121T175032Z
LAST-MODIFIED:20260121T175034Z
UID:10041618-1769268600-1769286600@deplanesporlacomarca.com
SUMMARY:IX. TROFEO OGIBERRI - HONDARRIBIKO XI. TXAKURKROSA (HONDARRIBIA)
DESCRIPTION:Este fin de semana el canicross volverá a Hondarribia de la mano del Club Deportivo Euskanikross. En las inmediaciones del Faro de Higer se celebrará el XI Hondarribiko Txakurkrossa. \n\n\n\n \n\n\n\nEste es el programa previsto de este plan: \n\n\n\n \n\n\n\nSábado 24:  \n\n\n\n– 15.30 horas: Control veterinario y entrega de dorsales. \n\n\n\n– 17.00 horas: Salida individual BIKEJORING. \n\n\n\n– 19.00 horas: Canicross nocturna salidas libres de 3 en 3. \n\n\n\n– 20.15 horas: Entrega premio Campeonato Gipuzkoa y picoteo. \n\n\n\n \n\n\n\nDomingo 25: \n\n\n\n– 07.30 – 8.30 horas: Control veterinario y entrega de dorsales. \n\n\n\n– 08.45 horas: «Bikejoring»\, en el que el can corre y la persona va en bicicleta\, siempre acompasando la carrera al ritmo de su protagonista. \n\n\n\n– 10.00 horas: Canicross salidas libres de 3 en 3. \n\n\n\n– 11.30 horas: Canicross popular. \n\n\n\n– 12.00 horas: Canicross infantil\, sobre una distancia de 100 metros. \n\n\n\n– 13.00 horas: Entrega de premios Trofeo Ogiberri. \n\n\n\n– 13.30 horas: Entrega de premios ETL.
URL:https://deplanesporlacomarca.com/agenda-evento/ix-trofeo-ogiberri-hondarribiko-xi-txakurkrosa-hondarribia/2026-01-24/
LOCATION:Faro de Higuer\, Higuer Bidea\, 56\, Hondarribia\, Gipuzkoa\, España
ATTACH;FMTTYPE=image/jpeg:https://deplanesporlacomarca.com/wp-content/uploads/2026/01/20260124_Hondarribiko-Txakurkrosa-724x1024-1.jpg
GEO:43.3919048;-1.7919203
X-APPLE-STRUCTURED-LOCATION;VALUE=URI;X-ADDRESS=Faro de Higuer Higuer Bidea 56 Hondarribia Gipuzkoa España;X-APPLE-RADIUS=500;X-TITLE=Higuer Bidea\, 56:geo:-1.7919203,43.3919048
END:VEVENT
BEGIN:VEVENT
DTSTART;TZID=Europe/Madrid:20250615T110000
DTEND;TZID=Europe/Madrid:20250615T130000
DTSTAMP:20260420T131116
CREATED:20250605T060428Z
LAST-MODIFIED:20250605T060433Z
UID:10039786-1749985200-1749992400@deplanesporlacomarca.com
SUMMARY:XCII USK-GARABATEANDO BIDASOA - 15 DE JUNIO (HONDARRIBIA)
DESCRIPTION:Sexto «Garabateando» del año que\, en esta ocasión se desarrolla en el Faro de Higer de Hondarribia. \n\n\n\n \n\n\n\nEl plan comienza a las 11.00 horas\, es gratuito y sin inscripción. El punto de encuentro es en la entrada del Bar Txori.  \n\n\n\n \n\n\n\nAnimaros a participar con nosotros\, es una actividad abierta y todas las personas son bienvenidas\, sin tener en cuenta edad (los menores irán acompañados) o nivel\, solamente necesitas llevar tu propio material de dibujo y ganas de pasar un buen rato con gente apasionada del bello arte de dibujar.
URL:https://deplanesporlacomarca.com/agenda-evento/xcii-usk-garabateando-bidasoa-15-de-junio-hondarribia/
LOCATION:Faro de Higuer\, Higuer Bidea\, 56\, Hondarribia\, Gipuzkoa\, España
ATTACH;FMTTYPE=image/jpeg:https://deplanesporlacomarca.com/wp-content/uploads/2025/06/xcii_usk_garabateando_faro_higer_15_junio_2025_hondarribia.jpg
GEO:43.3919048;-1.7919203
X-APPLE-STRUCTURED-LOCATION;VALUE=URI;X-ADDRESS=Faro de Higuer Higuer Bidea 56 Hondarribia Gipuzkoa España;X-APPLE-RADIUS=500;X-TITLE=Higuer Bidea\, 56:geo:-1.7919203,43.3919048
END:VEVENT
BEGIN:VEVENT
DTSTART;TZID=Europe/Madrid:20250322T110000
DTEND;TZID=Europe/Madrid:20250322T110000
DTSTAMP:20260420T131116
CREATED:20250217T124353Z
LAST-MODIFIED:20250319T070148Z
UID:10038468-1742641200-1742641200@deplanesporlacomarca.com
SUMMARY:ZUHAITZ EGUNA 2025 (HONDARRIBIA)
DESCRIPTION:Hondarribia celebra el 30 aniversario del «Zuhaitz Eguna» en homenaje a l@s niñ@s que nacieron el año pasado. Como en los últimos años\, el acto tendrá lugar en la zona de San Telmo\, y dará comienzo a las 11.00 horas. \n\n\n\n \n\n\n\n93 niños y niñas nacidos en 2024 y sus familias han sido convocados para plantar melojos (Quercus pyrenaica)\, donde antes había pinos. A las 12.00 horas\, llegará la hora de los nacidos en 2018 para recoger la makila y otros regalos: el libro ‘Xendak’\, un folleto con canciones vascas y un USB. \n\n\n\n \n\n\n\nAprovechando la celebración de la trigésima edición\, en el área de Medio Ambiente del Ayuntamiento seha realizado una potente elaboración que se puede consultar en la página web municipal\, en el enlacehttps://www.hondarribia.eus/es/zuhaitz-eguna.  \n\n\n\n \n\n\n\nHay dos caminos de acceso a la zona donde se plantarán los árboles y se repartirán los palos. Uno\, por el campo de tiro de San Telmo y otro\, por la zona de Higer. En ambos casos\, la distancia a pie es pequeña.
URL:https://deplanesporlacomarca.com/agenda-evento/zuhaitz-eguna-2025-hondarribia/
LOCATION:Faro de Higuer\, Higuer Bidea\, 56\, Hondarribia\, Gipuzkoa\, España
ATTACH;FMTTYPE=image/jpeg:https://deplanesporlacomarca.com/wp-content/uploads/2025/02/zuhaitz_eguna_hondarribia.jpg
GEO:43.3919048;-1.7919203
X-APPLE-STRUCTURED-LOCATION;VALUE=URI;X-ADDRESS=Faro de Higuer Higuer Bidea 56 Hondarribia Gipuzkoa España;X-APPLE-RADIUS=500;X-TITLE=Higuer Bidea\, 56:geo:-1.7919203,43.3919048
END:VEVENT
BEGIN:VEVENT
DTSTART;TZID=Europe/Madrid:20250202T083000
DTEND;TZID=Europe/Madrid:20250202T130000
DTSTAMP:20260420T131116
CREATED:20250130T112341Z
LAST-MODIFIED:20250130T112344Z
UID:10038357-1738485000-1738501200@deplanesporlacomarca.com
SUMMARY:VIII. TROFEO OGIBERRI - HONDARRIBIKO X. TXAKURKROSA (HONDARRIBIA)
DESCRIPTION:Este fin de semana el canicross volverá a Hondarribia de la mano del Club Deportivo Euskanikross. En las inmediaciones del Faro de Higer se celebrará el X Hondarribiko Txakurkrossa. \n\n\n\n \n\n\n\nEste es el programa previsto de este plan: \n\n\n\n \n\n\n\nSábado 1: VIII Trofeo Ogiberri \n\n\n\n– 15.30 horas: control veterinario \n\n\n\n– 15.30 horas: entrega de dorsales y bolsa del corredor \n\n\n\n– 17.00 horas: salida individual BIKEJORING \n\n\n\n– 19.00 horas: salidas libres CANICROSS de tres en tres \n\n\n\n– 20.00 horas: picoteo y entrega de premios del Campeonato de Gipuzkoa Mushing Tierra de Federados. \n\n\n\n \n\n\n\nDomingo 2: \n\n\n\n– 08.40 horas: «Bikejoring»\, en el que el can corre y la persona va en bicicleta\, siempre acompasando la carrera al ritmo de su protagonista. \n\n\n\n– 10.00 horas: carrera absoluta de Canicross. Prueba puntuable de la Euskadiko Txakurkros Liga (ETL). Aquí se concentrarán las mejores parejas de Euskadi y habrá asimismo participación de deportistas del Estado. \n\n\n\n– 11.15 horas: Canicross popular. \n\n\n\n– 12.00 horas: Canicross infantil\, sobre una distancia de 100 metros.
URL:https://deplanesporlacomarca.com/agenda-evento/viii-trofeo-ogiberri-hondarribiko-x-txakurkrosa-hondarribia/2025-02-02/
LOCATION:Faro de Higuer\, Higuer Bidea\, 56\, Hondarribia\, Gipuzkoa\, España
ATTACH;FMTTYPE=image/jpeg:https://deplanesporlacomarca.com/wp-content/uploads/2025/01/viii_trofeo_ogiberri_hondarribiko_x_txakurkrosa_2025_hondarribia.jpg
GEO:43.3919048;-1.7919203
X-APPLE-STRUCTURED-LOCATION;VALUE=URI;X-ADDRESS=Faro de Higuer Higuer Bidea 56 Hondarribia Gipuzkoa España;X-APPLE-RADIUS=500;X-TITLE=Higuer Bidea\, 56:geo:-1.7919203,43.3919048
END:VEVENT
BEGIN:VEVENT
DTSTART;TZID=Europe/Madrid:20250201T153000
DTEND;TZID=Europe/Madrid:20250201T200000
DTSTAMP:20260420T131116
CREATED:20250130T112341Z
LAST-MODIFIED:20250130T112344Z
UID:10038356-1738423800-1738440000@deplanesporlacomarca.com
SUMMARY:VIII. TROFEO OGIBERRI - HONDARRIBIKO X. TXAKURKROSA (HONDARRIBIA)
DESCRIPTION:Este fin de semana el canicross volverá a Hondarribia de la mano del Club Deportivo Euskanikross. En las inmediaciones del Faro de Higer se celebrará el X Hondarribiko Txakurkrossa. \n\n\n\n \n\n\n\nEste es el programa previsto de este plan: \n\n\n\n \n\n\n\nSábado 1: VIII Trofeo Ogiberri \n\n\n\n– 15.30 horas: control veterinario \n\n\n\n– 15.30 horas: entrega de dorsales y bolsa del corredor \n\n\n\n– 17.00 horas: salida individual BIKEJORING \n\n\n\n– 19.00 horas: salidas libres CANICROSS de tres en tres \n\n\n\n– 20.00 horas: picoteo y entrega de premios del Campeonato de Gipuzkoa Mushing Tierra de Federados. \n\n\n\n \n\n\n\nDomingo 2: \n\n\n\n– 08.40 horas: «Bikejoring»\, en el que el can corre y la persona va en bicicleta\, siempre acompasando la carrera al ritmo de su protagonista. \n\n\n\n– 10.00 horas: carrera absoluta de Canicross. Prueba puntuable de la Euskadiko Txakurkros Liga (ETL). Aquí se concentrarán las mejores parejas de Euskadi y habrá asimismo participación de deportistas del Estado. \n\n\n\n– 11.15 horas: Canicross popular. \n\n\n\n– 12.00 horas: Canicross infantil\, sobre una distancia de 100 metros.
URL:https://deplanesporlacomarca.com/agenda-evento/viii-trofeo-ogiberri-hondarribiko-x-txakurkrosa-hondarribia/2025-02-01/
LOCATION:Faro de Higuer\, Higuer Bidea\, 56\, Hondarribia\, Gipuzkoa\, España
ATTACH;FMTTYPE=image/jpeg:https://deplanesporlacomarca.com/wp-content/uploads/2025/01/viii_trofeo_ogiberri_hondarribiko_x_txakurkrosa_2025_hondarribia.jpg
GEO:43.3919048;-1.7919203
X-APPLE-STRUCTURED-LOCATION;VALUE=URI;X-ADDRESS=Faro de Higuer Higuer Bidea 56 Hondarribia Gipuzkoa España;X-APPLE-RADIUS=500;X-TITLE=Higuer Bidea\, 56:geo:-1.7919203,43.3919048
END:VEVENT
END:VCALENDAR