BEGIN:VCALENDAR
VERSION:2.0
PRODID:-//De planes por la comarca - ECPv6.15.20//NONSGML v1.0//EN
CALSCALE:GREGORIAN
METHOD:PUBLISH
X-WR-CALNAME:De planes por la comarca
X-ORIGINAL-URL:https://deplanesporlacomarca.com
X-WR-CALDESC:Eventos para De planes por la comarca
REFRESH-INTERVAL;VALUE=DURATION:PT1H
X-Robots-Tag:noindex
X-PUBLISHED-TTL:PT1H
BEGIN:VTIMEZONE
TZID:Europe/Madrid
BEGIN:DAYLIGHT
TZOFFSETFROM:+0100
TZOFFSETTO:+0200
TZNAME:CEST
DTSTART:20250330T010000
END:DAYLIGHT
BEGIN:STANDARD
TZOFFSETFROM:+0200
TZOFFSETTO:+0100
TZNAME:CET
DTSTART:20251026T010000
END:STANDARD
BEGIN:DAYLIGHT
TZOFFSETFROM:+0100
TZOFFSETTO:+0200
TZNAME:CEST
DTSTART:20260329T010000
END:DAYLIGHT
BEGIN:STANDARD
TZOFFSETFROM:+0200
TZOFFSETTO:+0100
TZNAME:CET
DTSTART:20261025T010000
END:STANDARD
BEGIN:DAYLIGHT
TZOFFSETFROM:+0100
TZOFFSETTO:+0200
TZNAME:CEST
DTSTART:20270328T010000
END:DAYLIGHT
BEGIN:STANDARD
TZOFFSETFROM:+0200
TZOFFSETTO:+0100
TZNAME:CET
DTSTART:20271031T010000
END:STANDARD
END:VTIMEZONE
BEGIN:VEVENT
DTSTART;TZID=Europe/Madrid:20260221T170000
DTEND;TZID=Europe/Madrid:20260221T170000
DTSTAMP:20260421T111647
CREATED:20260218T174751Z
LAST-MODIFIED:20260219T092358Z
UID:10041959-1771693200-1771693200@deplanesporlacomarca.com
SUMMARY:CARNAVALES EN EL BARRIO DE VENTAS 2026 (IRUN)
DESCRIPTION:El barrio de Ventas de Irun celebra sus carnavales desde las 17.00 horas. \n\n\n\n \n\n\n\nEl plan tiene este programa: \n\n\n\n– 17.00 horas: Desfile de las comparsas por las calles del barrio\, con salida desde Errotazar. \n\n\n\n– 18.00 horas: Exhibición de baile en el frontón. \n\n\n\n \n\n\n\n\n\n\n\n\n\n \n\n\n\nDesde la organización animan a vecinos\, cuadrillas\, familias a salir con disfraces originales\, desfilando en grupos o comparsas más pequeñas (Si os animáis\, contactar con la AVV. Landetxa). Este año estará la txaranga Txintxarri\, que abrirá el desfile.
URL:https://deplanesporlacomarca.com/agenda-evento/carnavales-en-el-barrio-de-ventas-2026-irun/
LOCATION:Frontón de Ventas\, Harmugarrieta kalea\, 11\, Irun\, Gipuzkoa\, España
ATTACH;FMTTYPE=image/jpeg:https://deplanesporlacomarca.com/wp-content/uploads/2026/02/carnavales_2026_inauteriak_barrio_ventas_katea_landetxa_auzoa_irun.jpg
GEO:43.3286675;-1.8169993
X-APPLE-STRUCTURED-LOCATION;VALUE=URI;X-ADDRESS=Frontón de Ventas Harmugarrieta kalea 11 Irun Gipuzkoa España;X-APPLE-RADIUS=500;X-TITLE=Harmugarrieta kalea\, 11:geo:-1.8169993,43.3286675
END:VEVENT
END:VCALENDAR