BEGIN:VCALENDAR
VERSION:2.0
PRODID:-//De planes por la comarca - ECPv6.15.20//NONSGML v1.0//EN
CALSCALE:GREGORIAN
METHOD:PUBLISH
X-WR-CALNAME:De planes por la comarca
X-ORIGINAL-URL:https://deplanesporlacomarca.com
X-WR-CALDESC:Eventos para De planes por la comarca
REFRESH-INTERVAL;VALUE=DURATION:PT1H
X-Robots-Tag:noindex
X-PUBLISHED-TTL:PT1H
BEGIN:VTIMEZONE
TZID:Europe/Madrid
BEGIN:DAYLIGHT
TZOFFSETFROM:+0100
TZOFFSETTO:+0200
TZNAME:CEST
DTSTART:20230326T010000
END:DAYLIGHT
BEGIN:STANDARD
TZOFFSETFROM:+0200
TZOFFSETTO:+0100
TZNAME:CET
DTSTART:20231029T010000
END:STANDARD
BEGIN:DAYLIGHT
TZOFFSETFROM:+0100
TZOFFSETTO:+0200
TZNAME:CEST
DTSTART:20240331T010000
END:DAYLIGHT
BEGIN:STANDARD
TZOFFSETFROM:+0200
TZOFFSETTO:+0100
TZNAME:CET
DTSTART:20241027T010000
END:STANDARD
BEGIN:DAYLIGHT
TZOFFSETFROM:+0100
TZOFFSETTO:+0200
TZNAME:CEST
DTSTART:20250330T010000
END:DAYLIGHT
BEGIN:STANDARD
TZOFFSETFROM:+0200
TZOFFSETTO:+0100
TZNAME:CET
DTSTART:20251026T010000
END:STANDARD
END:VTIMEZONE
BEGIN:VEVENT
DTSTART;TZID=Europe/Madrid:20240914T180000
DTEND;TZID=Europe/Madrid:20240914T180000
DTSTAMP:20260420T055551
CREATED:20240912T121544Z
LAST-MODIFIED:20240912T122335Z
UID:10036669-1726336800-1726336800@deplanesporlacomarca.com
SUMMARY:DANTZA HIRIAN 2024 (HENDAYE)
DESCRIPTION:En su 19 edición\, Dantza Hirian\, festival transfronterizo de danza en paisajes urbanos\, recorrerá 6 localidades: Irun\, Biarritz\, Donostia-San Sebastián\, Errenteria\, Hendaia y Hondarribia. Presenta una variada programación de piezas cortas\, todas ellas gratuitas\, con el objetivo de sacar la danza contemporánea de los teatros para acercarla a todos los públicos. Dantza Hirian quiere dar a conocer la gran variedad que existe de lenguajes coreográficos\, apostando por las últimas tendencias de artistas locales\, nacionales e internacionales. \n\n\n\n \n\n\n\nUn total de 12 compañías\, de las cuales 6 son vascas\, pasaran por el festival. Estando presentes las Comunidades de Aragón\, Navarra\, Canarias y Cataluña. A.sí como intérpretes internacionales de Bélgica y Costa Rica. \n\n\n\n \n\n\n\nEste es el plan que tiene lugar en el Frontón Gaztelu Zahar de Hendaya: \n\n\n\n– 18.00 horas: «Remedios Vals». Jone Amezaga – Manu Gaigne (Euskadi) \n\n\n\n– 18.15 horas: «Batu». Node (Euskadi)
URL:https://deplanesporlacomarca.com/agenda-evento/dantza-hirian-2024-hendaye/
LOCATION:Fronton Gaztelu Zahar\, Boulevard Général de Gaulle\, Hendaye\, Francia
ATTACH;FMTTYPE=image/jpeg:https://deplanesporlacomarca.com/wp-content/uploads/2024/09/dantza_hirian_2024_irun_hendaye_hondarribia.jpg
GEO:43.3564432;-1.7770353
X-APPLE-STRUCTURED-LOCATION;VALUE=URI;X-ADDRESS=Fronton Gaztelu Zahar Boulevard Général de Gaulle Hendaye Francia;X-APPLE-RADIUS=500;X-TITLE=Boulevard Général de Gaulle:geo:-1.7770353,43.3564432
END:VEVENT
BEGIN:VEVENT
DTSTART;TZID=Europe/Madrid:20240821T210000
DTEND;TZID=Europe/Madrid:20240821T210000
DTSTAMP:20260420T055551
CREATED:20240716T154940Z
LAST-MODIFIED:20240716T154944Z
UID:10036176-1724274000-1724274000@deplanesporlacomarca.com
SUMMARY:SPORTS TRADITIONNELS - FORCE BASQUE 2024 (HENDAYE)
DESCRIPTION:Los mejores especialistas en juegos y deportes vascos se dan cita cada miércoles\, a partir de las 21.00 horas en el Frontón Gaztelu Zahar de Hendaya. \n\n\n\n \n\n\n\nEl precio de las entradas para este plan es de: 12 Euros\, para los adultos\, 6 Euros\, para niñ@s de entre 8 y 14 años y gratis\, para l@s menores de 8 años.
URL:https://deplanesporlacomarca.com/agenda-evento/sports-traditionnels-force-basque-2024-hendaye/2024-08-21/
LOCATION:Fronton Gaztelu Zahar\, Boulevard Général de Gaulle\, Hendaye\, Francia
ATTACH;FMTTYPE=image/jpeg:https://deplanesporlacomarca.com/wp-content/uploads/2024/07/deportes_tradicionales_vascos_sports_traditionnels_basque_herri_kirolak_verano_2024_fronton_gaztelu_zahar_hendaye.jpg
GEO:43.3564432;-1.7770353
X-APPLE-STRUCTURED-LOCATION;VALUE=URI;X-ADDRESS=Fronton Gaztelu Zahar Boulevard Général de Gaulle Hendaye Francia;X-APPLE-RADIUS=500;X-TITLE=Boulevard Général de Gaulle:geo:-1.7770353,43.3564432
END:VEVENT
BEGIN:VEVENT
DTSTART;TZID=Europe/Madrid:20240814T210000
DTEND;TZID=Europe/Madrid:20240814T210000
DTSTAMP:20260420T055551
CREATED:20240716T154940Z
LAST-MODIFIED:20240716T154944Z
UID:10036175-1723669200-1723669200@deplanesporlacomarca.com
SUMMARY:SPORTS TRADITIONNELS - FORCE BASQUE 2024 (HENDAYE)
DESCRIPTION:Los mejores especialistas en juegos y deportes vascos se dan cita cada miércoles\, a partir de las 21.00 horas en el Frontón Gaztelu Zahar de Hendaya. \n\n\n\n \n\n\n\nEl precio de las entradas para este plan es de: 12 Euros\, para los adultos\, 6 Euros\, para niñ@s de entre 8 y 14 años y gratis\, para l@s menores de 8 años.
URL:https://deplanesporlacomarca.com/agenda-evento/sports-traditionnels-force-basque-2024-hendaye/2024-08-14/
LOCATION:Fronton Gaztelu Zahar\, Boulevard Général de Gaulle\, Hendaye\, Francia
ATTACH;FMTTYPE=image/jpeg:https://deplanesporlacomarca.com/wp-content/uploads/2024/07/deportes_tradicionales_vascos_sports_traditionnels_basque_herri_kirolak_verano_2024_fronton_gaztelu_zahar_hendaye.jpg
GEO:43.3564432;-1.7770353
X-APPLE-STRUCTURED-LOCATION;VALUE=URI;X-ADDRESS=Fronton Gaztelu Zahar Boulevard Général de Gaulle Hendaye Francia;X-APPLE-RADIUS=500;X-TITLE=Boulevard Général de Gaulle:geo:-1.7770353,43.3564432
END:VEVENT
BEGIN:VEVENT
DTSTART;TZID=Europe/Madrid:20240808T183000
DTEND;TZID=Europe/Madrid:20240808T235900
DTSTAMP:20260420T055551
CREATED:20240717T125637Z
LAST-MODIFIED:20240717T125641Z
UID:10036222-1723141800-1723161540@deplanesporlacomarca.com
SUMMARY:SOIRÉE MOUSSE – FIESTA DE LA ESPUMA – APAR GAUA – 8 AGOSTO 2024 (HENDAYE)
DESCRIPTION:Para niños y mayores\, fiesta de la espuma en el Frontón Gaztelu Zahar de Hendaya\, todos los jueves\, a partir de las 21.30 horas\, con previo de animaciones deportivas\, a cargo de l´association Herri Kirolak Bai\, desde las 18.30 horas. \n\n\n\n \n\n\n\nEl plan tiene un precio de 5 Euros\, para los niños y niñas\, a partir de 6 años. Para los adultos que acompañen a los niños\, la entrada es gratuita.
URL:https://deplanesporlacomarca.com/agenda-evento/soiree-mousse-fiesta-de-la-espuma-apar-gaua-8-agosto-2024-hendaye/
LOCATION:Fronton Gaztelu Zahar\, Boulevard Général de Gaulle\, Hendaye\, Francia
ATTACH;FMTTYPE=image/jpeg:https://deplanesporlacomarca.com/wp-content/uploads/2024/07/fiesta_de_la_espuma_soiree_mousse_apar_gaua_jueves_8_agosto_2024_hendaya.jpg
GEO:43.3564432;-1.7770353
X-APPLE-STRUCTURED-LOCATION;VALUE=URI;X-ADDRESS=Fronton Gaztelu Zahar Boulevard Général de Gaulle Hendaye Francia;X-APPLE-RADIUS=500;X-TITLE=Boulevard Général de Gaulle:geo:-1.7770353,43.3564432
END:VEVENT
BEGIN:VEVENT
DTSTART;TZID=Europe/Madrid:20240807T210000
DTEND;TZID=Europe/Madrid:20240807T210000
DTSTAMP:20260420T055551
CREATED:20240716T154940Z
LAST-MODIFIED:20240716T154944Z
UID:10036174-1723064400-1723064400@deplanesporlacomarca.com
SUMMARY:SPORTS TRADITIONNELS - FORCE BASQUE 2024 (HENDAYE)
DESCRIPTION:Los mejores especialistas en juegos y deportes vascos se dan cita cada miércoles\, a partir de las 21.00 horas en el Frontón Gaztelu Zahar de Hendaya. \n\n\n\n \n\n\n\nEl precio de las entradas para este plan es de: 12 Euros\, para los adultos\, 6 Euros\, para niñ@s de entre 8 y 14 años y gratis\, para l@s menores de 8 años.
URL:https://deplanesporlacomarca.com/agenda-evento/sports-traditionnels-force-basque-2024-hendaye/2024-08-07/
LOCATION:Fronton Gaztelu Zahar\, Boulevard Général de Gaulle\, Hendaye\, Francia
ATTACH;FMTTYPE=image/jpeg:https://deplanesporlacomarca.com/wp-content/uploads/2024/07/deportes_tradicionales_vascos_sports_traditionnels_basque_herri_kirolak_verano_2024_fronton_gaztelu_zahar_hendaye.jpg
GEO:43.3564432;-1.7770353
X-APPLE-STRUCTURED-LOCATION;VALUE=URI;X-ADDRESS=Fronton Gaztelu Zahar Boulevard Général de Gaulle Hendaye Francia;X-APPLE-RADIUS=500;X-TITLE=Boulevard Général de Gaulle:geo:-1.7770353,43.3564432
END:VEVENT
BEGIN:VEVENT
DTSTART;TZID=Europe/Madrid:20240801T183000
DTEND;TZID=Europe/Madrid:20240801T235900
DTSTAMP:20260420T055551
CREATED:20240717T125233Z
LAST-MODIFIED:20240717T125237Z
UID:10036221-1722537000-1722556740@deplanesporlacomarca.com
SUMMARY:SOIRÉE MOUSSE – FIESTA DE LA ESPUMA – APAR GAUA – 1 AGOSTO 2024 (HENDAYE)
DESCRIPTION:Para niños y mayores\, fiesta de la espuma en el Frontón Gaztelu Zahar de Hendaya\, todos los jueves\, a partir de las 21.30 horas\, con previo de animaciones deportivas\, a cargo de l´association Handisport et le Club de Natation Hendayais\, desde las 18.30 horas. \n\n\n\n \n\n\n\nEl plan tiene un precio de 5 Euros\, para los niños y niñas\, a partir de 6 años. Para los adultos que acompañen a los niños\, la entrada es gratuita.
URL:https://deplanesporlacomarca.com/agenda-evento/soiree-mousse-fiesta-de-la-espuma-apar-gaua-1-agosto-2024-hendaye/
LOCATION:Fronton Gaztelu Zahar\, Boulevard Général de Gaulle\, Hendaye\, Francia
ATTACH;FMTTYPE=image/jpeg:https://deplanesporlacomarca.com/wp-content/uploads/2024/07/fiesta_de_la_espuma_soiree_mousse_apar_gaua_jueves_1_agosto_2024_hendaya.jpg
GEO:43.3564432;-1.7770353
X-APPLE-STRUCTURED-LOCATION;VALUE=URI;X-ADDRESS=Fronton Gaztelu Zahar Boulevard Général de Gaulle Hendaye Francia;X-APPLE-RADIUS=500;X-TITLE=Boulevard Général de Gaulle:geo:-1.7770353,43.3564432
END:VEVENT
BEGIN:VEVENT
DTSTART;TZID=Europe/Madrid:20240731T210000
DTEND;TZID=Europe/Madrid:20240731T210000
DTSTAMP:20260420T055551
CREATED:20240716T154940Z
LAST-MODIFIED:20240716T154944Z
UID:10036173-1722459600-1722459600@deplanesporlacomarca.com
SUMMARY:SPORTS TRADITIONNELS - FORCE BASQUE 2024 (HENDAYE)
DESCRIPTION:Los mejores especialistas en juegos y deportes vascos se dan cita cada miércoles\, a partir de las 21.00 horas en el Frontón Gaztelu Zahar de Hendaya. \n\n\n\n \n\n\n\nEl precio de las entradas para este plan es de: 12 Euros\, para los adultos\, 6 Euros\, para niñ@s de entre 8 y 14 años y gratis\, para l@s menores de 8 años.
URL:https://deplanesporlacomarca.com/agenda-evento/sports-traditionnels-force-basque-2024-hendaye/2024-07-31/
LOCATION:Fronton Gaztelu Zahar\, Boulevard Général de Gaulle\, Hendaye\, Francia
ATTACH;FMTTYPE=image/jpeg:https://deplanesporlacomarca.com/wp-content/uploads/2024/07/deportes_tradicionales_vascos_sports_traditionnels_basque_herri_kirolak_verano_2024_fronton_gaztelu_zahar_hendaye.jpg
GEO:43.3564432;-1.7770353
X-APPLE-STRUCTURED-LOCATION;VALUE=URI;X-ADDRESS=Fronton Gaztelu Zahar Boulevard Général de Gaulle Hendaye Francia;X-APPLE-RADIUS=500;X-TITLE=Boulevard Général de Gaulle:geo:-1.7770353,43.3564432
END:VEVENT
BEGIN:VEVENT
DTSTART;TZID=Europe/Madrid:20240725T183000
DTEND;TZID=Europe/Madrid:20240725T235900
DTSTAMP:20260420T055551
CREATED:20240717T124317Z
LAST-MODIFIED:20240717T124323Z
UID:10036220-1721932200-1721951940@deplanesporlacomarca.com
SUMMARY:SOIRÉE MOUSSE – FIESTA DE LA ESPUMA – APAR GAUA – 25 JULIO 2024 (HENDAYE)
DESCRIPTION:Para niños y mayores\, fiesta de la espuma en el Frontón Gaztelu Zahar de Hendaya\, todos los jueves\, a partir de las 21.30 horas\, con previo de animaciones deportivas\, a cargo de l´association Stade Hendayais Rugby\, desde las 18.30 horas. \n\n\n\n \n\n\n\nEl plan tiene un precio de 5 Euros\, para los niños y niñas\, a partir de 6 años. Para los adultos que acompañen a los niños\, la entrada es gratuita.
URL:https://deplanesporlacomarca.com/agenda-evento/soiree-mousse-fiesta-de-la-espuma-apar-gaua-25-julio-2024-hendaye/
LOCATION:Fronton Gaztelu Zahar\, Boulevard Général de Gaulle\, Hendaye\, Francia
ATTACH;FMTTYPE=image/jpeg:https://deplanesporlacomarca.com/wp-content/uploads/2024/07/fiesta_de_la_espuma_soiree_mousse_apar_gaua_jueves_25_julio_2024_hendaya.jpg
GEO:43.3564432;-1.7770353
X-APPLE-STRUCTURED-LOCATION;VALUE=URI;X-ADDRESS=Fronton Gaztelu Zahar Boulevard Général de Gaulle Hendaye Francia;X-APPLE-RADIUS=500;X-TITLE=Boulevard Général de Gaulle:geo:-1.7770353,43.3564432
END:VEVENT
BEGIN:VEVENT
DTSTART;TZID=Europe/Madrid:20240724T210000
DTEND;TZID=Europe/Madrid:20240724T210000
DTSTAMP:20260420T055551
CREATED:20240716T154940Z
LAST-MODIFIED:20240716T154944Z
UID:10036172-1721854800-1721854800@deplanesporlacomarca.com
SUMMARY:SPORTS TRADITIONNELS - FORCE BASQUE 2024 (HENDAYE)
DESCRIPTION:Los mejores especialistas en juegos y deportes vascos se dan cita cada miércoles\, a partir de las 21.00 horas en el Frontón Gaztelu Zahar de Hendaya. \n\n\n\n \n\n\n\nEl precio de las entradas para este plan es de: 12 Euros\, para los adultos\, 6 Euros\, para niñ@s de entre 8 y 14 años y gratis\, para l@s menores de 8 años.
URL:https://deplanesporlacomarca.com/agenda-evento/sports-traditionnels-force-basque-2024-hendaye/2024-07-24/
LOCATION:Fronton Gaztelu Zahar\, Boulevard Général de Gaulle\, Hendaye\, Francia
ATTACH;FMTTYPE=image/jpeg:https://deplanesporlacomarca.com/wp-content/uploads/2024/07/deportes_tradicionales_vascos_sports_traditionnels_basque_herri_kirolak_verano_2024_fronton_gaztelu_zahar_hendaye.jpg
GEO:43.3564432;-1.7770353
X-APPLE-STRUCTURED-LOCATION;VALUE=URI;X-ADDRESS=Fronton Gaztelu Zahar Boulevard Général de Gaulle Hendaye Francia;X-APPLE-RADIUS=500;X-TITLE=Boulevard Général de Gaulle:geo:-1.7770353,43.3564432
END:VEVENT
BEGIN:VEVENT
DTSTART;TZID=Europe/Madrid:20240718T183000
DTEND;TZID=Europe/Madrid:20240718T235900
DTSTAMP:20260420T055551
CREATED:20240717T123610Z
LAST-MODIFIED:20240717T123615Z
UID:10036219-1721327400-1721347140@deplanesporlacomarca.com
SUMMARY:SOIRÉE MOUSSE - FIESTA DE LA ESPUMA - APAR GAUA - 18 JULIO 2024 (HENDAYE)
DESCRIPTION:Para niños y mayores\, fiesta de la espuma en el Frontón Gaztelu Zahar de Hendaya\, todos los jueves\, a partir de las 21.30 horas\, con previo de animaciones deportivas\, a cargo de «L´association Le Judo Hendayais»\, desde las 18.30 horas. \n\n\n\n \n\n\n\nEl plan tiene un precio de 5 Euros\, para los niños y niñas\, a partir de 6 años. Para los adultos que acompañen a los niños\, la entrada es gratuita.
URL:https://deplanesporlacomarca.com/agenda-evento/soiree-mousse-fiesta-de-la-espuma-apar-gaua-18-julio-2024-hendaye/
LOCATION:Fronton Gaztelu Zahar\, Boulevard Général de Gaulle\, Hendaye\, Francia
ATTACH;FMTTYPE=image/jpeg:https://deplanesporlacomarca.com/wp-content/uploads/2024/07/fiesta_de_la_espuma_soiree_mousse_apar_gaua_jueves_18_julio_2024_hendaya.jpg
GEO:43.3564432;-1.7770353
X-APPLE-STRUCTURED-LOCATION;VALUE=URI;X-ADDRESS=Fronton Gaztelu Zahar Boulevard Général de Gaulle Hendaye Francia;X-APPLE-RADIUS=500;X-TITLE=Boulevard Général de Gaulle:geo:-1.7770353,43.3564432
END:VEVENT
BEGIN:VEVENT
DTSTART;TZID=Europe/Madrid:20240717T210000
DTEND;TZID=Europe/Madrid:20240717T210000
DTSTAMP:20260420T055551
CREATED:20240716T154940Z
LAST-MODIFIED:20240716T154944Z
UID:10036171-1721250000-1721250000@deplanesporlacomarca.com
SUMMARY:SPORTS TRADITIONNELS - FORCE BASQUE 2024 (HENDAYE)
DESCRIPTION:Los mejores especialistas en juegos y deportes vascos se dan cita cada miércoles\, a partir de las 21.00 horas en el Frontón Gaztelu Zahar de Hendaya. \n\n\n\n \n\n\n\nEl precio de las entradas para este plan es de: 12 Euros\, para los adultos\, 6 Euros\, para niñ@s de entre 8 y 14 años y gratis\, para l@s menores de 8 años.
URL:https://deplanesporlacomarca.com/agenda-evento/sports-traditionnels-force-basque-2024-hendaye/2024-07-17/
LOCATION:Fronton Gaztelu Zahar\, Boulevard Général de Gaulle\, Hendaye\, Francia
ATTACH;FMTTYPE=image/jpeg:https://deplanesporlacomarca.com/wp-content/uploads/2024/07/deportes_tradicionales_vascos_sports_traditionnels_basque_herri_kirolak_verano_2024_fronton_gaztelu_zahar_hendaye.jpg
GEO:43.3564432;-1.7770353
X-APPLE-STRUCTURED-LOCATION;VALUE=URI;X-ADDRESS=Fronton Gaztelu Zahar Boulevard Général de Gaulle Hendaye Francia;X-APPLE-RADIUS=500;X-TITLE=Boulevard Général de Gaulle:geo:-1.7770353,43.3564432
END:VEVENT
BEGIN:VEVENT
DTSTART;TZID=Europe/Madrid:20240526T100000
DTEND;TZID=Europe/Madrid:20240526T200000
DTSTAMP:20260420T055551
CREATED:20240430T155909Z
LAST-MODIFIED:20240430T155913Z
UID:10035382-1716717600-1716753600@deplanesporlacomarca.com
SUMMARY:MAI DU THÉÂTHRE 2024 - ANTZERKIAREN MAIATZA (HENDAYE)
DESCRIPTION:39º edición del festival «Mai du Théâtre» que tiene lugar en los alrededores del Frontón Gazteluzahar de Hendaya desde el 22 al 26 de Mayo\, con una amplia variedad espectáculos y conciertos. \n\n\n\n \n\n\n\nTe esperan muchos espectáculos de calle: teatro\, circo\, danza\, música\, … \n\n\n\n \n\n\n\nPuedes ver todo el programa previsto aquí. \n\n\n\n \n\n\n\nY más información\, aquí.
URL:https://deplanesporlacomarca.com/agenda-evento/mai-du-theathre-2024-antzerkiaren-maiatza-hendaye/2024-05-26/
LOCATION:Fronton Gaztelu Zahar\, Boulevard Général de Gaulle\, Hendaye\, Francia
ATTACH;FMTTYPE=image/jpeg:https://deplanesporlacomarca.com/wp-content/uploads/2024/04/mai_du_theatre_antzerkiaren_maiatza_mayo_2024_hendaye_hendaya.jpg
GEO:43.3564432;-1.7770353
X-APPLE-STRUCTURED-LOCATION;VALUE=URI;X-ADDRESS=Fronton Gaztelu Zahar Boulevard Général de Gaulle Hendaye Francia;X-APPLE-RADIUS=500;X-TITLE=Boulevard Général de Gaulle:geo:-1.7770353,43.3564432
END:VEVENT
BEGIN:VEVENT
DTSTART;TZID=Europe/Madrid:20240525T110000
DTEND;TZID=Europe/Madrid:20240525T235900
DTSTAMP:20260420T055551
CREATED:20240430T155909Z
LAST-MODIFIED:20240430T155913Z
UID:10035381-1716634800-1716681540@deplanesporlacomarca.com
SUMMARY:MAI DU THÉÂTHRE 2024 - ANTZERKIAREN MAIATZA (HENDAYE)
DESCRIPTION:39º edición del festival «Mai du Théâtre» que tiene lugar en los alrededores del Frontón Gazteluzahar de Hendaya desde el 22 al 26 de Mayo\, con una amplia variedad espectáculos y conciertos. \n\n\n\n \n\n\n\nTe esperan muchos espectáculos de calle: teatro\, circo\, danza\, música\, … \n\n\n\n \n\n\n\nPuedes ver todo el programa previsto aquí. \n\n\n\n \n\n\n\nY más información\, aquí.
URL:https://deplanesporlacomarca.com/agenda-evento/mai-du-theathre-2024-antzerkiaren-maiatza-hendaye/2024-05-25/
LOCATION:Fronton Gaztelu Zahar\, Boulevard Général de Gaulle\, Hendaye\, Francia
ATTACH;FMTTYPE=image/jpeg:https://deplanesporlacomarca.com/wp-content/uploads/2024/04/mai_du_theatre_antzerkiaren_maiatza_mayo_2024_hendaye_hendaya.jpg
GEO:43.3564432;-1.7770353
X-APPLE-STRUCTURED-LOCATION;VALUE=URI;X-ADDRESS=Fronton Gaztelu Zahar Boulevard Général de Gaulle Hendaye Francia;X-APPLE-RADIUS=500;X-TITLE=Boulevard Général de Gaulle:geo:-1.7770353,43.3564432
END:VEVENT
BEGIN:VEVENT
DTSTART;TZID=Europe/Madrid:20240524T100000
DTEND;TZID=Europe/Madrid:20240524T235900
DTSTAMP:20260420T055551
CREATED:20240430T155909Z
LAST-MODIFIED:20240430T155913Z
UID:10035380-1716544800-1716595140@deplanesporlacomarca.com
SUMMARY:MAI DU THÉÂTHRE 2024 - ANTZERKIAREN MAIATZA (HENDAYE)
DESCRIPTION:39º edición del festival «Mai du Théâtre» que tiene lugar en los alrededores del Frontón Gazteluzahar de Hendaya desde el 22 al 26 de Mayo\, con una amplia variedad espectáculos y conciertos. \n\n\n\n \n\n\n\nTe esperan muchos espectáculos de calle: teatro\, circo\, danza\, música\, … \n\n\n\n \n\n\n\nPuedes ver todo el programa previsto aquí. \n\n\n\n \n\n\n\nY más información\, aquí.
URL:https://deplanesporlacomarca.com/agenda-evento/mai-du-theathre-2024-antzerkiaren-maiatza-hendaye/2024-05-24/
LOCATION:Fronton Gaztelu Zahar\, Boulevard Général de Gaulle\, Hendaye\, Francia
ATTACH;FMTTYPE=image/jpeg:https://deplanesporlacomarca.com/wp-content/uploads/2024/04/mai_du_theatre_antzerkiaren_maiatza_mayo_2024_hendaye_hendaya.jpg
GEO:43.3564432;-1.7770353
X-APPLE-STRUCTURED-LOCATION;VALUE=URI;X-ADDRESS=Fronton Gaztelu Zahar Boulevard Général de Gaulle Hendaye Francia;X-APPLE-RADIUS=500;X-TITLE=Boulevard Général de Gaulle:geo:-1.7770353,43.3564432
END:VEVENT
BEGIN:VEVENT
DTSTART;TZID=Europe/Madrid:20240523T190000
DTEND;TZID=Europe/Madrid:20240523T190000
DTSTAMP:20260420T055551
CREATED:20240430T155909Z
LAST-MODIFIED:20240430T155913Z
UID:10035379-1716490800-1716490800@deplanesporlacomarca.com
SUMMARY:MAI DU THÉÂTHRE 2024 - ANTZERKIAREN MAIATZA (HENDAYE)
DESCRIPTION:39º edición del festival «Mai du Théâtre» que tiene lugar en los alrededores del Frontón Gazteluzahar de Hendaya desde el 22 al 26 de Mayo\, con una amplia variedad espectáculos y conciertos. \n\n\n\n \n\n\n\nTe esperan muchos espectáculos de calle: teatro\, circo\, danza\, música\, … \n\n\n\n \n\n\n\nPuedes ver todo el programa previsto aquí. \n\n\n\n \n\n\n\nY más información\, aquí.
URL:https://deplanesporlacomarca.com/agenda-evento/mai-du-theathre-2024-antzerkiaren-maiatza-hendaye/2024-05-23/
LOCATION:Fronton Gaztelu Zahar\, Boulevard Général de Gaulle\, Hendaye\, Francia
ATTACH;FMTTYPE=image/jpeg:https://deplanesporlacomarca.com/wp-content/uploads/2024/04/mai_du_theatre_antzerkiaren_maiatza_mayo_2024_hendaye_hendaya.jpg
GEO:43.3564432;-1.7770353
X-APPLE-STRUCTURED-LOCATION;VALUE=URI;X-ADDRESS=Fronton Gaztelu Zahar Boulevard Général de Gaulle Hendaye Francia;X-APPLE-RADIUS=500;X-TITLE=Boulevard Général de Gaulle:geo:-1.7770353,43.3564432
END:VEVENT
BEGIN:VEVENT
DTSTART;TZID=Europe/Madrid:20240522T190000
DTEND;TZID=Europe/Madrid:20240522T190000
DTSTAMP:20260420T055551
CREATED:20240430T155909Z
LAST-MODIFIED:20240430T155913Z
UID:10035378-1716404400-1716404400@deplanesporlacomarca.com
SUMMARY:MAI DU THÉÂTHRE 2024 - ANTZERKIAREN MAIATZA (HENDAYE)
DESCRIPTION:39º edición del festival «Mai du Théâtre» que tiene lugar en los alrededores del Frontón Gazteluzahar de Hendaya desde el 22 al 26 de Mayo\, con una amplia variedad espectáculos y conciertos. \n\n\n\n \n\n\n\nTe esperan muchos espectáculos de calle: teatro\, circo\, danza\, música\, … \n\n\n\n \n\n\n\nPuedes ver todo el programa previsto aquí. \n\n\n\n \n\n\n\nY más información\, aquí.
URL:https://deplanesporlacomarca.com/agenda-evento/mai-du-theathre-2024-antzerkiaren-maiatza-hendaye/2024-05-22/
LOCATION:Fronton Gaztelu Zahar\, Boulevard Général de Gaulle\, Hendaye\, Francia
ATTACH;FMTTYPE=image/jpeg:https://deplanesporlacomarca.com/wp-content/uploads/2024/04/mai_du_theatre_antzerkiaren_maiatza_mayo_2024_hendaye_hendaya.jpg
GEO:43.3564432;-1.7770353
X-APPLE-STRUCTURED-LOCATION;VALUE=URI;X-ADDRESS=Fronton Gaztelu Zahar Boulevard Général de Gaulle Hendaye Francia;X-APPLE-RADIUS=500;X-TITLE=Boulevard Général de Gaulle:geo:-1.7770353,43.3564432
END:VEVENT
END:VCALENDAR