BEGIN:VCALENDAR
VERSION:2.0
PRODID:-//De planes por la comarca - ECPv6.15.20//NONSGML v1.0//EN
CALSCALE:GREGORIAN
METHOD:PUBLISH
X-WR-CALNAME:De planes por la comarca
X-ORIGINAL-URL:https://deplanesporlacomarca.com
X-WR-CALDESC:Eventos para De planes por la comarca
REFRESH-INTERVAL;VALUE=DURATION:PT1H
X-Robots-Tag:noindex
X-PUBLISHED-TTL:PT1H
BEGIN:VTIMEZONE
TZID:Europe/Madrid
BEGIN:DAYLIGHT
TZOFFSETFROM:+0100
TZOFFSETTO:+0200
TZNAME:CEST
DTSTART:20230326T010000
END:DAYLIGHT
BEGIN:STANDARD
TZOFFSETFROM:+0200
TZOFFSETTO:+0100
TZNAME:CET
DTSTART:20231029T010000
END:STANDARD
BEGIN:DAYLIGHT
TZOFFSETFROM:+0100
TZOFFSETTO:+0200
TZNAME:CEST
DTSTART:20240331T010000
END:DAYLIGHT
BEGIN:STANDARD
TZOFFSETFROM:+0200
TZOFFSETTO:+0100
TZNAME:CET
DTSTART:20241027T010000
END:STANDARD
BEGIN:DAYLIGHT
TZOFFSETFROM:+0100
TZOFFSETTO:+0200
TZNAME:CEST
DTSTART:20250330T010000
END:DAYLIGHT
BEGIN:STANDARD
TZOFFSETFROM:+0200
TZOFFSETTO:+0100
TZNAME:CET
DTSTART:20251026T010000
END:STANDARD
END:VTIMEZONE
BEGIN:VEVENT
DTSTART;TZID=Europe/Madrid:20240804T110000
DTEND;TZID=Europe/Madrid:20240804T130000
DTSTAMP:20260419T230603
CREATED:20240131T181356Z
LAST-MODIFIED:20260330T172106Z
UID:10036261-1722769200-1722776400@deplanesporlacomarca.com
SUMMARY:VISITA GUIADA\, "LOS LUGARES PROHIBIDOS DEL FUERTE DE GUADALUPE" (HONDARRIBIA)
DESCRIPTION:ARMA PLAZA Fundazioa ofrece la visita guiada al «Fuerte de Guadalupe\, los lugares prohibidos» en Hondarribia. \n\n\n\n \n\n\n\nEl Fuerte de Guadalupe es una de las construcciones defensivas de época contemporánea más bellas del País Vasco. Esta fortaleza está situada en el monte Jaizkibel junto al Santuario de Guadalupe y data de finales del año 1900. \n\n\n\n \n\n\n\nLa visita comienza a las 11.00 horas y tiene una duración de dos horas\, en las que se recorre gran parte de la mayor fortificación contemporánea de la Comunidad Autónoma del País Vasco (prevista para 69 cañones)\, visitando el foso\, los dos cuarteles que posee en su interior\, pabellones de oficiales\, almacenes y repuestos de munición\, las poternas de comunicación\, las baterías para la defensa del foso\, las baterías acasamatadas (en el interior de edificios) y al aire libre\, los patios\, las galerías aspilleradas\, etc.. \n\n\n\n \n\n\n\nAquí tienes un enlace al post de la visita que hice para descubrirlo. \n\n\n\n \n\n\n\nRecomiendan llevar un calzado adecuado (a evitar sandalias o zapatos con tacón alto). \n\n\n\n \n\n\n\nPrecio: 15 Euros (menores de 12 años y personas empadronadas en Hondarribia\, gratis) \n\n\n\n \n\n\n\nPlan perfecto para toda la familia\, niños y mayores. \n\n\n\n \n\n\n\nLas reservas se podrán hacer por teléfono llamando a 943 64 46 23 / 943 64 36 77\, enviando un correo electrónico a info@armaplaza.eus o en este enlace.
URL:https://deplanesporlacomarca.com/agenda-evento/visita-guiada-los-lugares-prohibidos-del-fuerte-de-guadalupe-hondarribia/2024-08-04/
LOCATION:Fuerte de Nuestra Señora de Guadalupe\, Hondarribia\, Gipuzkoa\, España
ATTACH;FMTTYPE=image/jpeg:https://deplanesporlacomarca.com/wp-content/uploads/2017/09/de-planes-por-la-comarca-visita-guiada-hondarribia-gipuzkoa-fuerte-guadalupe-ocio-deeventos-191.jpg
END:VEVENT
BEGIN:VEVENT
DTSTART;TZID=Europe/Madrid:20240803T110000
DTEND;TZID=Europe/Madrid:20240803T130000
DTSTAMP:20260419T230603
CREATED:20240131T181356Z
LAST-MODIFIED:20260330T172106Z
UID:10036260-1722682800-1722690000@deplanesporlacomarca.com
SUMMARY:VISITA GUIADA\, "LOS LUGARES PROHIBIDOS DEL FUERTE DE GUADALUPE" (HONDARRIBIA)
DESCRIPTION:ARMA PLAZA Fundazioa ofrece la visita guiada al «Fuerte de Guadalupe\, los lugares prohibidos» en Hondarribia. \n\n\n\n \n\n\n\nEl Fuerte de Guadalupe es una de las construcciones defensivas de época contemporánea más bellas del País Vasco. Esta fortaleza está situada en el monte Jaizkibel junto al Santuario de Guadalupe y data de finales del año 1900. \n\n\n\n \n\n\n\nLa visita comienza a las 11.00 horas y tiene una duración de dos horas\, en las que se recorre gran parte de la mayor fortificación contemporánea de la Comunidad Autónoma del País Vasco (prevista para 69 cañones)\, visitando el foso\, los dos cuarteles que posee en su interior\, pabellones de oficiales\, almacenes y repuestos de munición\, las poternas de comunicación\, las baterías para la defensa del foso\, las baterías acasamatadas (en el interior de edificios) y al aire libre\, los patios\, las galerías aspilleradas\, etc.. \n\n\n\n \n\n\n\nAquí tienes un enlace al post de la visita que hice para descubrirlo. \n\n\n\n \n\n\n\nRecomiendan llevar un calzado adecuado (a evitar sandalias o zapatos con tacón alto). \n\n\n\n \n\n\n\nPrecio: 15 Euros (menores de 12 años y personas empadronadas en Hondarribia\, gratis) \n\n\n\n \n\n\n\nPlan perfecto para toda la familia\, niños y mayores. \n\n\n\n \n\n\n\nLas reservas se podrán hacer por teléfono llamando a 943 64 46 23 / 943 64 36 77\, enviando un correo electrónico a info@armaplaza.eus o en este enlace.
URL:https://deplanesporlacomarca.com/agenda-evento/visita-guiada-los-lugares-prohibidos-del-fuerte-de-guadalupe-hondarribia/2024-08-03/
LOCATION:Fuerte de Nuestra Señora de Guadalupe\, Hondarribia\, Gipuzkoa\, España
ATTACH;FMTTYPE=image/jpeg:https://deplanesporlacomarca.com/wp-content/uploads/2017/09/de-planes-por-la-comarca-visita-guiada-hondarribia-gipuzkoa-fuerte-guadalupe-ocio-deeventos-191.jpg
END:VEVENT
BEGIN:VEVENT
DTSTART;TZID=Europe/Madrid:20240802T110000
DTEND;TZID=Europe/Madrid:20240802T130000
DTSTAMP:20260419T230603
CREATED:20240131T181356Z
LAST-MODIFIED:20260330T172106Z
UID:10036259-1722596400-1722603600@deplanesporlacomarca.com
SUMMARY:VISITA GUIADA\, "LOS LUGARES PROHIBIDOS DEL FUERTE DE GUADALUPE" (HONDARRIBIA)
DESCRIPTION:ARMA PLAZA Fundazioa ofrece la visita guiada al «Fuerte de Guadalupe\, los lugares prohibidos» en Hondarribia. \n\n\n\n \n\n\n\nEl Fuerte de Guadalupe es una de las construcciones defensivas de época contemporánea más bellas del País Vasco. Esta fortaleza está situada en el monte Jaizkibel junto al Santuario de Guadalupe y data de finales del año 1900. \n\n\n\n \n\n\n\nLa visita comienza a las 11.00 horas y tiene una duración de dos horas\, en las que se recorre gran parte de la mayor fortificación contemporánea de la Comunidad Autónoma del País Vasco (prevista para 69 cañones)\, visitando el foso\, los dos cuarteles que posee en su interior\, pabellones de oficiales\, almacenes y repuestos de munición\, las poternas de comunicación\, las baterías para la defensa del foso\, las baterías acasamatadas (en el interior de edificios) y al aire libre\, los patios\, las galerías aspilleradas\, etc.. \n\n\n\n \n\n\n\nAquí tienes un enlace al post de la visita que hice para descubrirlo. \n\n\n\n \n\n\n\nRecomiendan llevar un calzado adecuado (a evitar sandalias o zapatos con tacón alto). \n\n\n\n \n\n\n\nPrecio: 15 Euros (menores de 12 años y personas empadronadas en Hondarribia\, gratis) \n\n\n\n \n\n\n\nPlan perfecto para toda la familia\, niños y mayores. \n\n\n\n \n\n\n\nLas reservas se podrán hacer por teléfono llamando a 943 64 46 23 / 943 64 36 77\, enviando un correo electrónico a info@armaplaza.eus o en este enlace.
URL:https://deplanesporlacomarca.com/agenda-evento/visita-guiada-los-lugares-prohibidos-del-fuerte-de-guadalupe-hondarribia/2024-08-02/
LOCATION:Fuerte de Nuestra Señora de Guadalupe\, Hondarribia\, Gipuzkoa\, España
ATTACH;FMTTYPE=image/jpeg:https://deplanesporlacomarca.com/wp-content/uploads/2017/09/de-planes-por-la-comarca-visita-guiada-hondarribia-gipuzkoa-fuerte-guadalupe-ocio-deeventos-191.jpg
END:VEVENT
BEGIN:VEVENT
DTSTART;TZID=Europe/Madrid:20240801T110000
DTEND;TZID=Europe/Madrid:20240801T130000
DTSTAMP:20260419T230603
CREATED:20240131T181356Z
LAST-MODIFIED:20260330T172106Z
UID:10036258-1722510000-1722517200@deplanesporlacomarca.com
SUMMARY:VISITA GUIADA\, "LOS LUGARES PROHIBIDOS DEL FUERTE DE GUADALUPE" (HONDARRIBIA)
DESCRIPTION:ARMA PLAZA Fundazioa ofrece la visita guiada al «Fuerte de Guadalupe\, los lugares prohibidos» en Hondarribia. \n\n\n\n \n\n\n\nEl Fuerte de Guadalupe es una de las construcciones defensivas de época contemporánea más bellas del País Vasco. Esta fortaleza está situada en el monte Jaizkibel junto al Santuario de Guadalupe y data de finales del año 1900. \n\n\n\n \n\n\n\nLa visita comienza a las 11.00 horas y tiene una duración de dos horas\, en las que se recorre gran parte de la mayor fortificación contemporánea de la Comunidad Autónoma del País Vasco (prevista para 69 cañones)\, visitando el foso\, los dos cuarteles que posee en su interior\, pabellones de oficiales\, almacenes y repuestos de munición\, las poternas de comunicación\, las baterías para la defensa del foso\, las baterías acasamatadas (en el interior de edificios) y al aire libre\, los patios\, las galerías aspilleradas\, etc.. \n\n\n\n \n\n\n\nAquí tienes un enlace al post de la visita que hice para descubrirlo. \n\n\n\n \n\n\n\nRecomiendan llevar un calzado adecuado (a evitar sandalias o zapatos con tacón alto). \n\n\n\n \n\n\n\nPrecio: 15 Euros (menores de 12 años y personas empadronadas en Hondarribia\, gratis) \n\n\n\n \n\n\n\nPlan perfecto para toda la familia\, niños y mayores. \n\n\n\n \n\n\n\nLas reservas se podrán hacer por teléfono llamando a 943 64 46 23 / 943 64 36 77\, enviando un correo electrónico a info@armaplaza.eus o en este enlace.
URL:https://deplanesporlacomarca.com/agenda-evento/visita-guiada-los-lugares-prohibidos-del-fuerte-de-guadalupe-hondarribia/2024-08-01/
LOCATION:Fuerte de Nuestra Señora de Guadalupe\, Hondarribia\, Gipuzkoa\, España
ATTACH;FMTTYPE=image/jpeg:https://deplanesporlacomarca.com/wp-content/uploads/2017/09/de-planes-por-la-comarca-visita-guiada-hondarribia-gipuzkoa-fuerte-guadalupe-ocio-deeventos-191.jpg
END:VEVENT
BEGIN:VEVENT
DTSTART;TZID=Europe/Madrid:20240728T110000
DTEND;TZID=Europe/Madrid:20240728T130000
DTSTAMP:20260419T230603
CREATED:20240131T181356Z
LAST-MODIFIED:20260330T172106Z
UID:10036257-1722164400-1722171600@deplanesporlacomarca.com
SUMMARY:VISITA GUIADA\, "LOS LUGARES PROHIBIDOS DEL FUERTE DE GUADALUPE" (HONDARRIBIA)
DESCRIPTION:ARMA PLAZA Fundazioa ofrece la visita guiada al «Fuerte de Guadalupe\, los lugares prohibidos» en Hondarribia. \n\n\n\n \n\n\n\nEl Fuerte de Guadalupe es una de las construcciones defensivas de época contemporánea más bellas del País Vasco. Esta fortaleza está situada en el monte Jaizkibel junto al Santuario de Guadalupe y data de finales del año 1900. \n\n\n\n \n\n\n\nLa visita comienza a las 11.00 horas y tiene una duración de dos horas\, en las que se recorre gran parte de la mayor fortificación contemporánea de la Comunidad Autónoma del País Vasco (prevista para 69 cañones)\, visitando el foso\, los dos cuarteles que posee en su interior\, pabellones de oficiales\, almacenes y repuestos de munición\, las poternas de comunicación\, las baterías para la defensa del foso\, las baterías acasamatadas (en el interior de edificios) y al aire libre\, los patios\, las galerías aspilleradas\, etc.. \n\n\n\n \n\n\n\nAquí tienes un enlace al post de la visita que hice para descubrirlo. \n\n\n\n \n\n\n\nRecomiendan llevar un calzado adecuado (a evitar sandalias o zapatos con tacón alto). \n\n\n\n \n\n\n\nPrecio: 15 Euros (menores de 12 años y personas empadronadas en Hondarribia\, gratis) \n\n\n\n \n\n\n\nPlan perfecto para toda la familia\, niños y mayores. \n\n\n\n \n\n\n\nLas reservas se podrán hacer por teléfono llamando a 943 64 46 23 / 943 64 36 77\, enviando un correo electrónico a info@armaplaza.eus o en este enlace.
URL:https://deplanesporlacomarca.com/agenda-evento/visita-guiada-los-lugares-prohibidos-del-fuerte-de-guadalupe-hondarribia/2024-07-28/
LOCATION:Fuerte de Nuestra Señora de Guadalupe\, Hondarribia\, Gipuzkoa\, España
ATTACH;FMTTYPE=image/jpeg:https://deplanesporlacomarca.com/wp-content/uploads/2017/09/de-planes-por-la-comarca-visita-guiada-hondarribia-gipuzkoa-fuerte-guadalupe-ocio-deeventos-191.jpg
END:VEVENT
BEGIN:VEVENT
DTSTART;TZID=Europe/Madrid:20240727T110000
DTEND;TZID=Europe/Madrid:20240727T130000
DTSTAMP:20260419T230603
CREATED:20240131T181356Z
LAST-MODIFIED:20260330T172106Z
UID:10036256-1722078000-1722085200@deplanesporlacomarca.com
SUMMARY:VISITA GUIADA\, "LOS LUGARES PROHIBIDOS DEL FUERTE DE GUADALUPE" (HONDARRIBIA)
DESCRIPTION:ARMA PLAZA Fundazioa ofrece la visita guiada al «Fuerte de Guadalupe\, los lugares prohibidos» en Hondarribia. \n\n\n\n \n\n\n\nEl Fuerte de Guadalupe es una de las construcciones defensivas de época contemporánea más bellas del País Vasco. Esta fortaleza está situada en el monte Jaizkibel junto al Santuario de Guadalupe y data de finales del año 1900. \n\n\n\n \n\n\n\nLa visita comienza a las 11.00 horas y tiene una duración de dos horas\, en las que se recorre gran parte de la mayor fortificación contemporánea de la Comunidad Autónoma del País Vasco (prevista para 69 cañones)\, visitando el foso\, los dos cuarteles que posee en su interior\, pabellones de oficiales\, almacenes y repuestos de munición\, las poternas de comunicación\, las baterías para la defensa del foso\, las baterías acasamatadas (en el interior de edificios) y al aire libre\, los patios\, las galerías aspilleradas\, etc.. \n\n\n\n \n\n\n\nAquí tienes un enlace al post de la visita que hice para descubrirlo. \n\n\n\n \n\n\n\nRecomiendan llevar un calzado adecuado (a evitar sandalias o zapatos con tacón alto). \n\n\n\n \n\n\n\nPrecio: 15 Euros (menores de 12 años y personas empadronadas en Hondarribia\, gratis) \n\n\n\n \n\n\n\nPlan perfecto para toda la familia\, niños y mayores. \n\n\n\n \n\n\n\nLas reservas se podrán hacer por teléfono llamando a 943 64 46 23 / 943 64 36 77\, enviando un correo electrónico a info@armaplaza.eus o en este enlace.
URL:https://deplanesporlacomarca.com/agenda-evento/visita-guiada-los-lugares-prohibidos-del-fuerte-de-guadalupe-hondarribia/2024-07-27/
LOCATION:Fuerte de Nuestra Señora de Guadalupe\, Hondarribia\, Gipuzkoa\, España
ATTACH;FMTTYPE=image/jpeg:https://deplanesporlacomarca.com/wp-content/uploads/2017/09/de-planes-por-la-comarca-visita-guiada-hondarribia-gipuzkoa-fuerte-guadalupe-ocio-deeventos-191.jpg
END:VEVENT
BEGIN:VEVENT
DTSTART;TZID=Europe/Madrid:20240726T110000
DTEND;TZID=Europe/Madrid:20240726T130000
DTSTAMP:20260419T230603
CREATED:20240131T181356Z
LAST-MODIFIED:20260330T172106Z
UID:10036255-1721991600-1721998800@deplanesporlacomarca.com
SUMMARY:VISITA GUIADA\, "LOS LUGARES PROHIBIDOS DEL FUERTE DE GUADALUPE" (HONDARRIBIA)
DESCRIPTION:ARMA PLAZA Fundazioa ofrece la visita guiada al «Fuerte de Guadalupe\, los lugares prohibidos» en Hondarribia. \n\n\n\n \n\n\n\nEl Fuerte de Guadalupe es una de las construcciones defensivas de época contemporánea más bellas del País Vasco. Esta fortaleza está situada en el monte Jaizkibel junto al Santuario de Guadalupe y data de finales del año 1900. \n\n\n\n \n\n\n\nLa visita comienza a las 11.00 horas y tiene una duración de dos horas\, en las que se recorre gran parte de la mayor fortificación contemporánea de la Comunidad Autónoma del País Vasco (prevista para 69 cañones)\, visitando el foso\, los dos cuarteles que posee en su interior\, pabellones de oficiales\, almacenes y repuestos de munición\, las poternas de comunicación\, las baterías para la defensa del foso\, las baterías acasamatadas (en el interior de edificios) y al aire libre\, los patios\, las galerías aspilleradas\, etc.. \n\n\n\n \n\n\n\nAquí tienes un enlace al post de la visita que hice para descubrirlo. \n\n\n\n \n\n\n\nRecomiendan llevar un calzado adecuado (a evitar sandalias o zapatos con tacón alto). \n\n\n\n \n\n\n\nPrecio: 15 Euros (menores de 12 años y personas empadronadas en Hondarribia\, gratis) \n\n\n\n \n\n\n\nPlan perfecto para toda la familia\, niños y mayores. \n\n\n\n \n\n\n\nLas reservas se podrán hacer por teléfono llamando a 943 64 46 23 / 943 64 36 77\, enviando un correo electrónico a info@armaplaza.eus o en este enlace.
URL:https://deplanesporlacomarca.com/agenda-evento/visita-guiada-los-lugares-prohibidos-del-fuerte-de-guadalupe-hondarribia/2024-07-26/
LOCATION:Fuerte de Nuestra Señora de Guadalupe\, Hondarribia\, Gipuzkoa\, España
ATTACH;FMTTYPE=image/jpeg:https://deplanesporlacomarca.com/wp-content/uploads/2017/09/de-planes-por-la-comarca-visita-guiada-hondarribia-gipuzkoa-fuerte-guadalupe-ocio-deeventos-191.jpg
END:VEVENT
BEGIN:VEVENT
DTSTART;TZID=Europe/Madrid:20240725T110000
DTEND;TZID=Europe/Madrid:20240725T130000
DTSTAMP:20260419T230603
CREATED:20240131T181356Z
LAST-MODIFIED:20260330T172106Z
UID:10036254-1721905200-1721912400@deplanesporlacomarca.com
SUMMARY:VISITA GUIADA\, "LOS LUGARES PROHIBIDOS DEL FUERTE DE GUADALUPE" (HONDARRIBIA)
DESCRIPTION:ARMA PLAZA Fundazioa ofrece la visita guiada al «Fuerte de Guadalupe\, los lugares prohibidos» en Hondarribia. \n\n\n\n \n\n\n\nEl Fuerte de Guadalupe es una de las construcciones defensivas de época contemporánea más bellas del País Vasco. Esta fortaleza está situada en el monte Jaizkibel junto al Santuario de Guadalupe y data de finales del año 1900. \n\n\n\n \n\n\n\nLa visita comienza a las 11.00 horas y tiene una duración de dos horas\, en las que se recorre gran parte de la mayor fortificación contemporánea de la Comunidad Autónoma del País Vasco (prevista para 69 cañones)\, visitando el foso\, los dos cuarteles que posee en su interior\, pabellones de oficiales\, almacenes y repuestos de munición\, las poternas de comunicación\, las baterías para la defensa del foso\, las baterías acasamatadas (en el interior de edificios) y al aire libre\, los patios\, las galerías aspilleradas\, etc.. \n\n\n\n \n\n\n\nAquí tienes un enlace al post de la visita que hice para descubrirlo. \n\n\n\n \n\n\n\nRecomiendan llevar un calzado adecuado (a evitar sandalias o zapatos con tacón alto). \n\n\n\n \n\n\n\nPrecio: 15 Euros (menores de 12 años y personas empadronadas en Hondarribia\, gratis) \n\n\n\n \n\n\n\nPlan perfecto para toda la familia\, niños y mayores. \n\n\n\n \n\n\n\nLas reservas se podrán hacer por teléfono llamando a 943 64 46 23 / 943 64 36 77\, enviando un correo electrónico a info@armaplaza.eus o en este enlace.
URL:https://deplanesporlacomarca.com/agenda-evento/visita-guiada-los-lugares-prohibidos-del-fuerte-de-guadalupe-hondarribia/2024-07-25/
LOCATION:Fuerte de Nuestra Señora de Guadalupe\, Hondarribia\, Gipuzkoa\, España
ATTACH;FMTTYPE=image/jpeg:https://deplanesporlacomarca.com/wp-content/uploads/2017/09/de-planes-por-la-comarca-visita-guiada-hondarribia-gipuzkoa-fuerte-guadalupe-ocio-deeventos-191.jpg
END:VEVENT
BEGIN:VEVENT
DTSTART;TZID=Europe/Madrid:20240721T110000
DTEND;TZID=Europe/Madrid:20240721T130000
DTSTAMP:20260419T230603
CREATED:20240131T181356Z
LAST-MODIFIED:20260330T172106Z
UID:10036253-1721559600-1721566800@deplanesporlacomarca.com
SUMMARY:VISITA GUIADA\, "LOS LUGARES PROHIBIDOS DEL FUERTE DE GUADALUPE" (HONDARRIBIA)
DESCRIPTION:ARMA PLAZA Fundazioa ofrece la visita guiada al «Fuerte de Guadalupe\, los lugares prohibidos» en Hondarribia. \n\n\n\n \n\n\n\nEl Fuerte de Guadalupe es una de las construcciones defensivas de época contemporánea más bellas del País Vasco. Esta fortaleza está situada en el monte Jaizkibel junto al Santuario de Guadalupe y data de finales del año 1900. \n\n\n\n \n\n\n\nLa visita comienza a las 11.00 horas y tiene una duración de dos horas\, en las que se recorre gran parte de la mayor fortificación contemporánea de la Comunidad Autónoma del País Vasco (prevista para 69 cañones)\, visitando el foso\, los dos cuarteles que posee en su interior\, pabellones de oficiales\, almacenes y repuestos de munición\, las poternas de comunicación\, las baterías para la defensa del foso\, las baterías acasamatadas (en el interior de edificios) y al aire libre\, los patios\, las galerías aspilleradas\, etc.. \n\n\n\n \n\n\n\nAquí tienes un enlace al post de la visita que hice para descubrirlo. \n\n\n\n \n\n\n\nRecomiendan llevar un calzado adecuado (a evitar sandalias o zapatos con tacón alto). \n\n\n\n \n\n\n\nPrecio: 15 Euros (menores de 12 años y personas empadronadas en Hondarribia\, gratis) \n\n\n\n \n\n\n\nPlan perfecto para toda la familia\, niños y mayores. \n\n\n\n \n\n\n\nLas reservas se podrán hacer por teléfono llamando a 943 64 46 23 / 943 64 36 77\, enviando un correo electrónico a info@armaplaza.eus o en este enlace.
URL:https://deplanesporlacomarca.com/agenda-evento/visita-guiada-los-lugares-prohibidos-del-fuerte-de-guadalupe-hondarribia/2024-07-21/
LOCATION:Fuerte de Nuestra Señora de Guadalupe\, Hondarribia\, Gipuzkoa\, España
ATTACH;FMTTYPE=image/jpeg:https://deplanesporlacomarca.com/wp-content/uploads/2017/09/de-planes-por-la-comarca-visita-guiada-hondarribia-gipuzkoa-fuerte-guadalupe-ocio-deeventos-191.jpg
END:VEVENT
BEGIN:VEVENT
DTSTART;TZID=Europe/Madrid:20240719T110000
DTEND;TZID=Europe/Madrid:20240719T130000
DTSTAMP:20260419T230603
CREATED:20240131T181356Z
LAST-MODIFIED:20260330T172106Z
UID:10036252-1721386800-1721394000@deplanesporlacomarca.com
SUMMARY:VISITA GUIADA\, "LOS LUGARES PROHIBIDOS DEL FUERTE DE GUADALUPE" (HONDARRIBIA)
DESCRIPTION:ARMA PLAZA Fundazioa ofrece la visita guiada al «Fuerte de Guadalupe\, los lugares prohibidos» en Hondarribia. \n\n\n\n \n\n\n\nEl Fuerte de Guadalupe es una de las construcciones defensivas de época contemporánea más bellas del País Vasco. Esta fortaleza está situada en el monte Jaizkibel junto al Santuario de Guadalupe y data de finales del año 1900. \n\n\n\n \n\n\n\nLa visita comienza a las 11.00 horas y tiene una duración de dos horas\, en las que se recorre gran parte de la mayor fortificación contemporánea de la Comunidad Autónoma del País Vasco (prevista para 69 cañones)\, visitando el foso\, los dos cuarteles que posee en su interior\, pabellones de oficiales\, almacenes y repuestos de munición\, las poternas de comunicación\, las baterías para la defensa del foso\, las baterías acasamatadas (en el interior de edificios) y al aire libre\, los patios\, las galerías aspilleradas\, etc.. \n\n\n\n \n\n\n\nAquí tienes un enlace al post de la visita que hice para descubrirlo. \n\n\n\n \n\n\n\nRecomiendan llevar un calzado adecuado (a evitar sandalias o zapatos con tacón alto). \n\n\n\n \n\n\n\nPrecio: 15 Euros (menores de 12 años y personas empadronadas en Hondarribia\, gratis) \n\n\n\n \n\n\n\nPlan perfecto para toda la familia\, niños y mayores. \n\n\n\n \n\n\n\nLas reservas se podrán hacer por teléfono llamando a 943 64 46 23 / 943 64 36 77\, enviando un correo electrónico a info@armaplaza.eus o en este enlace.
URL:https://deplanesporlacomarca.com/agenda-evento/visita-guiada-los-lugares-prohibidos-del-fuerte-de-guadalupe-hondarribia/2024-07-19/
LOCATION:Fuerte de Nuestra Señora de Guadalupe\, Hondarribia\, Gipuzkoa\, España
ATTACH;FMTTYPE=image/jpeg:https://deplanesporlacomarca.com/wp-content/uploads/2017/09/de-planes-por-la-comarca-visita-guiada-hondarribia-gipuzkoa-fuerte-guadalupe-ocio-deeventos-191.jpg
END:VEVENT
BEGIN:VEVENT
DTSTART;TZID=Europe/Madrid:20240420T110000
DTEND;TZID=Europe/Madrid:20240420T130000
DTSTAMP:20260419T230603
CREATED:20240131T181356Z
LAST-MODIFIED:20260330T172106Z
UID:10035128-1713610800-1713618000@deplanesporlacomarca.com
SUMMARY:VISITA GUIADA\, "LOS LUGARES PROHIBIDOS DEL FUERTE DE GUADALUPE" (HONDARRIBIA)
DESCRIPTION:ARMA PLAZA Fundazioa ofrece la visita guiada al «Fuerte de Guadalupe\, los lugares prohibidos» en Hondarribia. \n\n\n\n \n\n\n\nEl Fuerte de Guadalupe es una de las construcciones defensivas de época contemporánea más bellas del País Vasco. Esta fortaleza está situada en el monte Jaizkibel junto al Santuario de Guadalupe y data de finales del año 1900. \n\n\n\n \n\n\n\nLa visita comienza a las 11.00 horas y tiene una duración de dos horas\, en las que se recorre gran parte de la mayor fortificación contemporánea de la Comunidad Autónoma del País Vasco (prevista para 69 cañones)\, visitando el foso\, los dos cuarteles que posee en su interior\, pabellones de oficiales\, almacenes y repuestos de munición\, las poternas de comunicación\, las baterías para la defensa del foso\, las baterías acasamatadas (en el interior de edificios) y al aire libre\, los patios\, las galerías aspilleradas\, etc.. \n\n\n\n \n\n\n\nAquí tienes un enlace al post de la visita que hice para descubrirlo. \n\n\n\n \n\n\n\nRecomiendan llevar un calzado adecuado (a evitar sandalias o zapatos con tacón alto). \n\n\n\n \n\n\n\nPrecio: 15 Euros (menores de 12 años y personas empadronadas en Hondarribia\, gratis) \n\n\n\n \n\n\n\nPlan perfecto para toda la familia\, niños y mayores. \n\n\n\n \n\n\n\nLas reservas se podrán hacer por teléfono llamando a 943 64 46 23 / 943 64 36 77\, enviando un correo electrónico a info@armaplaza.eus o en este enlace.
URL:https://deplanesporlacomarca.com/agenda-evento/visita-guiada-los-lugares-prohibidos-del-fuerte-de-guadalupe-hondarribia/2024-04-20/
LOCATION:Fuerte de Nuestra Señora de Guadalupe\, Hondarribia\, Gipuzkoa\, España
ATTACH;FMTTYPE=image/jpeg:https://deplanesporlacomarca.com/wp-content/uploads/2017/09/de-planes-por-la-comarca-visita-guiada-hondarribia-gipuzkoa-fuerte-guadalupe-ocio-deeventos-191.jpg
END:VEVENT
END:VCALENDAR