BEGIN:VCALENDAR
VERSION:2.0
PRODID:-//De planes por la comarca - ECPv6.15.20//NONSGML v1.0//EN
CALSCALE:GREGORIAN
METHOD:PUBLISH
X-ORIGINAL-URL:https://deplanesporlacomarca.com
X-WR-CALDESC:Eventos para De planes por la comarca
REFRESH-INTERVAL;VALUE=DURATION:PT1H
X-Robots-Tag:noindex
X-PUBLISHED-TTL:PT1H
BEGIN:VTIMEZONE
TZID:Europe/Madrid
BEGIN:DAYLIGHT
TZOFFSETFROM:+0100
TZOFFSETTO:+0200
TZNAME:CEST
DTSTART:20230326T010000
END:DAYLIGHT
BEGIN:STANDARD
TZOFFSETFROM:+0200
TZOFFSETTO:+0100
TZNAME:CET
DTSTART:20231029T010000
END:STANDARD
BEGIN:DAYLIGHT
TZOFFSETFROM:+0100
TZOFFSETTO:+0200
TZNAME:CEST
DTSTART:20240331T010000
END:DAYLIGHT
BEGIN:STANDARD
TZOFFSETFROM:+0200
TZOFFSETTO:+0100
TZNAME:CET
DTSTART:20241027T010000
END:STANDARD
BEGIN:DAYLIGHT
TZOFFSETFROM:+0100
TZOFFSETTO:+0200
TZNAME:CEST
DTSTART:20250330T010000
END:DAYLIGHT
BEGIN:STANDARD
TZOFFSETFROM:+0200
TZOFFSETTO:+0100
TZNAME:CET
DTSTART:20251026T010000
END:STANDARD
END:VTIMEZONE
BEGIN:VEVENT
DTSTART;TZID=Europe/Madrid:20240729T180000
DTEND;TZID=Europe/Madrid:20240729T200000
DTSTAMP:20260420T041002
CREATED:20240718T062716Z
LAST-MODIFIED:20240718T062720Z
UID:10036240-1722276000-1722283200@deplanesporlacomarca.com
SUMMARY:EXPOSICIÓN DE PINTURA DE MARÍA MALDONADO - JULIO 2024 - GALERÍA OTZAZKI (HONDARRIBIA)
DESCRIPTION:Exposición de pintura a cargo de la pintora María Maldonado en la Galería Otzazki de Hondarribia. \n\n\n\n \n\n\n\nPlan con entrada gratuita\, hasta el 4 de Agosto. \n\n\n\nHorarios: \n\n\n\n– Lunes a Sábado: 18.00 horas – 20.30 horas \n\n\n\n– Sábado y Domingo: 11.30 horas – 13.30 horas
URL:https://deplanesporlacomarca.com/agenda-evento/exposicion-de-pintura-de-maria-maldonado-julio-2024-galeria-otzazki-hondarribia/2024-07-29/
LOCATION:Galeria Otzazki\, Damarri\, 2\, Hondarribia\, Gipuzkoa\, España
ATTACH;FMTTYPE=image/jpeg:https://deplanesporlacomarca.com/wp-content/uploads/2024/07/exposicion_pintura_maria_maldonado_julio_2024_galeria_otzazki_hondarribia.jpg
GEO:43.3615928;-1.7917079
X-APPLE-STRUCTURED-LOCATION;VALUE=URI;X-ADDRESS=Galeria Otzazki Damarri 2 Hondarribia Gipuzkoa España;X-APPLE-RADIUS=500;X-TITLE=Damarri\, 2:geo:-1.7917079,43.3615928
END:VEVENT
BEGIN:VEVENT
DTSTART;TZID=Europe/Madrid:20240728T113000
DTEND;TZID=Europe/Madrid:20240728T133000
DTSTAMP:20260420T041002
CREATED:20240718T062716Z
LAST-MODIFIED:20240718T062720Z
UID:10036239-1722166200-1722173400@deplanesporlacomarca.com
SUMMARY:EXPOSICIÓN DE PINTURA DE MARÍA MALDONADO - JULIO 2024 - GALERÍA OTZAZKI (HONDARRIBIA)
DESCRIPTION:Exposición de pintura a cargo de la pintora María Maldonado en la Galería Otzazki de Hondarribia. \n\n\n\n \n\n\n\nPlan con entrada gratuita\, hasta el 4 de Agosto. \n\n\n\nHorarios: \n\n\n\n– Lunes a Sábado: 18.00 horas – 20.30 horas \n\n\n\n– Sábado y Domingo: 11.30 horas – 13.30 horas
URL:https://deplanesporlacomarca.com/agenda-evento/exposicion-de-pintura-de-maria-maldonado-julio-2024-galeria-otzazki-hondarribia/2024-07-28/
LOCATION:Galeria Otzazki\, Damarri\, 2\, Hondarribia\, Gipuzkoa\, España
ATTACH;FMTTYPE=image/jpeg:https://deplanesporlacomarca.com/wp-content/uploads/2024/07/exposicion_pintura_maria_maldonado_julio_2024_galeria_otzazki_hondarribia.jpg
GEO:43.3615928;-1.7917079
X-APPLE-STRUCTURED-LOCATION;VALUE=URI;X-ADDRESS=Galeria Otzazki Damarri 2 Hondarribia Gipuzkoa España;X-APPLE-RADIUS=500;X-TITLE=Damarri\, 2:geo:-1.7917079,43.3615928
END:VEVENT
BEGIN:VEVENT
DTSTART;TZID=Europe/Madrid:20240727T113000
DTEND;TZID=Europe/Madrid:20240727T200000
DTSTAMP:20260420T041002
CREATED:20240718T062716Z
LAST-MODIFIED:20240718T062720Z
UID:10036238-1722079800-1722110400@deplanesporlacomarca.com
SUMMARY:EXPOSICIÓN DE PINTURA DE MARÍA MALDONADO - JULIO 2024 - GALERÍA OTZAZKI (HONDARRIBIA)
DESCRIPTION:Exposición de pintura a cargo de la pintora María Maldonado en la Galería Otzazki de Hondarribia. \n\n\n\n \n\n\n\nPlan con entrada gratuita\, hasta el 4 de Agosto. \n\n\n\nHorarios: \n\n\n\n– Lunes a Sábado: 18.00 horas – 20.30 horas \n\n\n\n– Sábado y Domingo: 11.30 horas – 13.30 horas
URL:https://deplanesporlacomarca.com/agenda-evento/exposicion-de-pintura-de-maria-maldonado-julio-2024-galeria-otzazki-hondarribia/2024-07-27/
LOCATION:Galeria Otzazki\, Damarri\, 2\, Hondarribia\, Gipuzkoa\, España
ATTACH;FMTTYPE=image/jpeg:https://deplanesporlacomarca.com/wp-content/uploads/2024/07/exposicion_pintura_maria_maldonado_julio_2024_galeria_otzazki_hondarribia.jpg
GEO:43.3615928;-1.7917079
X-APPLE-STRUCTURED-LOCATION;VALUE=URI;X-ADDRESS=Galeria Otzazki Damarri 2 Hondarribia Gipuzkoa España;X-APPLE-RADIUS=500;X-TITLE=Damarri\, 2:geo:-1.7917079,43.3615928
END:VEVENT
BEGIN:VEVENT
DTSTART;TZID=Europe/Madrid:20240726T180000
DTEND;TZID=Europe/Madrid:20240726T200000
DTSTAMP:20260420T041002
CREATED:20240718T062716Z
LAST-MODIFIED:20240718T062720Z
UID:10036237-1722016800-1722024000@deplanesporlacomarca.com
SUMMARY:EXPOSICIÓN DE PINTURA DE MARÍA MALDONADO - JULIO 2024 - GALERÍA OTZAZKI (HONDARRIBIA)
DESCRIPTION:Exposición de pintura a cargo de la pintora María Maldonado en la Galería Otzazki de Hondarribia. \n\n\n\n \n\n\n\nPlan con entrada gratuita\, hasta el 4 de Agosto. \n\n\n\nHorarios: \n\n\n\n– Lunes a Sábado: 18.00 horas – 20.30 horas \n\n\n\n– Sábado y Domingo: 11.30 horas – 13.30 horas
URL:https://deplanesporlacomarca.com/agenda-evento/exposicion-de-pintura-de-maria-maldonado-julio-2024-galeria-otzazki-hondarribia/2024-07-26/
LOCATION:Galeria Otzazki\, Damarri\, 2\, Hondarribia\, Gipuzkoa\, España
ATTACH;FMTTYPE=image/jpeg:https://deplanesporlacomarca.com/wp-content/uploads/2024/07/exposicion_pintura_maria_maldonado_julio_2024_galeria_otzazki_hondarribia.jpg
GEO:43.3615928;-1.7917079
X-APPLE-STRUCTURED-LOCATION;VALUE=URI;X-ADDRESS=Galeria Otzazki Damarri 2 Hondarribia Gipuzkoa España;X-APPLE-RADIUS=500;X-TITLE=Damarri\, 2:geo:-1.7917079,43.3615928
END:VEVENT
BEGIN:VEVENT
DTSTART;TZID=Europe/Madrid:20240725T180000
DTEND;TZID=Europe/Madrid:20240725T200000
DTSTAMP:20260420T041002
CREATED:20240718T062716Z
LAST-MODIFIED:20240718T062720Z
UID:10036236-1721930400-1721937600@deplanesporlacomarca.com
SUMMARY:EXPOSICIÓN DE PINTURA DE MARÍA MALDONADO - JULIO 2024 - GALERÍA OTZAZKI (HONDARRIBIA)
DESCRIPTION:Exposición de pintura a cargo de la pintora María Maldonado en la Galería Otzazki de Hondarribia. \n\n\n\n \n\n\n\nPlan con entrada gratuita\, hasta el 4 de Agosto. \n\n\n\nHorarios: \n\n\n\n– Lunes a Sábado: 18.00 horas – 20.30 horas \n\n\n\n– Sábado y Domingo: 11.30 horas – 13.30 horas
URL:https://deplanesporlacomarca.com/agenda-evento/exposicion-de-pintura-de-maria-maldonado-julio-2024-galeria-otzazki-hondarribia/2024-07-25/
LOCATION:Galeria Otzazki\, Damarri\, 2\, Hondarribia\, Gipuzkoa\, España
ATTACH;FMTTYPE=image/jpeg:https://deplanesporlacomarca.com/wp-content/uploads/2024/07/exposicion_pintura_maria_maldonado_julio_2024_galeria_otzazki_hondarribia.jpg
GEO:43.3615928;-1.7917079
X-APPLE-STRUCTURED-LOCATION;VALUE=URI;X-ADDRESS=Galeria Otzazki Damarri 2 Hondarribia Gipuzkoa España;X-APPLE-RADIUS=500;X-TITLE=Damarri\, 2:geo:-1.7917079,43.3615928
END:VEVENT
BEGIN:VEVENT
DTSTART;TZID=Europe/Madrid:20240724T180000
DTEND;TZID=Europe/Madrid:20240724T200000
DTSTAMP:20260420T041002
CREATED:20240718T062716Z
LAST-MODIFIED:20240718T062720Z
UID:10036235-1721844000-1721851200@deplanesporlacomarca.com
SUMMARY:EXPOSICIÓN DE PINTURA DE MARÍA MALDONADO - JULIO 2024 - GALERÍA OTZAZKI (HONDARRIBIA)
DESCRIPTION:Exposición de pintura a cargo de la pintora María Maldonado en la Galería Otzazki de Hondarribia. \n\n\n\n \n\n\n\nPlan con entrada gratuita\, hasta el 4 de Agosto. \n\n\n\nHorarios: \n\n\n\n– Lunes a Sábado: 18.00 horas – 20.30 horas \n\n\n\n– Sábado y Domingo: 11.30 horas – 13.30 horas
URL:https://deplanesporlacomarca.com/agenda-evento/exposicion-de-pintura-de-maria-maldonado-julio-2024-galeria-otzazki-hondarribia/2024-07-24/
LOCATION:Galeria Otzazki\, Damarri\, 2\, Hondarribia\, Gipuzkoa\, España
ATTACH;FMTTYPE=image/jpeg:https://deplanesporlacomarca.com/wp-content/uploads/2024/07/exposicion_pintura_maria_maldonado_julio_2024_galeria_otzazki_hondarribia.jpg
GEO:43.3615928;-1.7917079
X-APPLE-STRUCTURED-LOCATION;VALUE=URI;X-ADDRESS=Galeria Otzazki Damarri 2 Hondarribia Gipuzkoa España;X-APPLE-RADIUS=500;X-TITLE=Damarri\, 2:geo:-1.7917079,43.3615928
END:VEVENT
BEGIN:VEVENT
DTSTART;TZID=Europe/Madrid:20240723T180000
DTEND;TZID=Europe/Madrid:20240723T200000
DTSTAMP:20260420T041002
CREATED:20240718T062716Z
LAST-MODIFIED:20240718T062720Z
UID:10036234-1721757600-1721764800@deplanesporlacomarca.com
SUMMARY:EXPOSICIÓN DE PINTURA DE MARÍA MALDONADO - JULIO 2024 - GALERÍA OTZAZKI (HONDARRIBIA)
DESCRIPTION:Exposición de pintura a cargo de la pintora María Maldonado en la Galería Otzazki de Hondarribia. \n\n\n\n \n\n\n\nPlan con entrada gratuita\, hasta el 4 de Agosto. \n\n\n\nHorarios: \n\n\n\n– Lunes a Sábado: 18.00 horas – 20.30 horas \n\n\n\n– Sábado y Domingo: 11.30 horas – 13.30 horas
URL:https://deplanesporlacomarca.com/agenda-evento/exposicion-de-pintura-de-maria-maldonado-julio-2024-galeria-otzazki-hondarribia/2024-07-23/
LOCATION:Galeria Otzazki\, Damarri\, 2\, Hondarribia\, Gipuzkoa\, España
ATTACH;FMTTYPE=image/jpeg:https://deplanesporlacomarca.com/wp-content/uploads/2024/07/exposicion_pintura_maria_maldonado_julio_2024_galeria_otzazki_hondarribia.jpg
GEO:43.3615928;-1.7917079
X-APPLE-STRUCTURED-LOCATION;VALUE=URI;X-ADDRESS=Galeria Otzazki Damarri 2 Hondarribia Gipuzkoa España;X-APPLE-RADIUS=500;X-TITLE=Damarri\, 2:geo:-1.7917079,43.3615928
END:VEVENT
BEGIN:VEVENT
DTSTART;TZID=Europe/Madrid:20240722T180000
DTEND;TZID=Europe/Madrid:20240722T200000
DTSTAMP:20260420T041002
CREATED:20240718T062716Z
LAST-MODIFIED:20240718T062720Z
UID:10036233-1721671200-1721678400@deplanesporlacomarca.com
SUMMARY:EXPOSICIÓN DE PINTURA DE MARÍA MALDONADO - JULIO 2024 - GALERÍA OTZAZKI (HONDARRIBIA)
DESCRIPTION:Exposición de pintura a cargo de la pintora María Maldonado en la Galería Otzazki de Hondarribia. \n\n\n\n \n\n\n\nPlan con entrada gratuita\, hasta el 4 de Agosto. \n\n\n\nHorarios: \n\n\n\n– Lunes a Sábado: 18.00 horas – 20.30 horas \n\n\n\n– Sábado y Domingo: 11.30 horas – 13.30 horas
URL:https://deplanesporlacomarca.com/agenda-evento/exposicion-de-pintura-de-maria-maldonado-julio-2024-galeria-otzazki-hondarribia/2024-07-22/
LOCATION:Galeria Otzazki\, Damarri\, 2\, Hondarribia\, Gipuzkoa\, España
ATTACH;FMTTYPE=image/jpeg:https://deplanesporlacomarca.com/wp-content/uploads/2024/07/exposicion_pintura_maria_maldonado_julio_2024_galeria_otzazki_hondarribia.jpg
GEO:43.3615928;-1.7917079
X-APPLE-STRUCTURED-LOCATION;VALUE=URI;X-ADDRESS=Galeria Otzazki Damarri 2 Hondarribia Gipuzkoa España;X-APPLE-RADIUS=500;X-TITLE=Damarri\, 2:geo:-1.7917079,43.3615928
END:VEVENT
BEGIN:VEVENT
DTSTART;TZID=Europe/Madrid:20240721T113000
DTEND;TZID=Europe/Madrid:20240721T133000
DTSTAMP:20260420T041002
CREATED:20240718T062716Z
LAST-MODIFIED:20240718T062720Z
UID:10036232-1721561400-1721568600@deplanesporlacomarca.com
SUMMARY:EXPOSICIÓN DE PINTURA DE MARÍA MALDONADO - JULIO 2024 - GALERÍA OTZAZKI (HONDARRIBIA)
DESCRIPTION:Exposición de pintura a cargo de la pintora María Maldonado en la Galería Otzazki de Hondarribia. \n\n\n\n \n\n\n\nPlan con entrada gratuita\, hasta el 4 de Agosto. \n\n\n\nHorarios: \n\n\n\n– Lunes a Sábado: 18.00 horas – 20.30 horas \n\n\n\n– Sábado y Domingo: 11.30 horas – 13.30 horas
URL:https://deplanesporlacomarca.com/agenda-evento/exposicion-de-pintura-de-maria-maldonado-julio-2024-galeria-otzazki-hondarribia/2024-07-21/
LOCATION:Galeria Otzazki\, Damarri\, 2\, Hondarribia\, Gipuzkoa\, España
ATTACH;FMTTYPE=image/jpeg:https://deplanesporlacomarca.com/wp-content/uploads/2024/07/exposicion_pintura_maria_maldonado_julio_2024_galeria_otzazki_hondarribia.jpg
GEO:43.3615928;-1.7917079
X-APPLE-STRUCTURED-LOCATION;VALUE=URI;X-ADDRESS=Galeria Otzazki Damarri 2 Hondarribia Gipuzkoa España;X-APPLE-RADIUS=500;X-TITLE=Damarri\, 2:geo:-1.7917079,43.3615928
END:VEVENT
BEGIN:VEVENT
DTSTART;TZID=Europe/Madrid:20240720T113000
DTEND;TZID=Europe/Madrid:20240720T200000
DTSTAMP:20260420T041002
CREATED:20240718T062716Z
LAST-MODIFIED:20240718T062720Z
UID:10036231-1721475000-1721505600@deplanesporlacomarca.com
SUMMARY:EXPOSICIÓN DE PINTURA DE MARÍA MALDONADO - JULIO 2024 - GALERÍA OTZAZKI (HONDARRIBIA)
DESCRIPTION:Exposición de pintura a cargo de la pintora María Maldonado en la Galería Otzazki de Hondarribia. \n\n\n\n \n\n\n\nPlan con entrada gratuita\, hasta el 4 de Agosto. \n\n\n\nHorarios: \n\n\n\n– Lunes a Sábado: 18.00 horas – 20.30 horas \n\n\n\n– Sábado y Domingo: 11.30 horas – 13.30 horas
URL:https://deplanesporlacomarca.com/agenda-evento/exposicion-de-pintura-de-maria-maldonado-julio-2024-galeria-otzazki-hondarribia/2024-07-20/
LOCATION:Galeria Otzazki\, Damarri\, 2\, Hondarribia\, Gipuzkoa\, España
ATTACH;FMTTYPE=image/jpeg:https://deplanesporlacomarca.com/wp-content/uploads/2024/07/exposicion_pintura_maria_maldonado_julio_2024_galeria_otzazki_hondarribia.jpg
GEO:43.3615928;-1.7917079
X-APPLE-STRUCTURED-LOCATION;VALUE=URI;X-ADDRESS=Galeria Otzazki Damarri 2 Hondarribia Gipuzkoa España;X-APPLE-RADIUS=500;X-TITLE=Damarri\, 2:geo:-1.7917079,43.3615928
END:VEVENT
BEGIN:VEVENT
DTSTART;TZID=Europe/Madrid:20240719T180000
DTEND;TZID=Europe/Madrid:20240719T200000
DTSTAMP:20260420T041002
CREATED:20240718T062716Z
LAST-MODIFIED:20240718T062720Z
UID:10036230-1721412000-1721419200@deplanesporlacomarca.com
SUMMARY:EXPOSICIÓN DE PINTURA DE MARÍA MALDONADO - JULIO 2024 - GALERÍA OTZAZKI (HONDARRIBIA)
DESCRIPTION:Exposición de pintura a cargo de la pintora María Maldonado en la Galería Otzazki de Hondarribia. \n\n\n\n \n\n\n\nPlan con entrada gratuita\, hasta el 4 de Agosto. \n\n\n\nHorarios: \n\n\n\n– Lunes a Sábado: 18.00 horas – 20.30 horas \n\n\n\n– Sábado y Domingo: 11.30 horas – 13.30 horas
URL:https://deplanesporlacomarca.com/agenda-evento/exposicion-de-pintura-de-maria-maldonado-julio-2024-galeria-otzazki-hondarribia/2024-07-19/
LOCATION:Galeria Otzazki\, Damarri\, 2\, Hondarribia\, Gipuzkoa\, España
ATTACH;FMTTYPE=image/jpeg:https://deplanesporlacomarca.com/wp-content/uploads/2024/07/exposicion_pintura_maria_maldonado_julio_2024_galeria_otzazki_hondarribia.jpg
GEO:43.3615928;-1.7917079
X-APPLE-STRUCTURED-LOCATION;VALUE=URI;X-ADDRESS=Galeria Otzazki Damarri 2 Hondarribia Gipuzkoa España;X-APPLE-RADIUS=500;X-TITLE=Damarri\, 2:geo:-1.7917079,43.3615928
END:VEVENT
BEGIN:VEVENT
DTSTART;TZID=Europe/Madrid:20240718T180000
DTEND;TZID=Europe/Madrid:20240718T200000
DTSTAMP:20260420T041002
CREATED:20240718T062716Z
LAST-MODIFIED:20240718T062720Z
UID:10036229-1721325600-1721332800@deplanesporlacomarca.com
SUMMARY:EXPOSICIÓN DE PINTURA DE MARÍA MALDONADO - JULIO 2024 - GALERÍA OTZAZKI (HONDARRIBIA)
DESCRIPTION:Exposición de pintura a cargo de la pintora María Maldonado en la Galería Otzazki de Hondarribia. \n\n\n\n \n\n\n\nPlan con entrada gratuita\, hasta el 4 de Agosto. \n\n\n\nHorarios: \n\n\n\n– Lunes a Sábado: 18.00 horas – 20.30 horas \n\n\n\n– Sábado y Domingo: 11.30 horas – 13.30 horas
URL:https://deplanesporlacomarca.com/agenda-evento/exposicion-de-pintura-de-maria-maldonado-julio-2024-galeria-otzazki-hondarribia/2024-07-18/
LOCATION:Galeria Otzazki\, Damarri\, 2\, Hondarribia\, Gipuzkoa\, España
ATTACH;FMTTYPE=image/jpeg:https://deplanesporlacomarca.com/wp-content/uploads/2024/07/exposicion_pintura_maria_maldonado_julio_2024_galeria_otzazki_hondarribia.jpg
GEO:43.3615928;-1.7917079
X-APPLE-STRUCTURED-LOCATION;VALUE=URI;X-ADDRESS=Galeria Otzazki Damarri 2 Hondarribia Gipuzkoa España;X-APPLE-RADIUS=500;X-TITLE=Damarri\, 2:geo:-1.7917079,43.3615928
END:VEVENT
END:VCALENDAR