BEGIN:VCALENDAR
VERSION:2.0
PRODID:-//De planes por la comarca - ECPv6.15.20//NONSGML v1.0//EN
CALSCALE:GREGORIAN
METHOD:PUBLISH
X-ORIGINAL-URL:https://deplanesporlacomarca.com
X-WR-CALDESC:Eventos para De planes por la comarca
REFRESH-INTERVAL;VALUE=DURATION:PT1H
X-Robots-Tag:noindex
X-PUBLISHED-TTL:PT1H
BEGIN:VTIMEZONE
TZID:Europe/Madrid
BEGIN:DAYLIGHT
TZOFFSETFROM:+0100
TZOFFSETTO:+0200
TZNAME:CEST
DTSTART:20230326T010000
END:DAYLIGHT
BEGIN:STANDARD
TZOFFSETFROM:+0200
TZOFFSETTO:+0100
TZNAME:CET
DTSTART:20231029T010000
END:STANDARD
BEGIN:DAYLIGHT
TZOFFSETFROM:+0100
TZOFFSETTO:+0200
TZNAME:CEST
DTSTART:20240331T010000
END:DAYLIGHT
BEGIN:STANDARD
TZOFFSETFROM:+0200
TZOFFSETTO:+0100
TZNAME:CET
DTSTART:20241027T010000
END:STANDARD
BEGIN:DAYLIGHT
TZOFFSETFROM:+0100
TZOFFSETTO:+0200
TZNAME:CEST
DTSTART:20250330T010000
END:DAYLIGHT
BEGIN:STANDARD
TZOFFSETFROM:+0200
TZOFFSETTO:+0100
TZNAME:CET
DTSTART:20251026T010000
END:STANDARD
BEGIN:DAYLIGHT
TZOFFSETFROM:+0100
TZOFFSETTO:+0200
TZNAME:CEST
DTSTART:20260329T010000
END:DAYLIGHT
BEGIN:STANDARD
TZOFFSETFROM:+0200
TZOFFSETTO:+0100
TZNAME:CET
DTSTART:20261025T010000
END:STANDARD
END:VTIMEZONE
BEGIN:VEVENT
DTSTART;TZID=Europe/Madrid:20250606T180000
DTEND;TZID=Europe/Madrid:20250606T180000
DTSTAMP:20260419T192205
CREATED:20250605T075827Z
LAST-MODIFIED:20250605T075832Z
UID:10039802-1749232800-1749232800@deplanesporlacomarca.com
SUMMARY:30 ANS LANETIK EGINA - HALLES DE GAZTELU (HENDAYE)
DESCRIPTION:Con motivo de la celebración del 30 aniversario de Lanetik Egina se han programado dos jornadas de conciertos y actividades en Halles de Gaztelu de Hendaye. \n\n\n\n \n\n\n\nViernes 6 de junio: Conciertos. Apertura de puertas a las 18.00 horas. \n\n\n\nFusible + Queer Falafel + Kaxkatu + New Man’s Krew + Bushido +Sonic Fusion + Sacr’Encierro + Djingl’s + Concerts d’Ateliers \n\n\n\n \n\n\n\nSábado 7 de junio: Conciertos. Apertura de puertas a las 12.00 horas. \n\n\n\nAh Kwantou + Frikun + Tamala + Pogo Objectivo + Hide the Sun + Mat Sound + Txapa + Concerts d’élèves \n\n\n\n \n\n\n\nAdemás\, el sábado tiene lugar la comida del 30 Aniversario\, en la explanada de Halles de Gaztelu. El menú tiene un precio de 16 Euros y se compone de: entrante\, paella\, queso y tarta de manzana (bebidas no incluidas). Posibilidad de comer sentado o de pie (mesas altas y barriles disponibles en el lugar). ¡Inscripciones antes del 2 de junio\, aquí! \n\n\n\n \n\n\n\nTambién\, a partir de las 12.00 horas: Pintxo pote con mutxiko animado por el grupo Mutxi’kool y animación musical durante la comida. \n\n\n\n \n\n\n\nTienes más info\, aquí.
URL:https://deplanesporlacomarca.com/agenda-evento/30-ans-lanetik-egina-halles-de-gaztelu-hendaye/2025-06-06/
LOCATION:Halles de Gaztelu\, Rue de la Halle\, Hendaye\, 64700\, Francia
ATTACH;FMTTYPE=image/jpeg:https://deplanesporlacomarca.com/wp-content/uploads/2025/06/30_ans_lanetik_egina_6_7_junio_2025_halles_gaztelu_hendaye.jpg
GEO:43.3593218;-1.7738178
X-APPLE-STRUCTURED-LOCATION;VALUE=URI;X-ADDRESS=Halles de Gaztelu Rue de la Halle Hendaye 64700 Francia;X-APPLE-RADIUS=500;X-TITLE=Rue de la Halle:geo:-1.7738178,43.3593218
END:VEVENT
BEGIN:VEVENT
DTSTART;TZID=Europe/Madrid:20250531T100000
DTEND;TZID=Europe/Madrid:20250531T180000
DTSTAMP:20260419T192205
CREATED:20250428T152705Z
LAST-MODIFIED:20250529T164622Z
UID:10039336-1748685600-1748714400@deplanesporlacomarca.com
SUMMARY:8º FESTIVAL DU LIVRE "JEUNESSE" - LE CHIPIRON LECTEUR - TXIPIROI IRAKURLEA (HENDAYE)
DESCRIPTION:La asociación Txikiekin organiza\, como cada año\, el «Festival du Livre Jeunesse» (Festival del Libro Juvenil) en Halles de Gaztelu de Hendaya\, a partir de las 10.00 horas. \n\n\n\n \n\n\n\n\n\n\n\n \n\n\n\n \n\n\n\nPlan con entrada gratuita.
URL:https://deplanesporlacomarca.com/agenda-evento/8o-festival-du-livre-jeunesse-le-chipiron-lecteur-txipiroi-irakurlea-hendaye/
LOCATION:Halles de Gaztelu\, Rue de la Halle\, Hendaye\, 64700\, Francia
ATTACH;FMTTYPE=image/jpeg:https://deplanesporlacomarca.com/wp-content/uploads/2025/04/festival_du_livre_jeunesse_le_chipiron_lecteur_31_mayo_2025_hendaye.jpg
GEO:43.3593218;-1.7738178
X-APPLE-STRUCTURED-LOCATION;VALUE=URI;X-ADDRESS=Halles de Gaztelu Rue de la Halle Hendaye 64700 Francia;X-APPLE-RADIUS=500;X-TITLE=Rue de la Halle:geo:-1.7738178,43.3593218
END:VEVENT
BEGIN:VEVENT
DTSTART;TZID=Europe/Madrid:20241208T100000
DTEND;TZID=Europe/Madrid:20241208T190000
DTSTAMP:20260419T192205
CREATED:20241204T160454Z
LAST-MODIFIED:20241204T160500Z
UID:10037591-1733652000-1733684400@deplanesporlacomarca.com
SUMMARY:NOËL À HENDAYE 2024 - MARCHÉ DE NOËL - HALLES DE GAZTELU (HENDAYE)
DESCRIPTION:Mercado de Navidad que tiene lugar en Halles de Gaztelu de Hendaya\, el sábado día 7\, de 14.00 a 20.00 horas y el domingo día 8\, de 10.00 a 19.00 horas. \n\n\n\n \n\n\n\nLa oportunidad de encontrar ideas para regalar y degustar buenos productos: bisutería\, ropa\, objetos decorativos\, foie\, artesanía … Estarán creadores\, productores\, restauradores\, artistas\,… un viaje al mundo de la creación y de los sabores. \n\n\n\n \n\n\n\nEste es el programa previsto: \n\n\n\n \n\n\n\nSábado\, 7 de Diciembre \n\n\n\n– Desde las 14.00 horas: Papá Noel recorre los barrios en su carroza. \n\n\n\n– 14.00 – 17.00 horas: Paseo en coche de caballos con «L´âne ta Lan». \n\n\n\n– 14.00 – 19.00 horas: Juegos hinchables\, «Monde des drôles». \n\n\n\n– 14.00 – 17.00 horas: Taller de maquillaje\, a cargo de «Animômes». \n\n\n\n– 15.30 horas: Espectáculo «Clownesque»\, de la compañía «Street Art Studio Break Dance». \n\n\n\n– 16.00 horas: Mega-boom para niñ@s. \n\n\n\n– 17.30 horas:Iluminación del pueblo de Olentzero. \n\n\n\n– 19.30 horas: Concierto con Alaiak. \n\n\n\n \n\n\n\nDomingo\, 8 de Diciembre \n\n\n\n– De 10.00 a 12.30 horas: Paseos en pony. \n\n\n\n– De 11.00 a 19.00 horas: Juegos hinchables con «Monde des drôles”. \n\n\n\n– De 11.30 a 12.30 horas: Mutxikoak a cargo de “Mutxiko Elkartea”. \n\n\n\n– 12.30 horas: Aperitivo musical con Zarpai Banda. \n\n\n\n– De 14.00 a 17.00 horas: Paseo en coche de caballos con los burros del Pirineo “L’âne ta Lan”. \n\n\n\n– De 14.30 a 17.30 horas: Taller de maquillaje mágico\, a cargo de “Animôme”. \n\n\n\n– 15.30 horas: Espectáculo de breakdance\, humor y acrobacia “Surprise Noël show” a cargo de la compañía “Surprise Effect”. \n\n\n\n– 16.00 horas: Iniciación al breakdance para niñ@s con los artistas \n\n\n\n– 17.00 horas: Mega-boom para l@s niñ@s. \n\n\n\n– 17.30 horas: iluminación del pueblo de Olentzero y animación musical. \n\n\n\n \n\n\n\n \n\n\n\nEl plan tiene entrada libre. \n\n\n\n \n\n\n\nMás información\, aquí.
URL:https://deplanesporlacomarca.com/agenda-evento/noel-a-hendaye-2024-marche-de-noel-halles-de-gaztelu-hendaye/2024-12-08/
LOCATION:Halles de Gaztelu\, Rue de la Halle\, Hendaye\, 64700\, Francia
ATTACH;FMTTYPE=image/jpeg:https://deplanesporlacomarca.com/wp-content/uploads/2024/12/marche_de_noel_eguberriko_azoka_2024_halles_gaztelu_hendaye_hendaya.jpg
GEO:43.3593218;-1.7738178
X-APPLE-STRUCTURED-LOCATION;VALUE=URI;X-ADDRESS=Halles de Gaztelu Rue de la Halle Hendaye 64700 Francia;X-APPLE-RADIUS=500;X-TITLE=Rue de la Halle:geo:-1.7738178,43.3593218
END:VEVENT
BEGIN:VEVENT
DTSTART;TZID=Europe/Madrid:20241207T140000
DTEND;TZID=Europe/Madrid:20241207T200000
DTSTAMP:20260419T192205
CREATED:20241204T160454Z
LAST-MODIFIED:20241204T160500Z
UID:10037590-1733580000-1733601600@deplanesporlacomarca.com
SUMMARY:NOËL À HENDAYE 2024 - MARCHÉ DE NOËL - HALLES DE GAZTELU (HENDAYE)
DESCRIPTION:Mercado de Navidad que tiene lugar en Halles de Gaztelu de Hendaya\, el sábado día 7\, de 14.00 a 20.00 horas y el domingo día 8\, de 10.00 a 19.00 horas. \n\n\n\n \n\n\n\nLa oportunidad de encontrar ideas para regalar y degustar buenos productos: bisutería\, ropa\, objetos decorativos\, foie\, artesanía … Estarán creadores\, productores\, restauradores\, artistas\,… un viaje al mundo de la creación y de los sabores. \n\n\n\n \n\n\n\nEste es el programa previsto: \n\n\n\n \n\n\n\nSábado\, 7 de Diciembre \n\n\n\n– Desde las 14.00 horas: Papá Noel recorre los barrios en su carroza. \n\n\n\n– 14.00 – 17.00 horas: Paseo en coche de caballos con «L´âne ta Lan». \n\n\n\n– 14.00 – 19.00 horas: Juegos hinchables\, «Monde des drôles». \n\n\n\n– 14.00 – 17.00 horas: Taller de maquillaje\, a cargo de «Animômes». \n\n\n\n– 15.30 horas: Espectáculo «Clownesque»\, de la compañía «Street Art Studio Break Dance». \n\n\n\n– 16.00 horas: Mega-boom para niñ@s. \n\n\n\n– 17.30 horas:Iluminación del pueblo de Olentzero. \n\n\n\n– 19.30 horas: Concierto con Alaiak. \n\n\n\n \n\n\n\nDomingo\, 8 de Diciembre \n\n\n\n– De 10.00 a 12.30 horas: Paseos en pony. \n\n\n\n– De 11.00 a 19.00 horas: Juegos hinchables con «Monde des drôles”. \n\n\n\n– De 11.30 a 12.30 horas: Mutxikoak a cargo de “Mutxiko Elkartea”. \n\n\n\n– 12.30 horas: Aperitivo musical con Zarpai Banda. \n\n\n\n– De 14.00 a 17.00 horas: Paseo en coche de caballos con los burros del Pirineo “L’âne ta Lan”. \n\n\n\n– De 14.30 a 17.30 horas: Taller de maquillaje mágico\, a cargo de “Animôme”. \n\n\n\n– 15.30 horas: Espectáculo de breakdance\, humor y acrobacia “Surprise Noël show” a cargo de la compañía “Surprise Effect”. \n\n\n\n– 16.00 horas: Iniciación al breakdance para niñ@s con los artistas \n\n\n\n– 17.00 horas: Mega-boom para l@s niñ@s. \n\n\n\n– 17.30 horas: iluminación del pueblo de Olentzero y animación musical. \n\n\n\n \n\n\n\n \n\n\n\nEl plan tiene entrada libre. \n\n\n\n \n\n\n\nMás información\, aquí.
URL:https://deplanesporlacomarca.com/agenda-evento/noel-a-hendaye-2024-marche-de-noel-halles-de-gaztelu-hendaye/2024-12-07/
LOCATION:Halles de Gaztelu\, Rue de la Halle\, Hendaye\, 64700\, Francia
ATTACH;FMTTYPE=image/jpeg:https://deplanesporlacomarca.com/wp-content/uploads/2024/12/marche_de_noel_eguberriko_azoka_2024_halles_gaztelu_hendaye_hendaya.jpg
GEO:43.3593218;-1.7738178
X-APPLE-STRUCTURED-LOCATION;VALUE=URI;X-ADDRESS=Halles de Gaztelu Rue de la Halle Hendaye 64700 Francia;X-APPLE-RADIUS=500;X-TITLE=Rue de la Halle:geo:-1.7738178,43.3593218
END:VEVENT
BEGIN:VEVENT
DTSTART;TZID=Europe/Madrid:20241117T100000
DTEND;TZID=Europe/Madrid:20241117T180000
DTSTAMP:20260419T192205
CREATED:20241114T155309Z
LAST-MODIFIED:20241114T155312Z
UID:10037278-1731837600-1731866400@deplanesporlacomarca.com
SUMMARY:4e RENCONTRES ENJOUÉES - HALLES DE GAZTELU (HENDAYE)
DESCRIPTION:Cuarta edición de «Rencontres Enjouées» en Halles de Gaztelu de Hendaye\, con un programa variado para todas las edades. \n\n\n\n \n\n\n\nDel 16 al 17 de noviembre\, Halles de Gaztelu se transforma en un auténtico parque infantil\, donde grandes y pequeños podrán divertirse\, intercambiar y descubrir nuevas actividades. \n\n\n\n \n\n\n\nEn el programa: juegos de mesa\, talleres creativos\, actividades divertidas y mucho más. Este evento gratuito es una gran oportunidad para compartir momentos de convivencia en familia o con amigos\, redescubriendo al mismo tiempo el placer de jugar juntos. \n\n\n\n \n\n\n\nTienes el programa completo aquí.
URL:https://deplanesporlacomarca.com/agenda-evento/4e-rencontres-enjouees-halles-de-gaztelu-hendaye/2024-11-17/
LOCATION:Halles de Gaztelu\, Rue de la Halle\, Hendaye\, 64700\, Francia
ATTACH;FMTTYPE=image/jpeg:https://deplanesporlacomarca.com/wp-content/uploads/2024/11/4_rencontres_enjouees_16_17_noviembre_2024_halles_de_gaztelu_hendaye.jpg
GEO:43.3593218;-1.7738178
X-APPLE-STRUCTURED-LOCATION;VALUE=URI;X-ADDRESS=Halles de Gaztelu Rue de la Halle Hendaye 64700 Francia;X-APPLE-RADIUS=500;X-TITLE=Rue de la Halle:geo:-1.7738178,43.3593218
END:VEVENT
BEGIN:VEVENT
DTSTART;TZID=Europe/Madrid:20241116T100000
DTEND;TZID=Europe/Madrid:20241116T180000
DTSTAMP:20260419T192205
CREATED:20241114T155309Z
LAST-MODIFIED:20241114T155312Z
UID:10037277-1731751200-1731780000@deplanesporlacomarca.com
SUMMARY:4e RENCONTRES ENJOUÉES - HALLES DE GAZTELU (HENDAYE)
DESCRIPTION:Cuarta edición de «Rencontres Enjouées» en Halles de Gaztelu de Hendaye\, con un programa variado para todas las edades. \n\n\n\n \n\n\n\nDel 16 al 17 de noviembre\, Halles de Gaztelu se transforma en un auténtico parque infantil\, donde grandes y pequeños podrán divertirse\, intercambiar y descubrir nuevas actividades. \n\n\n\n \n\n\n\nEn el programa: juegos de mesa\, talleres creativos\, actividades divertidas y mucho más. Este evento gratuito es una gran oportunidad para compartir momentos de convivencia en familia o con amigos\, redescubriendo al mismo tiempo el placer de jugar juntos. \n\n\n\n \n\n\n\nTienes el programa completo aquí.
URL:https://deplanesporlacomarca.com/agenda-evento/4e-rencontres-enjouees-halles-de-gaztelu-hendaye/2024-11-16/
LOCATION:Halles de Gaztelu\, Rue de la Halle\, Hendaye\, 64700\, Francia
ATTACH;FMTTYPE=image/jpeg:https://deplanesporlacomarca.com/wp-content/uploads/2024/11/4_rencontres_enjouees_16_17_noviembre_2024_halles_de_gaztelu_hendaye.jpg
GEO:43.3593218;-1.7738178
X-APPLE-STRUCTURED-LOCATION;VALUE=URI;X-ADDRESS=Halles de Gaztelu Rue de la Halle Hendaye 64700 Francia;X-APPLE-RADIUS=500;X-TITLE=Rue de la Halle:geo:-1.7738178,43.3593218
END:VEVENT
BEGIN:VEVENT
DTSTART;TZID=Europe/Madrid:20241109T100000
DTEND;TZID=Europe/Madrid:20241109T180000
DTSTAMP:20260419T192205
CREATED:20241029T145745Z
LAST-MODIFIED:20241029T145750Z
UID:10037083-1731146400-1731175200@deplanesporlacomarca.com
SUMMARY:FÊTE DE LA RÉCUP 2024 (HENDAYE)
DESCRIPTION:Fête de la récup o fiesta del reciclaje en Hendaya\, organizada por Recycl´Arte\, que tiene lugar en Halles de Gaztelu\, a partir de las 10.00 horas. \n\n\n\n \n\n\n\nDurante todo el día: \n\n\n\n– Zona para dejar todo aquello que no necesitas y coger lo que quieras\, incluso si no tienes nada que dejar\, venta de bicicletas usadas\, talleres de fabricación DIY de: jabón\, bálsamo para los labios\, marcos de fotos\, robots\, esponjas\,….– Reparación de bicicletas.– Stand sobre compostaje.– Juegos para niños. \n\n\n\n \n\n\n\nTienes aquí el programa:
URL:https://deplanesporlacomarca.com/agenda-evento/fete-de-la-recup-2024-hendaye/
LOCATION:Halles de Gaztelu\, Rue de la Halle\, Hendaye\, 64700\, Francia
ATTACH;FMTTYPE=image/jpeg:https://deplanesporlacomarca.com/wp-content/uploads/2024/10/fete_de_la_recup_2024_recyclarte_hendaye_hendaya.jpg
GEO:43.3593218;-1.7738178
X-APPLE-STRUCTURED-LOCATION;VALUE=URI;X-ADDRESS=Halles de Gaztelu Rue de la Halle Hendaye 64700 Francia;X-APPLE-RADIUS=500;X-TITLE=Rue de la Halle:geo:-1.7738178,43.3593218
END:VEVENT
BEGIN:VEVENT
DTSTART;TZID=Europe/Madrid:20241031T163000
DTEND;TZID=Europe/Madrid:20241031T163000
DTSTAMP:20260419T192205
CREATED:20240930T145613Z
LAST-MODIFIED:20240930T145618Z
UID:10036893-1730392200-1730392200@deplanesporlacomarca.com
SUMMARY:HALLOWEEN 2024\, "GAU BELTZA" - HALLES DE GAZTELU (HENDAYE)
DESCRIPTION:«Gau Beltza» en Hendaya\, en Halles de Gaztelu\, a partir de las 16.30 horas\, organizada por el Ayuntamiento de Hendaya\, el departamento de fiestas\, Mutxiko Elkartea y Akelarre. \n\n\n\n \n\n\n\nEste es el programa previsto de este plan: \n\n\n\n– 16.30 horas: Baile de brujas. \n\n\n\n– 18.30 horas: Espectáculo de fuego. \n\n\n\n– 19.10 horas: Pasacalles por el centro de la ciudad. \n\n\n\n– 20.30 horas: Musica con Jeiki Hadi.
URL:https://deplanesporlacomarca.com/agenda-evento/halloween-2024-gau-beltza-halles-de-gaztelu-hendaye/
LOCATION:Halles de Gaztelu\, Rue de la Halle\, Hendaye\, 64700\, Francia
ATTACH;FMTTYPE=image/jpeg:https://deplanesporlacomarca.com/wp-content/uploads/2024/09/halloween_2024_gau_beltza_halles_de_gaztelu_hendaye.jpg
GEO:43.3593218;-1.7738178
X-APPLE-STRUCTURED-LOCATION;VALUE=URI;X-ADDRESS=Halles de Gaztelu Rue de la Halle Hendaye 64700 Francia;X-APPLE-RADIUS=500;X-TITLE=Rue de la Halle:geo:-1.7738178,43.3593218
END:VEVENT
BEGIN:VEVENT
DTSTART;TZID=Europe/Madrid:20241026T100000
DTEND;TZID=Europe/Madrid:20241026T233000
DTSTAMP:20260419T192205
CREATED:20241023T151843Z
LAST-MODIFIED:20241023T151849Z
UID:10037005-1729936800-1729985400@deplanesporlacomarca.com
SUMMARY:FESTIVAL METAL'O'WEEN 2024 - HALLES DE GAZTELU (HENDAIA)
DESCRIPTION:Edición número 12 del festival «Metal’O’Ween» que tiene lugar en Halles de Gaztelu de Hendaye\, desde el 23 al 26 de Octubre. \n\n\n\n \n\n\n\nTienes más info aquí.
URL:https://deplanesporlacomarca.com/agenda-evento/festival-metaloween-2024-halles-de-gaztelu-hendaia/2024-10-26/
LOCATION:Halles de Gaztelu\, Rue de la Halle\, Hendaye\, 64700\, Francia
ATTACH;FMTTYPE=image/jpeg:https://deplanesporlacomarca.com/wp-content/uploads/2024/10/halloween_2024_metal_o_ween_octubre_halles_de_gaztelu_hendaye.jpg
GEO:43.3593218;-1.7738178
X-APPLE-STRUCTURED-LOCATION;VALUE=URI;X-ADDRESS=Halles de Gaztelu Rue de la Halle Hendaye 64700 Francia;X-APPLE-RADIUS=500;X-TITLE=Rue de la Halle:geo:-1.7738178,43.3593218
END:VEVENT
BEGIN:VEVENT
DTSTART;TZID=Europe/Madrid:20241025T193000
DTEND;TZID=Europe/Madrid:20241025T193000
DTSTAMP:20260419T192205
CREATED:20241023T151843Z
LAST-MODIFIED:20241023T151849Z
UID:10037004-1729884600-1729884600@deplanesporlacomarca.com
SUMMARY:FESTIVAL METAL'O'WEEN 2024 - HALLES DE GAZTELU (HENDAIA)
DESCRIPTION:Edición número 12 del festival «Metal’O’Ween» que tiene lugar en Halles de Gaztelu de Hendaye\, desde el 23 al 26 de Octubre. \n\n\n\n \n\n\n\nTienes más info aquí.
URL:https://deplanesporlacomarca.com/agenda-evento/festival-metaloween-2024-halles-de-gaztelu-hendaia/2024-10-25/
LOCATION:Halles de Gaztelu\, Rue de la Halle\, Hendaye\, 64700\, Francia
ATTACH;FMTTYPE=image/jpeg:https://deplanesporlacomarca.com/wp-content/uploads/2024/10/halloween_2024_metal_o_ween_octubre_halles_de_gaztelu_hendaye.jpg
GEO:43.3593218;-1.7738178
X-APPLE-STRUCTURED-LOCATION;VALUE=URI;X-ADDRESS=Halles de Gaztelu Rue de la Halle Hendaye 64700 Francia;X-APPLE-RADIUS=500;X-TITLE=Rue de la Halle:geo:-1.7738178,43.3593218
END:VEVENT
BEGIN:VEVENT
DTSTART;TZID=Europe/Madrid:20241024T193000
DTEND;TZID=Europe/Madrid:20241024T193000
DTSTAMP:20260419T192205
CREATED:20241023T151843Z
LAST-MODIFIED:20241023T151849Z
UID:10037003-1729798200-1729798200@deplanesporlacomarca.com
SUMMARY:FESTIVAL METAL'O'WEEN 2024 - HALLES DE GAZTELU (HENDAIA)
DESCRIPTION:Edición número 12 del festival «Metal’O’Ween» que tiene lugar en Halles de Gaztelu de Hendaye\, desde el 23 al 26 de Octubre. \n\n\n\n \n\n\n\nTienes más info aquí.
URL:https://deplanesporlacomarca.com/agenda-evento/festival-metaloween-2024-halles-de-gaztelu-hendaia/2024-10-24/
LOCATION:Halles de Gaztelu\, Rue de la Halle\, Hendaye\, 64700\, Francia
ATTACH;FMTTYPE=image/jpeg:https://deplanesporlacomarca.com/wp-content/uploads/2024/10/halloween_2024_metal_o_ween_octubre_halles_de_gaztelu_hendaye.jpg
GEO:43.3593218;-1.7738178
X-APPLE-STRUCTURED-LOCATION;VALUE=URI;X-ADDRESS=Halles de Gaztelu Rue de la Halle Hendaye 64700 Francia;X-APPLE-RADIUS=500;X-TITLE=Rue de la Halle:geo:-1.7738178,43.3593218
END:VEVENT
BEGIN:VEVENT
DTSTART;TZID=Europe/Madrid:20241023T193000
DTEND;TZID=Europe/Madrid:20241023T193000
DTSTAMP:20260419T192205
CREATED:20241023T151843Z
LAST-MODIFIED:20241023T151849Z
UID:10037002-1729711800-1729711800@deplanesporlacomarca.com
SUMMARY:FESTIVAL METAL'O'WEEN 2024 - HALLES DE GAZTELU (HENDAIA)
DESCRIPTION:Edición número 12 del festival «Metal’O’Ween» que tiene lugar en Halles de Gaztelu de Hendaye\, desde el 23 al 26 de Octubre. \n\n\n\n \n\n\n\nTienes más info aquí.
URL:https://deplanesporlacomarca.com/agenda-evento/festival-metaloween-2024-halles-de-gaztelu-hendaia/2024-10-23/
LOCATION:Halles de Gaztelu\, Rue de la Halle\, Hendaye\, 64700\, Francia
ATTACH;FMTTYPE=image/jpeg:https://deplanesporlacomarca.com/wp-content/uploads/2024/10/halloween_2024_metal_o_ween_octubre_halles_de_gaztelu_hendaye.jpg
GEO:43.3593218;-1.7738178
X-APPLE-STRUCTURED-LOCATION;VALUE=URI;X-ADDRESS=Halles de Gaztelu Rue de la Halle Hendaye 64700 Francia;X-APPLE-RADIUS=500;X-TITLE=Rue de la Halle:geo:-1.7738178,43.3593218
END:VEVENT
BEGIN:VEVENT
DTSTART;TZID=Europe/Madrid:20240728T123000
DTEND;TZID=Europe/Madrid:20240728T235900
DTSTAMP:20260419T192205
CREATED:20240719T144939Z
LAST-MODIFIED:20240719T144942Z
UID:10036371-1722169800-1722211140@deplanesporlacomarca.com
SUMMARY:FESTIVAL DE CULTURE BRÉSILIENNE "AUPA BRASIL" - HALLES DE GAZTELU (HENDAYE)
DESCRIPTION:Segunda edición del festival de cultura brasileña «Aupa Brasil» que tiene lugar durante viernes\, sábado y domingo en Halles de Gaztelu de Hendaye\, con un programa dirigido a todos los públicos y organizado por Dantza Carioca. \n\n\n\n \n\n\n\nEl plan tiene entrada gratuita y tienes todos los detalles aquí:
URL:https://deplanesporlacomarca.com/agenda-evento/festival-de-culture-bresilienne-aupa-brasil-halles-de-gaztelu-hendaye/2024-07-28/
LOCATION:Halles de Gaztelu\, Rue de la Halle\, Hendaye\, 64700\, Francia
ATTACH;FMTTYPE=image/jpeg:https://deplanesporlacomarca.com/wp-content/uploads/2024/07/festival_culture_bresilienne_aupa_brasil_26_27_28_julio_2024_halles_de_gaztelu_hendaye.jpg
GEO:43.3593218;-1.7738178
X-APPLE-STRUCTURED-LOCATION;VALUE=URI;X-ADDRESS=Halles de Gaztelu Rue de la Halle Hendaye 64700 Francia;X-APPLE-RADIUS=500;X-TITLE=Rue de la Halle:geo:-1.7738178,43.3593218
END:VEVENT
BEGIN:VEVENT
DTSTART;TZID=Europe/Madrid:20240727T123000
DTEND;TZID=Europe/Madrid:20240727T230000
DTSTAMP:20260419T192205
CREATED:20240719T144939Z
LAST-MODIFIED:20240719T144942Z
UID:10036370-1722083400-1722121200@deplanesporlacomarca.com
SUMMARY:FESTIVAL DE CULTURE BRÉSILIENNE "AUPA BRASIL" - HALLES DE GAZTELU (HENDAYE)
DESCRIPTION:Segunda edición del festival de cultura brasileña «Aupa Brasil» que tiene lugar durante viernes\, sábado y domingo en Halles de Gaztelu de Hendaye\, con un programa dirigido a todos los públicos y organizado por Dantza Carioca. \n\n\n\n \n\n\n\nEl plan tiene entrada gratuita y tienes todos los detalles aquí:
URL:https://deplanesporlacomarca.com/agenda-evento/festival-de-culture-bresilienne-aupa-brasil-halles-de-gaztelu-hendaye/2024-07-27/
LOCATION:Halles de Gaztelu\, Rue de la Halle\, Hendaye\, 64700\, Francia
ATTACH;FMTTYPE=image/jpeg:https://deplanesporlacomarca.com/wp-content/uploads/2024/07/festival_culture_bresilienne_aupa_brasil_26_27_28_julio_2024_halles_de_gaztelu_hendaye.jpg
GEO:43.3593218;-1.7738178
X-APPLE-STRUCTURED-LOCATION;VALUE=URI;X-ADDRESS=Halles de Gaztelu Rue de la Halle Hendaye 64700 Francia;X-APPLE-RADIUS=500;X-TITLE=Rue de la Halle:geo:-1.7738178,43.3593218
END:VEVENT
BEGIN:VEVENT
DTSTART;TZID=Europe/Madrid:20240726T170000
DTEND;TZID=Europe/Madrid:20240726T223000
DTSTAMP:20260419T192205
CREATED:20240719T144939Z
LAST-MODIFIED:20240719T144942Z
UID:10036369-1722013200-1722033000@deplanesporlacomarca.com
SUMMARY:FESTIVAL DE CULTURE BRÉSILIENNE "AUPA BRASIL" - HALLES DE GAZTELU (HENDAYE)
DESCRIPTION:Segunda edición del festival de cultura brasileña «Aupa Brasil» que tiene lugar durante viernes\, sábado y domingo en Halles de Gaztelu de Hendaye\, con un programa dirigido a todos los públicos y organizado por Dantza Carioca. \n\n\n\n \n\n\n\nEl plan tiene entrada gratuita y tienes todos los detalles aquí:
URL:https://deplanesporlacomarca.com/agenda-evento/festival-de-culture-bresilienne-aupa-brasil-halles-de-gaztelu-hendaye/2024-07-26/
LOCATION:Halles de Gaztelu\, Rue de la Halle\, Hendaye\, 64700\, Francia
ATTACH;FMTTYPE=image/jpeg:https://deplanesporlacomarca.com/wp-content/uploads/2024/07/festival_culture_bresilienne_aupa_brasil_26_27_28_julio_2024_halles_de_gaztelu_hendaye.jpg
GEO:43.3593218;-1.7738178
X-APPLE-STRUCTURED-LOCATION;VALUE=URI;X-ADDRESS=Halles de Gaztelu Rue de la Halle Hendaye 64700 Francia;X-APPLE-RADIUS=500;X-TITLE=Rue de la Halle:geo:-1.7738178,43.3593218
END:VEVENT
BEGIN:VEVENT
DTSTART;TZID=Europe/Madrid:20240608T170000
DTEND;TZID=Europe/Madrid:20240608T235900
DTSTAMP:20260419T192205
CREATED:20240531T124935Z
LAST-MODIFIED:20240531T124939Z
UID:10035761-1717866000-1717891140@deplanesporlacomarca.com
SUMMARY:40 ANNIVERSAIRE CLUB STADE HENDAYAIS - HALLES DE GAZTELU (HENDAYE)
DESCRIPTION:El club de rugby Stade Hendayais celebra su 40 aniversario y lo hace una gran fiesta para pequeños y mayores que comienza a las 17.00 horas en Halles de Gaztelu de Hendaya. \n\n\n\n \n\n\n\nEste es el programa previsto: \n\n\n\n– 17.00 – 20.00 horas: Juegos hinchables\, duelo de sumo\,… \n\n\n\n– 17.00 – 19.00 horas: Animación con «Marie et Camilia». \n\n\n\n– 20.00 horas: Cena «Méchoui» con la animación de Alaiak. (con reserva y plazas limitadas) \n\n\n\n– 22.00 – 02.00 horas: Animación con DJ TTEMO.
URL:https://deplanesporlacomarca.com/agenda-evento/40-anniversaire-club-stade-hendayais-halles-de-gaztelu-hendaye/
LOCATION:Halles de Gaztelu\, Rue de la Halle\, Hendaye\, 64700\, Francia
ATTACH;FMTTYPE=image/jpeg:https://deplanesporlacomarca.com/wp-content/uploads/2024/05/40_aniversario_anniversaire_club_stade_hendayais_8_junio_2024_halles_gaztelu_hendaye.jpg
GEO:43.3593218;-1.7738178
X-APPLE-STRUCTURED-LOCATION;VALUE=URI;X-ADDRESS=Halles de Gaztelu Rue de la Halle Hendaye 64700 Francia;X-APPLE-RADIUS=500;X-TITLE=Rue de la Halle:geo:-1.7738178,43.3593218
END:VEVENT
BEGIN:VEVENT
DTSTART;TZID=Europe/Madrid:20240601T100000
DTEND;TZID=Europe/Madrid:20240601T180000
DTSTAMP:20260419T192205
CREATED:20240531T102027Z
LAST-MODIFIED:20240531T102031Z
UID:10035752-1717236000-1717264800@deplanesporlacomarca.com
SUMMARY:7º FESTIVAL DU LIVRE "JEUNESSE" - LE CHIPIRON LECTEUR - TXIPIROI IRAKURLEA (HENDAYE)
DESCRIPTION:La asociación Txikiekin organiza\, como cada año\, el «Festival du Livre Jeunesse» (Festival del Libro Juvenil) en Halles de Gaztelu de Hendaya\, a partir de las 10.00 horas. \n\n\n\n \n\n\n\nPlan con entrada gratuita.
URL:https://deplanesporlacomarca.com/agenda-evento/7o-festival-du-livre-jeunesse-le-chipiron-lecteur-txipiroi-irakurlea-hendaye/
LOCATION:Halles de Gaztelu\, Rue de la Halle\, Hendaye\, 64700\, Francia
ATTACH;FMTTYPE=image/jpeg:https://deplanesporlacomarca.com/wp-content/uploads/2024/05/festival_du_livre_jeunesse_le_chipiron_lecteur_junio_2024_hendaye.jpg
GEO:43.3593218;-1.7738178
X-APPLE-STRUCTURED-LOCATION;VALUE=URI;X-ADDRESS=Halles de Gaztelu Rue de la Halle Hendaye 64700 Francia;X-APPLE-RADIUS=500;X-TITLE=Rue de la Halle:geo:-1.7738178,43.3593218
END:VEVENT
END:VCALENDAR