BEGIN:VCALENDAR
VERSION:2.0
PRODID:-//De planes por la comarca - ECPv6.15.20//NONSGML v1.0//EN
CALSCALE:GREGORIAN
METHOD:PUBLISH
X-WR-CALNAME:De planes por la comarca
X-ORIGINAL-URL:https://deplanesporlacomarca.com
X-WR-CALDESC:Eventos para De planes por la comarca
REFRESH-INTERVAL;VALUE=DURATION:PT1H
X-Robots-Tag:noindex
X-PUBLISHED-TTL:PT1H
BEGIN:VTIMEZONE
TZID:Europe/Madrid
BEGIN:DAYLIGHT
TZOFFSETFROM:+0100
TZOFFSETTO:+0200
TZNAME:CEST
DTSTART:20230326T010000
END:DAYLIGHT
BEGIN:STANDARD
TZOFFSETFROM:+0200
TZOFFSETTO:+0100
TZNAME:CET
DTSTART:20231029T010000
END:STANDARD
BEGIN:DAYLIGHT
TZOFFSETFROM:+0100
TZOFFSETTO:+0200
TZNAME:CEST
DTSTART:20240331T010000
END:DAYLIGHT
BEGIN:STANDARD
TZOFFSETFROM:+0200
TZOFFSETTO:+0100
TZNAME:CET
DTSTART:20241027T010000
END:STANDARD
BEGIN:DAYLIGHT
TZOFFSETFROM:+0100
TZOFFSETTO:+0200
TZNAME:CEST
DTSTART:20250330T010000
END:DAYLIGHT
BEGIN:STANDARD
TZOFFSETFROM:+0200
TZOFFSETTO:+0100
TZNAME:CET
DTSTART:20251026T010000
END:STANDARD
END:VTIMEZONE
BEGIN:VEVENT
DTSTART;TZID=Europe/Madrid:20241024T193000
DTEND;TZID=Europe/Madrid:20241024T193000
DTSTAMP:20260419T203715
CREATED:20241023T151843Z
LAST-MODIFIED:20241023T151849Z
UID:10037003-1729798200-1729798200@deplanesporlacomarca.com
SUMMARY:FESTIVAL METAL'O'WEEN 2024 - HALLES DE GAZTELU (HENDAIA)
DESCRIPTION:Edición número 12 del festival «Metal’O’Ween» que tiene lugar en Halles de Gaztelu de Hendaye\, desde el 23 al 26 de Octubre. \n\n\n\n \n\n\n\nTienes más info aquí.
URL:https://deplanesporlacomarca.com/agenda-evento/festival-metaloween-2024-halles-de-gaztelu-hendaia/2024-10-24/
LOCATION:Halles de Gaztelu\, Rue de la Halle\, Hendaye\, 64700\, Francia
ATTACH;FMTTYPE=image/jpeg:https://deplanesporlacomarca.com/wp-content/uploads/2024/10/halloween_2024_metal_o_ween_octubre_halles_de_gaztelu_hendaye.jpg
GEO:43.3593218;-1.7738178
X-APPLE-STRUCTURED-LOCATION;VALUE=URI;X-ADDRESS=Halles de Gaztelu Rue de la Halle Hendaye 64700 Francia;X-APPLE-RADIUS=500;X-TITLE=Rue de la Halle:geo:-1.7738178,43.3593218
END:VEVENT
BEGIN:VEVENT
DTSTART;TZID=Europe/Madrid:20241023T193000
DTEND;TZID=Europe/Madrid:20241023T193000
DTSTAMP:20260419T203715
CREATED:20241023T151843Z
LAST-MODIFIED:20241023T151849Z
UID:10037002-1729711800-1729711800@deplanesporlacomarca.com
SUMMARY:FESTIVAL METAL'O'WEEN 2024 - HALLES DE GAZTELU (HENDAIA)
DESCRIPTION:Edición número 12 del festival «Metal’O’Ween» que tiene lugar en Halles de Gaztelu de Hendaye\, desde el 23 al 26 de Octubre. \n\n\n\n \n\n\n\nTienes más info aquí.
URL:https://deplanesporlacomarca.com/agenda-evento/festival-metaloween-2024-halles-de-gaztelu-hendaia/2024-10-23/
LOCATION:Halles de Gaztelu\, Rue de la Halle\, Hendaye\, 64700\, Francia
ATTACH;FMTTYPE=image/jpeg:https://deplanesporlacomarca.com/wp-content/uploads/2024/10/halloween_2024_metal_o_ween_octubre_halles_de_gaztelu_hendaye.jpg
GEO:43.3593218;-1.7738178
X-APPLE-STRUCTURED-LOCATION;VALUE=URI;X-ADDRESS=Halles de Gaztelu Rue de la Halle Hendaye 64700 Francia;X-APPLE-RADIUS=500;X-TITLE=Rue de la Halle:geo:-1.7738178,43.3593218
END:VEVENT
BEGIN:VEVENT
DTSTART;TZID=Europe/Madrid:20240728T123000
DTEND;TZID=Europe/Madrid:20240728T235900
DTSTAMP:20260419T203715
CREATED:20240719T144939Z
LAST-MODIFIED:20240719T144942Z
UID:10036371-1722169800-1722211140@deplanesporlacomarca.com
SUMMARY:FESTIVAL DE CULTURE BRÉSILIENNE "AUPA BRASIL" - HALLES DE GAZTELU (HENDAYE)
DESCRIPTION:Segunda edición del festival de cultura brasileña «Aupa Brasil» que tiene lugar durante viernes\, sábado y domingo en Halles de Gaztelu de Hendaye\, con un programa dirigido a todos los públicos y organizado por Dantza Carioca. \n\n\n\n \n\n\n\nEl plan tiene entrada gratuita y tienes todos los detalles aquí:
URL:https://deplanesporlacomarca.com/agenda-evento/festival-de-culture-bresilienne-aupa-brasil-halles-de-gaztelu-hendaye/2024-07-28/
LOCATION:Halles de Gaztelu\, Rue de la Halle\, Hendaye\, 64700\, Francia
ATTACH;FMTTYPE=image/jpeg:https://deplanesporlacomarca.com/wp-content/uploads/2024/07/festival_culture_bresilienne_aupa_brasil_26_27_28_julio_2024_halles_de_gaztelu_hendaye.jpg
GEO:43.3593218;-1.7738178
X-APPLE-STRUCTURED-LOCATION;VALUE=URI;X-ADDRESS=Halles de Gaztelu Rue de la Halle Hendaye 64700 Francia;X-APPLE-RADIUS=500;X-TITLE=Rue de la Halle:geo:-1.7738178,43.3593218
END:VEVENT
BEGIN:VEVENT
DTSTART;TZID=Europe/Madrid:20240727T123000
DTEND;TZID=Europe/Madrid:20240727T230000
DTSTAMP:20260419T203715
CREATED:20240719T144939Z
LAST-MODIFIED:20240719T144942Z
UID:10036370-1722083400-1722121200@deplanesporlacomarca.com
SUMMARY:FESTIVAL DE CULTURE BRÉSILIENNE "AUPA BRASIL" - HALLES DE GAZTELU (HENDAYE)
DESCRIPTION:Segunda edición del festival de cultura brasileña «Aupa Brasil» que tiene lugar durante viernes\, sábado y domingo en Halles de Gaztelu de Hendaye\, con un programa dirigido a todos los públicos y organizado por Dantza Carioca. \n\n\n\n \n\n\n\nEl plan tiene entrada gratuita y tienes todos los detalles aquí:
URL:https://deplanesporlacomarca.com/agenda-evento/festival-de-culture-bresilienne-aupa-brasil-halles-de-gaztelu-hendaye/2024-07-27/
LOCATION:Halles de Gaztelu\, Rue de la Halle\, Hendaye\, 64700\, Francia
ATTACH;FMTTYPE=image/jpeg:https://deplanesporlacomarca.com/wp-content/uploads/2024/07/festival_culture_bresilienne_aupa_brasil_26_27_28_julio_2024_halles_de_gaztelu_hendaye.jpg
GEO:43.3593218;-1.7738178
X-APPLE-STRUCTURED-LOCATION;VALUE=URI;X-ADDRESS=Halles de Gaztelu Rue de la Halle Hendaye 64700 Francia;X-APPLE-RADIUS=500;X-TITLE=Rue de la Halle:geo:-1.7738178,43.3593218
END:VEVENT
BEGIN:VEVENT
DTSTART;TZID=Europe/Madrid:20240726T170000
DTEND;TZID=Europe/Madrid:20240726T223000
DTSTAMP:20260419T203715
CREATED:20240719T144939Z
LAST-MODIFIED:20240719T144942Z
UID:10036369-1722013200-1722033000@deplanesporlacomarca.com
SUMMARY:FESTIVAL DE CULTURE BRÉSILIENNE "AUPA BRASIL" - HALLES DE GAZTELU (HENDAYE)
DESCRIPTION:Segunda edición del festival de cultura brasileña «Aupa Brasil» que tiene lugar durante viernes\, sábado y domingo en Halles de Gaztelu de Hendaye\, con un programa dirigido a todos los públicos y organizado por Dantza Carioca. \n\n\n\n \n\n\n\nEl plan tiene entrada gratuita y tienes todos los detalles aquí:
URL:https://deplanesporlacomarca.com/agenda-evento/festival-de-culture-bresilienne-aupa-brasil-halles-de-gaztelu-hendaye/2024-07-26/
LOCATION:Halles de Gaztelu\, Rue de la Halle\, Hendaye\, 64700\, Francia
ATTACH;FMTTYPE=image/jpeg:https://deplanesporlacomarca.com/wp-content/uploads/2024/07/festival_culture_bresilienne_aupa_brasil_26_27_28_julio_2024_halles_de_gaztelu_hendaye.jpg
GEO:43.3593218;-1.7738178
X-APPLE-STRUCTURED-LOCATION;VALUE=URI;X-ADDRESS=Halles de Gaztelu Rue de la Halle Hendaye 64700 Francia;X-APPLE-RADIUS=500;X-TITLE=Rue de la Halle:geo:-1.7738178,43.3593218
END:VEVENT
BEGIN:VEVENT
DTSTART;TZID=Europe/Madrid:20240608T170000
DTEND;TZID=Europe/Madrid:20240608T235900
DTSTAMP:20260419T203715
CREATED:20240531T124935Z
LAST-MODIFIED:20240531T124939Z
UID:10035761-1717866000-1717891140@deplanesporlacomarca.com
SUMMARY:40 ANNIVERSAIRE CLUB STADE HENDAYAIS - HALLES DE GAZTELU (HENDAYE)
DESCRIPTION:El club de rugby Stade Hendayais celebra su 40 aniversario y lo hace una gran fiesta para pequeños y mayores que comienza a las 17.00 horas en Halles de Gaztelu de Hendaya. \n\n\n\n \n\n\n\nEste es el programa previsto: \n\n\n\n– 17.00 – 20.00 horas: Juegos hinchables\, duelo de sumo\,… \n\n\n\n– 17.00 – 19.00 horas: Animación con «Marie et Camilia». \n\n\n\n– 20.00 horas: Cena «Méchoui» con la animación de Alaiak. (con reserva y plazas limitadas) \n\n\n\n– 22.00 – 02.00 horas: Animación con DJ TTEMO.
URL:https://deplanesporlacomarca.com/agenda-evento/40-anniversaire-club-stade-hendayais-halles-de-gaztelu-hendaye/
LOCATION:Halles de Gaztelu\, Rue de la Halle\, Hendaye\, 64700\, Francia
ATTACH;FMTTYPE=image/jpeg:https://deplanesporlacomarca.com/wp-content/uploads/2024/05/40_aniversario_anniversaire_club_stade_hendayais_8_junio_2024_halles_gaztelu_hendaye.jpg
GEO:43.3593218;-1.7738178
X-APPLE-STRUCTURED-LOCATION;VALUE=URI;X-ADDRESS=Halles de Gaztelu Rue de la Halle Hendaye 64700 Francia;X-APPLE-RADIUS=500;X-TITLE=Rue de la Halle:geo:-1.7738178,43.3593218
END:VEVENT
BEGIN:VEVENT
DTSTART;TZID=Europe/Madrid:20240601T100000
DTEND;TZID=Europe/Madrid:20240601T180000
DTSTAMP:20260419T203715
CREATED:20240531T102027Z
LAST-MODIFIED:20240531T102031Z
UID:10035752-1717236000-1717264800@deplanesporlacomarca.com
SUMMARY:7º FESTIVAL DU LIVRE "JEUNESSE" - LE CHIPIRON LECTEUR - TXIPIROI IRAKURLEA (HENDAYE)
DESCRIPTION:La asociación Txikiekin organiza\, como cada año\, el «Festival du Livre Jeunesse» (Festival del Libro Juvenil) en Halles de Gaztelu de Hendaya\, a partir de las 10.00 horas. \n\n\n\n \n\n\n\nPlan con entrada gratuita.
URL:https://deplanesporlacomarca.com/agenda-evento/7o-festival-du-livre-jeunesse-le-chipiron-lecteur-txipiroi-irakurlea-hendaye/
LOCATION:Halles de Gaztelu\, Rue de la Halle\, Hendaye\, 64700\, Francia
ATTACH;FMTTYPE=image/jpeg:https://deplanesporlacomarca.com/wp-content/uploads/2024/05/festival_du_livre_jeunesse_le_chipiron_lecteur_junio_2024_hendaye.jpg
GEO:43.3593218;-1.7738178
X-APPLE-STRUCTURED-LOCATION;VALUE=URI;X-ADDRESS=Halles de Gaztelu Rue de la Halle Hendaye 64700 Francia;X-APPLE-RADIUS=500;X-TITLE=Rue de la Halle:geo:-1.7738178,43.3593218
END:VEVENT
END:VCALENDAR