BEGIN:VCALENDAR
VERSION:2.0
PRODID:-//De planes por la comarca - ECPv6.15.20//NONSGML v1.0//EN
CALSCALE:GREGORIAN
METHOD:PUBLISH
X-ORIGINAL-URL:https://deplanesporlacomarca.com
X-WR-CALDESC:Eventos para De planes por la comarca
REFRESH-INTERVAL;VALUE=DURATION:PT1H
X-Robots-Tag:noindex
X-PUBLISHED-TTL:PT1H
BEGIN:VTIMEZONE
TZID:Europe/Madrid
BEGIN:DAYLIGHT
TZOFFSETFROM:+0100
TZOFFSETTO:+0200
TZNAME:CEST
DTSTART:20250330T010000
END:DAYLIGHT
BEGIN:STANDARD
TZOFFSETFROM:+0200
TZOFFSETTO:+0100
TZNAME:CET
DTSTART:20251026T010000
END:STANDARD
BEGIN:DAYLIGHT
TZOFFSETFROM:+0100
TZOFFSETTO:+0200
TZNAME:CEST
DTSTART:20260329T010000
END:DAYLIGHT
BEGIN:STANDARD
TZOFFSETFROM:+0200
TZOFFSETTO:+0100
TZNAME:CET
DTSTART:20261025T010000
END:STANDARD
BEGIN:DAYLIGHT
TZOFFSETFROM:+0100
TZOFFSETTO:+0200
TZNAME:CEST
DTSTART:20270328T010000
END:DAYLIGHT
BEGIN:STANDARD
TZOFFSETFROM:+0200
TZOFFSETTO:+0100
TZNAME:CET
DTSTART:20271031T010000
END:STANDARD
END:VTIMEZONE
BEGIN:VEVENT
DTSTART;TZID=Europe/Madrid:20260419T000000
DTEND;TZID=Europe/Madrid:20260419T235959
DTSTAMP:20260419T162949
CREATED:20260410T083436Z
LAST-MODIFIED:20260410T083438Z
UID:10042482-1776556800-1776643199@deplanesporlacomarca.com
SUMMARY:VI RUTA DE PINTXOS DE BACALAO (IRUN - HONDARRIBIA)
DESCRIPTION:Dentro del XII Campeonato de Pintxos de Bacalao de Gipuzkoa\, se celebra la VI Ruta de Pintxos de Bacalao en la que vas a poder saborear los pintxos\, con el bacalao como ingrediente principal\, de los más de 40 bares participantes de toda la provincia\, desde el 7 hasta el 19 de Abril. \n\n\n\n \n\n\n\nEn la comarca puedes hacer también tu ruta en estos bares de Irun y Hondarribia: \n\n\n\n \n\n\n\nIRUN \n\n\n\n– A pedir de boca \n\n\n\n– Asador Iñaki \n\n\n\n– Bakar \n\n\n\n– Casino \n\n\n\n– Colón \n\n\n\n– Faisán Ostatua \n\n\n\n– Felix Manso Ibarla \n\n\n\n– Gascon \n\n\n\n– Gaztelumendi \n\n\n\n– Maddie \n\n\n\n– Manolo \n\n\n\n– Pikaro \n\n\n\n– Tostadero \n\n\n\n \n\n\n\n \n\n\n\nHONDARRIBIA \n\n\n\n– Itxaropena \n\n\n\n– Rafael \n\n\n\n– Tatapas \n\n\n\n– Ttapikua
URL:https://deplanesporlacomarca.com/agenda-evento/vi-ruta-de-pintxos-de-bacalao-irun-hondarribia/2026-04-19/
LOCATION:Hondarribia\, Hondarribia\, Gipuzkoa\, 20280\, España
ATTACH;FMTTYPE=image/jpeg:https://deplanesporlacomarca.com/wp-content/uploads/2026/04/xii_campeonato_pintxos_bacalao_gipuzkoa_vi_ruta_pintxos_bacalao_irun_hondarribia.jpg
GEO:43.3632622;-1.8220818
END:VEVENT
BEGIN:VEVENT
DTSTART;TZID=Europe/Madrid:20260426T080000
DTEND;TZID=Europe/Madrid:20260426T080000
DTSTAMP:20260419T162949
CREATED:20260330T152602Z
LAST-MODIFIED:20260330T152604Z
UID:10042401-1777190400-1777190400@deplanesporlacomarca.com
SUMMARY:ALBORADA DE HONDARRIBIKO TXISTU TALDEA - ABRIL 2026 (HONDARRIBIA)
DESCRIPTION:Alborada a cargo de Hondarribiko Txistu Taldea en Hondarribia. \n\n\n\n– Día 5 de Abril: Casco Histórico – Amute-Kosta \n\n\n\n– Día 12 de Abril: Casco Histórico – Soroeta \n\n\n\n– Día 19 de Abril: Casco Histórico – Muliate \n\n\n\n– Día 26 de Abril: Casco Histórico – Puntal
URL:https://deplanesporlacomarca.com/agenda-evento/alborada-de-hondarribiko-txistu-taldea-abril-2026-hondarribia/2026-04-26/
LOCATION:Hondarribia\, Hondarribia\, Gipuzkoa\, 20280\, España
GEO:43.3632622;-1.8220818
END:VEVENT
BEGIN:VEVENT
DTSTART;TZID=Europe/Madrid:20260426T093000
DTEND;TZID=Europe/Madrid:20260426T093000
DTSTAMP:20260419T162949
CREATED:20260415T170658Z
LAST-MODIFIED:20260415T170700Z
UID:10042510-1777195800-1777195800@deplanesporlacomarca.com
SUMMARY:V. HONDARRIBIA 10K 2026
DESCRIPTION:Quinta edición de la Hondarribia 10K. \n\n\n\n \n\n\n\nSe trata de una carrera muy rápida\, 10 kilómetros sin ningún tipo de incidencias\, y que se realiza a partir de las 09.30 horas de la mañana\, para generar el menor número de obstáculos de tráfico posible en Hondarribia. La prueba también es Campeonato de Euskadi y de Gipuzkoa\, lo que garantiza la participación de corredores/as de alto nivel\, aunque la carrera es\, sobre todo\, popular. \n\n\n\n \n\n\n\nLa salida tendrá lugar en la calle Minatera\, desde donde\, tras pasar por la zona del puerto\, se tomará la carretera del aeropuerto hacia Amute. Allí se realizará un giro y el regreso será por la calle Kosta\, pasando por Santa Engrazia y Sabin Arana hasta el centro. Posteriormente\, continuará por la calle Ramón Iribarren hasta Kai Berri\, finalizando el último tramo en el espigón. \n\n\n\n \n\n\n\nEs una carrera homologada por la Federación Española de Atletismo. \n\n\n\n \n\n\n\nPuedes inscribirte aquí.
URL:https://deplanesporlacomarca.com/agenda-evento/v-hondarribia-10k-2026/
LOCATION:Hondarribia\, Hondarribia\, Gipuzkoa\, 20280\, España
ATTACH;FMTTYPE=image/jpeg:https://deplanesporlacomarca.com/wp-content/uploads/2026/04/carrera_lasterketa_10k_2026_hondarribia.jpg
GEO:43.3632622;-1.8220818
END:VEVENT
BEGIN:VEVENT
DTSTART;TZID=Europe/Madrid:20260509T150000
DTEND;TZID=Europe/Madrid:20260509T190000
DTSTAMP:20260419T162949
CREATED:20260415T165418Z
LAST-MODIFIED:20260415T165419Z
UID:10042509-1778338800-1778353200@deplanesporlacomarca.com
SUMMARY:"HONDARRIBIKO XV. SPRINT TRIATLOIA" ETA "TRIATLOI HERRIKOIA" (HONDARRIBIA)
DESCRIPTION:Decimoquinta edición del triatlón local organizado por el Biosnar Hondarribiko Triatloi Kluba en colaboración con el Ayuntamiento de Hondarribia y la Federación de Triatlón de Euskadi y Gipuzkoa. \n\n\n\n \n\n\n\nEn el mismo día se organizarán 2 triatlones\, uno popular y otro\, elite sprint. La principal diferencia entre ellos son las distancias a recorrer en las modalidades de natación\, ciclismo y carrera.  \n\n\n\n \n\n\n\nLa primera prueba será la popular\, que arrancará a las 15.00 horas\, en salida simultanea tanto para mujeres como para hombres. El recorrido como el de todos los años será de 375m de natación con salida desde la playa de Hondarribia. Posteriormente se darán dos vueltas a un circuito urbano de ciclismo con salida desde los boxes en el paseo Europa\, subida hacía el Faro de Higer este año por el lado del Arroka (ya que tras el desprendimiento es imposible conectar desde el puerto hasta el Arroka) y giro de 180 grados en lo más alto para volver hasta la playa. Dos vueltas a este circuito y comenzaría el sector de carrera. El último segmento será de 2\,5km corriendo para finalizar la prueba en el puerto deportivo de Hondarribia. \n\n\n\n \n\n\n\nLa segunda prueba que organiza el club será la sprint (la profesional) en la cual se esperan unos 300 triatletas y dará comienzo a las 17.00 horas con salida masculina y 17.05 horas\, salida femenina. Tras nadar un segmento de 750m\, los/las participantes deberán tomar sus bicicletas para dirigirse hacia por la rotonda de Labreder para a continuación subir hasta el alto de Jaizkibel por la carretera de Guadalupe. Una vez llegados a lo alto de Jaizkibel\, realizarán un giro de 180 grados y deberán bajar por donde han subido y desde la rotonda de Labreder volver a la playa de Hondarribia. Tras dejar las bicicletas comenzarán con el sector a pie. Correrán 5 kilometros cuyo recorrido comenzará en boxes\, de la playa para ir hasta el puerto viejo donde girarán y volverán a la playa para a continuación dirigirse a la meta situada en el puerto deportivo. \n\n\n\n \n\n\n\nInscripciones en este enlace.
URL:https://deplanesporlacomarca.com/agenda-evento/hondarribiko-xv-sprint-triatloia-eta-triatloi-herrikoia-hondarribia/
LOCATION:Hondarribia\, Hondarribia\, Gipuzkoa\, 20280\, España
ATTACH;FMTTYPE=image/jpeg:https://deplanesporlacomarca.com/wp-content/uploads/2026/04/hondarribiko_triatloia_triatlon_2026_hondarribia.jpg
GEO:43.3632622;-1.8220818
END:VEVENT
END:VCALENDAR