BEGIN:VCALENDAR
VERSION:2.0
PRODID:-//De planes por la comarca - ECPv6.15.20//NONSGML v1.0//EN
CALSCALE:GREGORIAN
METHOD:PUBLISH
X-ORIGINAL-URL:https://deplanesporlacomarca.com
X-WR-CALDESC:Eventos para De planes por la comarca
REFRESH-INTERVAL;VALUE=DURATION:PT1H
X-Robots-Tag:noindex
X-PUBLISHED-TTL:PT1H
BEGIN:VTIMEZONE
TZID:Europe/Madrid
BEGIN:DAYLIGHT
TZOFFSETFROM:+0100
TZOFFSETTO:+0200
TZNAME:CEST
DTSTART:20230326T010000
END:DAYLIGHT
BEGIN:STANDARD
TZOFFSETFROM:+0200
TZOFFSETTO:+0100
TZNAME:CET
DTSTART:20231029T010000
END:STANDARD
BEGIN:DAYLIGHT
TZOFFSETFROM:+0100
TZOFFSETTO:+0200
TZNAME:CEST
DTSTART:20240331T010000
END:DAYLIGHT
BEGIN:STANDARD
TZOFFSETFROM:+0200
TZOFFSETTO:+0100
TZNAME:CET
DTSTART:20241027T010000
END:STANDARD
BEGIN:DAYLIGHT
TZOFFSETFROM:+0100
TZOFFSETTO:+0200
TZNAME:CEST
DTSTART:20250330T010000
END:DAYLIGHT
BEGIN:STANDARD
TZOFFSETFROM:+0200
TZOFFSETTO:+0100
TZNAME:CET
DTSTART:20251026T010000
END:STANDARD
BEGIN:DAYLIGHT
TZOFFSETFROM:+0100
TZOFFSETTO:+0200
TZNAME:CEST
DTSTART:20260329T010000
END:DAYLIGHT
BEGIN:STANDARD
TZOFFSETFROM:+0200
TZOFFSETTO:+0100
TZNAME:CET
DTSTART:20261025T010000
END:STANDARD
END:VTIMEZONE
BEGIN:VEVENT
DTSTART;TZID=Europe/Madrid:20250621T100000
DTEND;TZID=Europe/Madrid:20250621T130000
DTSTAMP:20260420T135001
CREATED:20250605T084310Z
LAST-MODIFIED:20250605T084620Z
UID:10039806-1750500000-1750510800@deplanesporlacomarca.com
SUMMARY:9º TXIMIST CUP 2025 (HONDARRIBIA)
DESCRIPTION:La novena edición de la TXIMIST CUP\, el torneo internacional de fútbol femenino\, se va a llevar acabo del 14 al 21 de junio en Hondarribia. Un torneo que se ha consolidado como un referente en el fútbol femenino a nivel internacional. \n\n\n\n \n\n\n\nEste prestigioso torneo\, creado hace ocho años en honor a Juan Carlos Samaniego ‘TXIMIST’\, reconocido ex preparador físico y readaptador de la Real Sociedad\, ha contado con la participación de más de 6000 futbolistas de todo el mundo. \n\n\n\n \n\n\n\nLos partidos tendrán lugar en Hondartza Kiroldegia y en el campo de fútbol Hondartza. \n\n\n\n \n\n\n\nA través de este torneo\, se ofrece una plataforma para que las jugadoras demuestren sus habilidades\, inspiren a futuras generaciones y promuevan valores de respeto\, trabajo en equipo y perseverancia. Se Invita a tod@s a unirse a la Tximist Cup\, ya sea asistiendo a los partidos\, apoyando a los equipos o participando en los eventos y actividades relacionadas. Su presencia y apoyo no solo enriquecerán la experiencia del torneo\, sino que también fortalecerán el mensaje de que el fútbol femenino merece el mismo reconocimiento y respeto que cualquier otra disciplina deportiva. \n\n\n\n \n\n\n\nAdemás de los destacados equipos femeninos de cantera de la Real Sociedad en las categorías sub-17 y sub-14\, el torneo contará con la presencia de renombrados clubes como el Manchester City\, Real Madrid\, Real Sociedad\, Hammarby\, Inter Milán\, FC Twente\, Eibar\, Olympique Lyon\, Selección de Gipuzkoa y Grasshopper. \n\n\n\n \n\n\n\nEl 21 de junio\, desde las 10.00 horas\, la categoría «Legends» enfrentará equipos históricos y destacados: AFE\, RCD Espanyol\, SD Eibar y Real Sociedad. Será el broche de oro perfecto para un torneo de alto nivel. \n\n\n\n \n\n\n\nDurante la celebración del torneo\, y también promovido por la Fundación Tximist\, se llevarán a cabo diversas actividades\, como hinchables\, FAN ZONE\, sorteos de camisetas de los clubes participantes\, regalos y una paellada popular. \n\n\n\n \n\n\n\nTienes todos los horarios y los partidos aquí.
URL:https://deplanesporlacomarca.com/agenda-evento/9o-tximist-cup-2025-hondarribia/2025-06-21/
LOCATION:Hondartza Futbol Zelaia\, Foru Kalea\, Hondarribia\, Gipuzkoa\, 20280\, España
ATTACH;FMTTYPE=image/jpeg:https://deplanesporlacomarca.com/wp-content/uploads/2025/06/tximist_cup_2025_torneo_futbol_femenino_hondarribia.jpg
GEO:43.3732456;-1.7958804
X-APPLE-STRUCTURED-LOCATION;VALUE=URI;X-ADDRESS=Hondartza Futbol Zelaia Foru Kalea Hondarribia Gipuzkoa 20280 España;X-APPLE-RADIUS=500;X-TITLE=Foru Kalea:geo:-1.7958804,43.3732456
END:VEVENT
BEGIN:VEVENT
DTSTART;TZID=Europe/Madrid:20250615T090000
DTEND;TZID=Europe/Madrid:20250615T140000
DTSTAMP:20260420T135001
CREATED:20250605T084310Z
LAST-MODIFIED:20250605T084620Z
UID:10039805-1749978000-1749996000@deplanesporlacomarca.com
SUMMARY:9º TXIMIST CUP 2025 (HONDARRIBIA)
DESCRIPTION:La novena edición de la TXIMIST CUP\, el torneo internacional de fútbol femenino\, se va a llevar acabo del 14 al 21 de junio en Hondarribia. Un torneo que se ha consolidado como un referente en el fútbol femenino a nivel internacional. \n\n\n\n \n\n\n\nEste prestigioso torneo\, creado hace ocho años en honor a Juan Carlos Samaniego ‘TXIMIST’\, reconocido ex preparador físico y readaptador de la Real Sociedad\, ha contado con la participación de más de 6000 futbolistas de todo el mundo. \n\n\n\n \n\n\n\nLos partidos tendrán lugar en Hondartza Kiroldegia y en el campo de fútbol Hondartza. \n\n\n\n \n\n\n\nA través de este torneo\, se ofrece una plataforma para que las jugadoras demuestren sus habilidades\, inspiren a futuras generaciones y promuevan valores de respeto\, trabajo en equipo y perseverancia. Se Invita a tod@s a unirse a la Tximist Cup\, ya sea asistiendo a los partidos\, apoyando a los equipos o participando en los eventos y actividades relacionadas. Su presencia y apoyo no solo enriquecerán la experiencia del torneo\, sino que también fortalecerán el mensaje de que el fútbol femenino merece el mismo reconocimiento y respeto que cualquier otra disciplina deportiva. \n\n\n\n \n\n\n\nAdemás de los destacados equipos femeninos de cantera de la Real Sociedad en las categorías sub-17 y sub-14\, el torneo contará con la presencia de renombrados clubes como el Manchester City\, Real Madrid\, Real Sociedad\, Hammarby\, Inter Milán\, FC Twente\, Eibar\, Olympique Lyon\, Selección de Gipuzkoa y Grasshopper. \n\n\n\n \n\n\n\nEl 21 de junio\, desde las 10.00 horas\, la categoría «Legends» enfrentará equipos históricos y destacados: AFE\, RCD Espanyol\, SD Eibar y Real Sociedad. Será el broche de oro perfecto para un torneo de alto nivel. \n\n\n\n \n\n\n\nDurante la celebración del torneo\, y también promovido por la Fundación Tximist\, se llevarán a cabo diversas actividades\, como hinchables\, FAN ZONE\, sorteos de camisetas de los clubes participantes\, regalos y una paellada popular. \n\n\n\n \n\n\n\nTienes todos los horarios y los partidos aquí.
URL:https://deplanesporlacomarca.com/agenda-evento/9o-tximist-cup-2025-hondarribia/2025-06-15/
LOCATION:Hondartza Futbol Zelaia\, Foru Kalea\, Hondarribia\, Gipuzkoa\, 20280\, España
ATTACH;FMTTYPE=image/jpeg:https://deplanesporlacomarca.com/wp-content/uploads/2025/06/tximist_cup_2025_torneo_futbol_femenino_hondarribia.jpg
GEO:43.3732456;-1.7958804
X-APPLE-STRUCTURED-LOCATION;VALUE=URI;X-ADDRESS=Hondartza Futbol Zelaia Foru Kalea Hondarribia Gipuzkoa 20280 España;X-APPLE-RADIUS=500;X-TITLE=Foru Kalea:geo:-1.7958804,43.3732456
END:VEVENT
BEGIN:VEVENT
DTSTART;TZID=Europe/Madrid:20250614T090000
DTEND;TZID=Europe/Madrid:20250614T210000
DTSTAMP:20260420T135001
CREATED:20250605T084310Z
LAST-MODIFIED:20250605T084620Z
UID:10039804-1749891600-1749934800@deplanesporlacomarca.com
SUMMARY:9º TXIMIST CUP 2025 (HONDARRIBIA)
DESCRIPTION:La novena edición de la TXIMIST CUP\, el torneo internacional de fútbol femenino\, se va a llevar acabo del 14 al 21 de junio en Hondarribia. Un torneo que se ha consolidado como un referente en el fútbol femenino a nivel internacional. \n\n\n\n \n\n\n\nEste prestigioso torneo\, creado hace ocho años en honor a Juan Carlos Samaniego ‘TXIMIST’\, reconocido ex preparador físico y readaptador de la Real Sociedad\, ha contado con la participación de más de 6000 futbolistas de todo el mundo. \n\n\n\n \n\n\n\nLos partidos tendrán lugar en Hondartza Kiroldegia y en el campo de fútbol Hondartza. \n\n\n\n \n\n\n\nA través de este torneo\, se ofrece una plataforma para que las jugadoras demuestren sus habilidades\, inspiren a futuras generaciones y promuevan valores de respeto\, trabajo en equipo y perseverancia. Se Invita a tod@s a unirse a la Tximist Cup\, ya sea asistiendo a los partidos\, apoyando a los equipos o participando en los eventos y actividades relacionadas. Su presencia y apoyo no solo enriquecerán la experiencia del torneo\, sino que también fortalecerán el mensaje de que el fútbol femenino merece el mismo reconocimiento y respeto que cualquier otra disciplina deportiva. \n\n\n\n \n\n\n\nAdemás de los destacados equipos femeninos de cantera de la Real Sociedad en las categorías sub-17 y sub-14\, el torneo contará con la presencia de renombrados clubes como el Manchester City\, Real Madrid\, Real Sociedad\, Hammarby\, Inter Milán\, FC Twente\, Eibar\, Olympique Lyon\, Selección de Gipuzkoa y Grasshopper. \n\n\n\n \n\n\n\nEl 21 de junio\, desde las 10.00 horas\, la categoría «Legends» enfrentará equipos históricos y destacados: AFE\, RCD Espanyol\, SD Eibar y Real Sociedad. Será el broche de oro perfecto para un torneo de alto nivel. \n\n\n\n \n\n\n\nDurante la celebración del torneo\, y también promovido por la Fundación Tximist\, se llevarán a cabo diversas actividades\, como hinchables\, FAN ZONE\, sorteos de camisetas de los clubes participantes\, regalos y una paellada popular. \n\n\n\n \n\n\n\nTienes todos los horarios y los partidos aquí.
URL:https://deplanesporlacomarca.com/agenda-evento/9o-tximist-cup-2025-hondarribia/2025-06-14/
LOCATION:Hondartza Futbol Zelaia\, Foru Kalea\, Hondarribia\, Gipuzkoa\, 20280\, España
ATTACH;FMTTYPE=image/jpeg:https://deplanesporlacomarca.com/wp-content/uploads/2025/06/tximist_cup_2025_torneo_futbol_femenino_hondarribia.jpg
GEO:43.3732456;-1.7958804
X-APPLE-STRUCTURED-LOCATION;VALUE=URI;X-ADDRESS=Hondartza Futbol Zelaia Foru Kalea Hondarribia Gipuzkoa 20280 España;X-APPLE-RADIUS=500;X-TITLE=Foru Kalea:geo:-1.7958804,43.3732456
END:VEVENT
BEGIN:VEVENT
DTSTART;TZID=Europe/Madrid:20240622T103000
DTEND;TZID=Europe/Madrid:20240622T133000
DTSTAMP:20260420T135001
CREATED:20240531T135641Z
LAST-MODIFIED:20240606T121235Z
UID:10035843-1719052200-1719063000@deplanesporlacomarca.com
SUMMARY:8º TXIMIST CUP 2024 (HONDARRIBIA)
DESCRIPTION:La octava edición de la TXIMIST CUP\, el torneo internacional de fútbol femenino\, se va a llevar acabo del 14 al 22 de junio en Hondarribia. Un torneo que se ha consolidado como un referente en el fútbol  femenino a nivel internacional. \n\n\n\n \n\n\n\nEste prestigioso torneo\, creado hace ocho años en honor a Juan Carlos Samaniego ‘TXIMIST’\, reconocido ex preparador físico y readaptador de la Real Sociedad\, ha contado con la participación de más de 6000 futbolistas de todo el mundo. \n\n\n\n \n\n\n\nLos partidos tendrán lugar en Hondartza Kiroldegia y en el campo de fútbol Hondartza. \n\n\n\n \n\n\n\nA través de este torneo\, se ofrece una plataforma para que las jugadoras demuestren sus habilidades\, inspiren a futuras generaciones y promuevan valores de respeto\, trabajo en equipo y perseverancia. Se Invita a tod@s a unirse a la Tximist Cup\, ya sea asistiendo a los partidos\, apoyando a los equipos o participando en los eventos y actividades relacionadas. Su presencia y apoyo no solo enriquecerán la experiencia del torneo\, sino que también fortalecerán el mensaje de que el fútbol femenino merece el mismo reconocimiento y respeto que cualquier otra disciplina deportiva. \n\n\n\n \n\n\n\nAdemás de los destacados equipos femeninos de cantera de la Real Sociedad en las categorías sub-17 y sub-14\, el torneo contará con la presencia de renombrados clubes internacionales como el Wolfsburgo y el Olympique de Lyon\, además del\, FC Barcelona\, WomanGoal\, el RB Leipzig\, el FC Twente\, el Grasshopper\, el Deportivo Alavés y la Selección Guipuzcoana. \n\n\n\n \n\n\n\nEl 22 de junio\, desde las 10.30 horas\, la categoría «Legends» enfrentará equipos históricos y destacados: Real Sociedad\, Athletic Club y AFE. Será el broche de oro perfecto para un torneo de alto nivel. \n\n\n\n \n\n\n\nDurante la celebración del torneo\, y también promovido por la Fundación Tximist\, se llevarán a cabo diversas actividades\, como hinchables\, FAN ZONE\, sorteos de camisetas de los clubes participantes\, regalos y una paellada popular. \n\n\n\n \n\n\n\nTienes todos los horarios y los partidos aquí.
URL:https://deplanesporlacomarca.com/agenda-evento/8o-tximist-cup-2024-hondarribia/2024-06-22/
LOCATION:Hondartza Futbol Zelaia\, Foru Kalea\, Hondarribia\, Gipuzkoa\, 20280\, España
ATTACH;FMTTYPE=image/jpeg:https://deplanesporlacomarca.com/wp-content/uploads/2024/05/tximist_cup_2024_torneo_futbol_femenino_hondarribia.jpg
GEO:43.3732456;-1.7958804
X-APPLE-STRUCTURED-LOCATION;VALUE=URI;X-ADDRESS=Hondartza Futbol Zelaia Foru Kalea Hondarribia Gipuzkoa 20280 España;X-APPLE-RADIUS=500;X-TITLE=Foru Kalea:geo:-1.7958804,43.3732456
END:VEVENT
BEGIN:VEVENT
DTSTART;TZID=Europe/Madrid:20240616T093000
DTEND;TZID=Europe/Madrid:20240616T140000
DTSTAMP:20260420T135001
CREATED:20240531T135641Z
LAST-MODIFIED:20240606T121235Z
UID:10035842-1718530200-1718546400@deplanesporlacomarca.com
SUMMARY:8º TXIMIST CUP 2024 (HONDARRIBIA)
DESCRIPTION:La octava edición de la TXIMIST CUP\, el torneo internacional de fútbol femenino\, se va a llevar acabo del 14 al 22 de junio en Hondarribia. Un torneo que se ha consolidado como un referente en el fútbol  femenino a nivel internacional. \n\n\n\n \n\n\n\nEste prestigioso torneo\, creado hace ocho años en honor a Juan Carlos Samaniego ‘TXIMIST’\, reconocido ex preparador físico y readaptador de la Real Sociedad\, ha contado con la participación de más de 6000 futbolistas de todo el mundo. \n\n\n\n \n\n\n\nLos partidos tendrán lugar en Hondartza Kiroldegia y en el campo de fútbol Hondartza. \n\n\n\n \n\n\n\nA través de este torneo\, se ofrece una plataforma para que las jugadoras demuestren sus habilidades\, inspiren a futuras generaciones y promuevan valores de respeto\, trabajo en equipo y perseverancia. Se Invita a tod@s a unirse a la Tximist Cup\, ya sea asistiendo a los partidos\, apoyando a los equipos o participando en los eventos y actividades relacionadas. Su presencia y apoyo no solo enriquecerán la experiencia del torneo\, sino que también fortalecerán el mensaje de que el fútbol femenino merece el mismo reconocimiento y respeto que cualquier otra disciplina deportiva. \n\n\n\n \n\n\n\nAdemás de los destacados equipos femeninos de cantera de la Real Sociedad en las categorías sub-17 y sub-14\, el torneo contará con la presencia de renombrados clubes internacionales como el Wolfsburgo y el Olympique de Lyon\, además del\, FC Barcelona\, WomanGoal\, el RB Leipzig\, el FC Twente\, el Grasshopper\, el Deportivo Alavés y la Selección Guipuzcoana. \n\n\n\n \n\n\n\nEl 22 de junio\, desde las 10.30 horas\, la categoría «Legends» enfrentará equipos históricos y destacados: Real Sociedad\, Athletic Club y AFE. Será el broche de oro perfecto para un torneo de alto nivel. \n\n\n\n \n\n\n\nDurante la celebración del torneo\, y también promovido por la Fundación Tximist\, se llevarán a cabo diversas actividades\, como hinchables\, FAN ZONE\, sorteos de camisetas de los clubes participantes\, regalos y una paellada popular. \n\n\n\n \n\n\n\nTienes todos los horarios y los partidos aquí.
URL:https://deplanesporlacomarca.com/agenda-evento/8o-tximist-cup-2024-hondarribia/2024-06-16/
LOCATION:Hondartza Futbol Zelaia\, Foru Kalea\, Hondarribia\, Gipuzkoa\, 20280\, España
ATTACH;FMTTYPE=image/jpeg:https://deplanesporlacomarca.com/wp-content/uploads/2024/05/tximist_cup_2024_torneo_futbol_femenino_hondarribia.jpg
GEO:43.3732456;-1.7958804
X-APPLE-STRUCTURED-LOCATION;VALUE=URI;X-ADDRESS=Hondartza Futbol Zelaia Foru Kalea Hondarribia Gipuzkoa 20280 España;X-APPLE-RADIUS=500;X-TITLE=Foru Kalea:geo:-1.7958804,43.3732456
END:VEVENT
BEGIN:VEVENT
DTSTART;TZID=Europe/Madrid:20240615T093000
DTEND;TZID=Europe/Madrid:20240615T210000
DTSTAMP:20260420T135001
CREATED:20240531T135641Z
LAST-MODIFIED:20240606T121235Z
UID:10035841-1718443800-1718485200@deplanesporlacomarca.com
SUMMARY:8º TXIMIST CUP 2024 (HONDARRIBIA)
DESCRIPTION:La octava edición de la TXIMIST CUP\, el torneo internacional de fútbol femenino\, se va a llevar acabo del 14 al 22 de junio en Hondarribia. Un torneo que se ha consolidado como un referente en el fútbol  femenino a nivel internacional. \n\n\n\n \n\n\n\nEste prestigioso torneo\, creado hace ocho años en honor a Juan Carlos Samaniego ‘TXIMIST’\, reconocido ex preparador físico y readaptador de la Real Sociedad\, ha contado con la participación de más de 6000 futbolistas de todo el mundo. \n\n\n\n \n\n\n\nLos partidos tendrán lugar en Hondartza Kiroldegia y en el campo de fútbol Hondartza. \n\n\n\n \n\n\n\nA través de este torneo\, se ofrece una plataforma para que las jugadoras demuestren sus habilidades\, inspiren a futuras generaciones y promuevan valores de respeto\, trabajo en equipo y perseverancia. Se Invita a tod@s a unirse a la Tximist Cup\, ya sea asistiendo a los partidos\, apoyando a los equipos o participando en los eventos y actividades relacionadas. Su presencia y apoyo no solo enriquecerán la experiencia del torneo\, sino que también fortalecerán el mensaje de que el fútbol femenino merece el mismo reconocimiento y respeto que cualquier otra disciplina deportiva. \n\n\n\n \n\n\n\nAdemás de los destacados equipos femeninos de cantera de la Real Sociedad en las categorías sub-17 y sub-14\, el torneo contará con la presencia de renombrados clubes internacionales como el Wolfsburgo y el Olympique de Lyon\, además del\, FC Barcelona\, WomanGoal\, el RB Leipzig\, el FC Twente\, el Grasshopper\, el Deportivo Alavés y la Selección Guipuzcoana. \n\n\n\n \n\n\n\nEl 22 de junio\, desde las 10.30 horas\, la categoría «Legends» enfrentará equipos históricos y destacados: Real Sociedad\, Athletic Club y AFE. Será el broche de oro perfecto para un torneo de alto nivel. \n\n\n\n \n\n\n\nDurante la celebración del torneo\, y también promovido por la Fundación Tximist\, se llevarán a cabo diversas actividades\, como hinchables\, FAN ZONE\, sorteos de camisetas de los clubes participantes\, regalos y una paellada popular. \n\n\n\n \n\n\n\nTienes todos los horarios y los partidos aquí.
URL:https://deplanesporlacomarca.com/agenda-evento/8o-tximist-cup-2024-hondarribia/2024-06-15/
LOCATION:Hondartza Futbol Zelaia\, Foru Kalea\, Hondarribia\, Gipuzkoa\, 20280\, España
ATTACH;FMTTYPE=image/jpeg:https://deplanesporlacomarca.com/wp-content/uploads/2024/05/tximist_cup_2024_torneo_futbol_femenino_hondarribia.jpg
GEO:43.3732456;-1.7958804
X-APPLE-STRUCTURED-LOCATION;VALUE=URI;X-ADDRESS=Hondartza Futbol Zelaia Foru Kalea Hondarribia Gipuzkoa 20280 España;X-APPLE-RADIUS=500;X-TITLE=Foru Kalea:geo:-1.7958804,43.3732456
END:VEVENT
END:VCALENDAR