BEGIN:VCALENDAR
VERSION:2.0
PRODID:-//De planes por la comarca - ECPv6.15.20//NONSGML v1.0//EN
CALSCALE:GREGORIAN
METHOD:PUBLISH
X-WR-CALNAME:De planes por la comarca
X-ORIGINAL-URL:https://deplanesporlacomarca.com
X-WR-CALDESC:Eventos para De planes por la comarca
REFRESH-INTERVAL;VALUE=DURATION:PT1H
X-Robots-Tag:noindex
X-PUBLISHED-TTL:PT1H
BEGIN:VTIMEZONE
TZID:Europe/Madrid
BEGIN:DAYLIGHT
TZOFFSETFROM:+0100
TZOFFSETTO:+0200
TZNAME:CEST
DTSTART:20250330T010000
END:DAYLIGHT
BEGIN:STANDARD
TZOFFSETFROM:+0200
TZOFFSETTO:+0100
TZNAME:CET
DTSTART:20251026T010000
END:STANDARD
BEGIN:DAYLIGHT
TZOFFSETFROM:+0100
TZOFFSETTO:+0200
TZNAME:CEST
DTSTART:20260329T010000
END:DAYLIGHT
BEGIN:STANDARD
TZOFFSETFROM:+0200
TZOFFSETTO:+0100
TZNAME:CET
DTSTART:20261025T010000
END:STANDARD
BEGIN:DAYLIGHT
TZOFFSETFROM:+0100
TZOFFSETTO:+0200
TZNAME:CEST
DTSTART:20270328T010000
END:DAYLIGHT
BEGIN:STANDARD
TZOFFSETFROM:+0200
TZOFFSETTO:+0100
TZNAME:CET
DTSTART:20271031T010000
END:STANDARD
END:VTIMEZONE
BEGIN:VEVENT
DTSTART;TZID=Europe/Madrid:20260425T000000
DTEND;TZID=Europe/Madrid:20260425T235959
DTSTAMP:20260419T203706
CREATED:20260330T170243Z
LAST-MODIFIED:20260330T170244Z
UID:10042284-1777075200-1777161599@deplanesporlacomarca.com
SUMMARY:OPILA EGUNA - DÍA DE LA OPILLA 2026 + BENDICIONES (IRUN / HONDARRIBIA)
DESCRIPTION:El 25 de abril\, día de San Marcos\, es costumbre en Irun y en Hondarribia\, que las madrinas regalen a sus ahijados y ahijadas\, un bizcocho con huevos teñidos en color rosáceo llamado “opilla”. En torno a esta tradición se ha desarrollado un día festivo que se celebra en distintos puntos de la comarca. \n\n\n\n \n\n\n\nLa jornada se inicia a media mañana cuando los niños\, jóvenes y mayores acuden a las parroquias de Irun y Hondarribia\, con las Opillas envueltas en una servilleta para su bendición. \n\n\n\n \n\n\n\nAquí tienes los horarios de las bendiciones.  \n\n\n\n \n\n\n\nHondarribia: \n\n\n\n– Parroquia de Nuestra Señora de la Asunción y el Manzano: 10.30 horas \n\n\n\n– San Miguel de Garikoitz (Betharram): 10.30 horas \n\n\n\n \n\n\n\n\n\n\n\n\n\n \n\n\n\n \n\n\n\nIrun: \n\n\n\n– Parroquia de la Sagrada Familia: 10.30 horas \n\n\n\n– Parroquia de Nuestra Señora de Aranzazu (Ventas): 11.00 horas \n\n\n\n– Parroquia de Santo Cristo de Artiga (Artia): 11.00 horas \n\n\n\n– Parroquia del Juncal: 11.00 horas (si hace buen tiempo\, se realiza en la Plazoleta)  \n\n\n\n– Parroquia San Juan Bautista (Anaka): 11.00 horas \n\n\n\n– Parroquia de San Gabriel y Santa Gema (Pasionistas): 11.00 horas \n\n\n\n– Parroquia de Pentecostés (Belaskoenea): 11.00 horas \n\n\n\n– Parroquia del Sagrado Corazón (Behobia): 11.15 horas \n\n\n\n– Ermita de San Marcial: 12.00 horas \n\n\n\n– Parroquia de San José Obrero (Larreaundi): 12.00 horas \n\n\n\n \n\n\n\n\n\n\n\n\n\n \n\n\n\n \n\n\n\nServicio de autobuses\n\n\n\nEste servicio funcionará durante toda la jornada con destino a las campas de San Marcial y Guadalupe\, donde tradicionalmente se reúne un buen número de jóvenes para celebrar esta festividad. El autobús será gratuito y está dirigido a todos las personas interesadas\, especialmente a los jóvenes y adolescentes\, con el objeto de tratar de facilitarles el traslado\, y además\, reducir el tránsito y afluencia de vehículos privados y ciclomotores. \n\n\n\n \n\n\n\nEste servicio contará con dos líneas y recorridos diferentes\, uno hacia San Marcial y otro hacia Guadalupe\, con horario de mañana y tarde y una frecuencia de media hora. \n\n\n\n \n\n\n\nLa línea hacia San Marcial \n\n\n\n– Recorrido: salida desde calle Hondarribia\, paseo de Colón\, avenida de Navarra\, Artia Ibilbidea\, y monte San Marcial\, recogiendo pasajeros en las habituales paradas del autobús urbano. \n\n\n\n– Horario: 10.00 – 14.00 horas | 16.00 – 20.00 horas \n\n\n\n \n\n\n\nLa línea hacia Guadalupe\n\n\n\n– Recorrido: salida desde el ambulatorio de Dumboa\, avenida de Navarra\, paseo de Colón\, calle Hondarribia\, Pinar\, y Guadalupe. \n\n\n\n– Horario: 10.00 – 14.00 horas | 16.00 – 20.00 horas
URL:https://deplanesporlacomarca.com/agenda-evento/opila-eguna-dia-de-la-opilla-2026-bendiciones-irun-hondarribia/
LOCATION:Iglesia Parroquial de Santa Maria del Juncal\, Juncal Kalea\, 28\, Irun\, Gipuzkoa\, España
ATTACH;FMTTYPE=image/jpeg:https://deplanesporlacomarca.com/wp-content/uploads/2023/04/bendicion_opillas_irun.jpg
GEO:43.3403517;-1.7864181
X-APPLE-STRUCTURED-LOCATION;VALUE=URI;X-ADDRESS=Iglesia Parroquial de Santa Maria del Juncal Juncal Kalea 28 Irun Gipuzkoa España;X-APPLE-RADIUS=500;X-TITLE=Juncal Kalea\, 28:geo:-1.7864181,43.3403517
END:VEVENT
END:VCALENDAR