BEGIN:VCALENDAR
VERSION:2.0
PRODID:-//De planes por la comarca - ECPv6.15.20//NONSGML v1.0//EN
CALSCALE:GREGORIAN
METHOD:PUBLISH
X-WR-CALNAME:De planes por la comarca
X-ORIGINAL-URL:https://deplanesporlacomarca.com
X-WR-CALDESC:Eventos para De planes por la comarca
REFRESH-INTERVAL;VALUE=DURATION:PT1H
X-Robots-Tag:noindex
X-PUBLISHED-TTL:PT1H
BEGIN:VTIMEZONE
TZID:Europe/Madrid
BEGIN:DAYLIGHT
TZOFFSETFROM:+0100
TZOFFSETTO:+0200
TZNAME:CEST
DTSTART:20230326T010000
END:DAYLIGHT
BEGIN:STANDARD
TZOFFSETFROM:+0200
TZOFFSETTO:+0100
TZNAME:CET
DTSTART:20231029T010000
END:STANDARD
BEGIN:DAYLIGHT
TZOFFSETFROM:+0100
TZOFFSETTO:+0200
TZNAME:CEST
DTSTART:20240331T010000
END:DAYLIGHT
BEGIN:STANDARD
TZOFFSETFROM:+0200
TZOFFSETTO:+0100
TZNAME:CET
DTSTART:20241027T010000
END:STANDARD
BEGIN:DAYLIGHT
TZOFFSETFROM:+0100
TZOFFSETTO:+0200
TZNAME:CEST
DTSTART:20250330T010000
END:DAYLIGHT
BEGIN:STANDARD
TZOFFSETFROM:+0200
TZOFFSETTO:+0100
TZNAME:CET
DTSTART:20251026T010000
END:STANDARD
END:VTIMEZONE
BEGIN:VEVENT
DTSTART;TZID=Europe/Madrid:20240630T100000
DTEND;TZID=Europe/Madrid:20240630T235900
DTSTAMP:20260420T114948
CREATED:20240614T053516Z
LAST-MODIFIED:20240614T053520Z
UID:10035859-1719741600-1719791940@deplanesporlacomarca.com
SUMMARY:SAN MARCIALES 2024 - PUESTOS DE LUIS MARIANO (IRUN)
DESCRIPTION:En el entorno de Luis Mariano de Irun se encuentran diferentes puestos con motivo de la fiestas de San Pedro y San Marcial. \n\n\n\n \n\n\n\nSon un total de 12 casetas de frutos secos\, productos naturales\, juguetes\, artesanía\, serigrafía\, bisutería o marroquinería. \n\n\n\n \n\n\n\nLa apertura de los puestos será el sábado 15 de Junio y permanecerán hasta el 2 de Julio\, a partir de las 10.00 horas de la mañana y el cierre oscila dependiendo de los días entre las 00.00 y las 02.00 horas.
URL:https://deplanesporlacomarca.com/agenda-evento/san-marciales-2024-puestos-de-luis-mariano-irun/2024-06-30/
LOCATION:Jardines Luis Mariano\, Colon Ibilbidea\, 27\, Irun\, Gipuzkoa\, España
ATTACH;FMTTYPE=image/jpeg:https://deplanesporlacomarca.com/wp-content/uploads/2018/06/casetas_puestos_sanmarcial_irun.jpg
GEO:43.3397419;-1.7934492
X-APPLE-STRUCTURED-LOCATION;VALUE=URI;X-ADDRESS=Jardines Luis Mariano Colon Ibilbidea 27 Irun Gipuzkoa España;X-APPLE-RADIUS=500;X-TITLE=Colon Ibilbidea\, 27:geo:-1.7934492,43.3397419
END:VEVENT
BEGIN:VEVENT
DTSTART;TZID=Europe/Madrid:20240629T100000
DTEND;TZID=Europe/Madrid:20240629T235900
DTSTAMP:20260420T114948
CREATED:20240614T053516Z
LAST-MODIFIED:20240614T053520Z
UID:10035858-1719655200-1719705540@deplanesporlacomarca.com
SUMMARY:SAN MARCIALES 2024 - PUESTOS DE LUIS MARIANO (IRUN)
DESCRIPTION:En el entorno de Luis Mariano de Irun se encuentran diferentes puestos con motivo de la fiestas de San Pedro y San Marcial. \n\n\n\n \n\n\n\nSon un total de 12 casetas de frutos secos\, productos naturales\, juguetes\, artesanía\, serigrafía\, bisutería o marroquinería. \n\n\n\n \n\n\n\nLa apertura de los puestos será el sábado 15 de Junio y permanecerán hasta el 2 de Julio\, a partir de las 10.00 horas de la mañana y el cierre oscila dependiendo de los días entre las 00.00 y las 02.00 horas.
URL:https://deplanesporlacomarca.com/agenda-evento/san-marciales-2024-puestos-de-luis-mariano-irun/2024-06-29/
LOCATION:Jardines Luis Mariano\, Colon Ibilbidea\, 27\, Irun\, Gipuzkoa\, España
ATTACH;FMTTYPE=image/jpeg:https://deplanesporlacomarca.com/wp-content/uploads/2018/06/casetas_puestos_sanmarcial_irun.jpg
GEO:43.3397419;-1.7934492
X-APPLE-STRUCTURED-LOCATION;VALUE=URI;X-ADDRESS=Jardines Luis Mariano Colon Ibilbidea 27 Irun Gipuzkoa España;X-APPLE-RADIUS=500;X-TITLE=Colon Ibilbidea\, 27:geo:-1.7934492,43.3397419
END:VEVENT
BEGIN:VEVENT
DTSTART;TZID=Europe/Madrid:20240628T100000
DTEND;TZID=Europe/Madrid:20240628T235900
DTSTAMP:20260420T114948
CREATED:20240614T053516Z
LAST-MODIFIED:20240614T053520Z
UID:10035857-1719568800-1719619140@deplanesporlacomarca.com
SUMMARY:SAN MARCIALES 2024 - PUESTOS DE LUIS MARIANO (IRUN)
DESCRIPTION:En el entorno de Luis Mariano de Irun se encuentran diferentes puestos con motivo de la fiestas de San Pedro y San Marcial. \n\n\n\n \n\n\n\nSon un total de 12 casetas de frutos secos\, productos naturales\, juguetes\, artesanía\, serigrafía\, bisutería o marroquinería. \n\n\n\n \n\n\n\nLa apertura de los puestos será el sábado 15 de Junio y permanecerán hasta el 2 de Julio\, a partir de las 10.00 horas de la mañana y el cierre oscila dependiendo de los días entre las 00.00 y las 02.00 horas.
URL:https://deplanesporlacomarca.com/agenda-evento/san-marciales-2024-puestos-de-luis-mariano-irun/2024-06-28/
LOCATION:Jardines Luis Mariano\, Colon Ibilbidea\, 27\, Irun\, Gipuzkoa\, España
ATTACH;FMTTYPE=image/jpeg:https://deplanesporlacomarca.com/wp-content/uploads/2018/06/casetas_puestos_sanmarcial_irun.jpg
GEO:43.3397419;-1.7934492
X-APPLE-STRUCTURED-LOCATION;VALUE=URI;X-ADDRESS=Jardines Luis Mariano Colon Ibilbidea 27 Irun Gipuzkoa España;X-APPLE-RADIUS=500;X-TITLE=Colon Ibilbidea\, 27:geo:-1.7934492,43.3397419
END:VEVENT
BEGIN:VEVENT
DTSTART;TZID=Europe/Madrid:20240627T100000
DTEND;TZID=Europe/Madrid:20240627T235900
DTSTAMP:20260420T114948
CREATED:20240614T053516Z
LAST-MODIFIED:20240614T053520Z
UID:10035856-1719482400-1719532740@deplanesporlacomarca.com
SUMMARY:SAN MARCIALES 2024 - PUESTOS DE LUIS MARIANO (IRUN)
DESCRIPTION:En el entorno de Luis Mariano de Irun se encuentran diferentes puestos con motivo de la fiestas de San Pedro y San Marcial. \n\n\n\n \n\n\n\nSon un total de 12 casetas de frutos secos\, productos naturales\, juguetes\, artesanía\, serigrafía\, bisutería o marroquinería. \n\n\n\n \n\n\n\nLa apertura de los puestos será el sábado 15 de Junio y permanecerán hasta el 2 de Julio\, a partir de las 10.00 horas de la mañana y el cierre oscila dependiendo de los días entre las 00.00 y las 02.00 horas.
URL:https://deplanesporlacomarca.com/agenda-evento/san-marciales-2024-puestos-de-luis-mariano-irun/2024-06-27/
LOCATION:Jardines Luis Mariano\, Colon Ibilbidea\, 27\, Irun\, Gipuzkoa\, España
ATTACH;FMTTYPE=image/jpeg:https://deplanesporlacomarca.com/wp-content/uploads/2018/06/casetas_puestos_sanmarcial_irun.jpg
GEO:43.3397419;-1.7934492
X-APPLE-STRUCTURED-LOCATION;VALUE=URI;X-ADDRESS=Jardines Luis Mariano Colon Ibilbidea 27 Irun Gipuzkoa España;X-APPLE-RADIUS=500;X-TITLE=Colon Ibilbidea\, 27:geo:-1.7934492,43.3397419
END:VEVENT
BEGIN:VEVENT
DTSTART;TZID=Europe/Madrid:20240626T100000
DTEND;TZID=Europe/Madrid:20240626T235900
DTSTAMP:20260420T114948
CREATED:20240614T053516Z
LAST-MODIFIED:20240614T053520Z
UID:10035855-1719396000-1719446340@deplanesporlacomarca.com
SUMMARY:SAN MARCIALES 2024 - PUESTOS DE LUIS MARIANO (IRUN)
DESCRIPTION:En el entorno de Luis Mariano de Irun se encuentran diferentes puestos con motivo de la fiestas de San Pedro y San Marcial. \n\n\n\n \n\n\n\nSon un total de 12 casetas de frutos secos\, productos naturales\, juguetes\, artesanía\, serigrafía\, bisutería o marroquinería. \n\n\n\n \n\n\n\nLa apertura de los puestos será el sábado 15 de Junio y permanecerán hasta el 2 de Julio\, a partir de las 10.00 horas de la mañana y el cierre oscila dependiendo de los días entre las 00.00 y las 02.00 horas.
URL:https://deplanesporlacomarca.com/agenda-evento/san-marciales-2024-puestos-de-luis-mariano-irun/2024-06-26/
LOCATION:Jardines Luis Mariano\, Colon Ibilbidea\, 27\, Irun\, Gipuzkoa\, España
ATTACH;FMTTYPE=image/jpeg:https://deplanesporlacomarca.com/wp-content/uploads/2018/06/casetas_puestos_sanmarcial_irun.jpg
GEO:43.3397419;-1.7934492
X-APPLE-STRUCTURED-LOCATION;VALUE=URI;X-ADDRESS=Jardines Luis Mariano Colon Ibilbidea 27 Irun Gipuzkoa España;X-APPLE-RADIUS=500;X-TITLE=Colon Ibilbidea\, 27:geo:-1.7934492,43.3397419
END:VEVENT
BEGIN:VEVENT
DTSTART;TZID=Europe/Madrid:20240625T100000
DTEND;TZID=Europe/Madrid:20240625T235900
DTSTAMP:20260420T114948
CREATED:20240614T053516Z
LAST-MODIFIED:20240614T053520Z
UID:10035854-1719309600-1719359940@deplanesporlacomarca.com
SUMMARY:SAN MARCIALES 2024 - PUESTOS DE LUIS MARIANO (IRUN)
DESCRIPTION:En el entorno de Luis Mariano de Irun se encuentran diferentes puestos con motivo de la fiestas de San Pedro y San Marcial. \n\n\n\n \n\n\n\nSon un total de 12 casetas de frutos secos\, productos naturales\, juguetes\, artesanía\, serigrafía\, bisutería o marroquinería. \n\n\n\n \n\n\n\nLa apertura de los puestos será el sábado 15 de Junio y permanecerán hasta el 2 de Julio\, a partir de las 10.00 horas de la mañana y el cierre oscila dependiendo de los días entre las 00.00 y las 02.00 horas.
URL:https://deplanesporlacomarca.com/agenda-evento/san-marciales-2024-puestos-de-luis-mariano-irun/2024-06-25/
LOCATION:Jardines Luis Mariano\, Colon Ibilbidea\, 27\, Irun\, Gipuzkoa\, España
ATTACH;FMTTYPE=image/jpeg:https://deplanesporlacomarca.com/wp-content/uploads/2018/06/casetas_puestos_sanmarcial_irun.jpg
GEO:43.3397419;-1.7934492
X-APPLE-STRUCTURED-LOCATION;VALUE=URI;X-ADDRESS=Jardines Luis Mariano Colon Ibilbidea 27 Irun Gipuzkoa España;X-APPLE-RADIUS=500;X-TITLE=Colon Ibilbidea\, 27:geo:-1.7934492,43.3397419
END:VEVENT
BEGIN:VEVENT
DTSTART;TZID=Europe/Madrid:20240624T100000
DTEND;TZID=Europe/Madrid:20240624T235900
DTSTAMP:20260420T114948
CREATED:20240614T053516Z
LAST-MODIFIED:20240614T053520Z
UID:10035853-1719223200-1719273540@deplanesporlacomarca.com
SUMMARY:SAN MARCIALES 2024 - PUESTOS DE LUIS MARIANO (IRUN)
DESCRIPTION:En el entorno de Luis Mariano de Irun se encuentran diferentes puestos con motivo de la fiestas de San Pedro y San Marcial. \n\n\n\n \n\n\n\nSon un total de 12 casetas de frutos secos\, productos naturales\, juguetes\, artesanía\, serigrafía\, bisutería o marroquinería. \n\n\n\n \n\n\n\nLa apertura de los puestos será el sábado 15 de Junio y permanecerán hasta el 2 de Julio\, a partir de las 10.00 horas de la mañana y el cierre oscila dependiendo de los días entre las 00.00 y las 02.00 horas.
URL:https://deplanesporlacomarca.com/agenda-evento/san-marciales-2024-puestos-de-luis-mariano-irun/2024-06-24/
LOCATION:Jardines Luis Mariano\, Colon Ibilbidea\, 27\, Irun\, Gipuzkoa\, España
ATTACH;FMTTYPE=image/jpeg:https://deplanesporlacomarca.com/wp-content/uploads/2018/06/casetas_puestos_sanmarcial_irun.jpg
GEO:43.3397419;-1.7934492
X-APPLE-STRUCTURED-LOCATION;VALUE=URI;X-ADDRESS=Jardines Luis Mariano Colon Ibilbidea 27 Irun Gipuzkoa España;X-APPLE-RADIUS=500;X-TITLE=Colon Ibilbidea\, 27:geo:-1.7934492,43.3397419
END:VEVENT
BEGIN:VEVENT
DTSTART;TZID=Europe/Madrid:20240623T100000
DTEND;TZID=Europe/Madrid:20240623T235900
DTSTAMP:20260420T114948
CREATED:20240614T053516Z
LAST-MODIFIED:20240614T053520Z
UID:10035852-1719136800-1719187140@deplanesporlacomarca.com
SUMMARY:SAN MARCIALES 2024 - PUESTOS DE LUIS MARIANO (IRUN)
DESCRIPTION:En el entorno de Luis Mariano de Irun se encuentran diferentes puestos con motivo de la fiestas de San Pedro y San Marcial. \n\n\n\n \n\n\n\nSon un total de 12 casetas de frutos secos\, productos naturales\, juguetes\, artesanía\, serigrafía\, bisutería o marroquinería. \n\n\n\n \n\n\n\nLa apertura de los puestos será el sábado 15 de Junio y permanecerán hasta el 2 de Julio\, a partir de las 10.00 horas de la mañana y el cierre oscila dependiendo de los días entre las 00.00 y las 02.00 horas.
URL:https://deplanesporlacomarca.com/agenda-evento/san-marciales-2024-puestos-de-luis-mariano-irun/2024-06-23/
LOCATION:Jardines Luis Mariano\, Colon Ibilbidea\, 27\, Irun\, Gipuzkoa\, España
ATTACH;FMTTYPE=image/jpeg:https://deplanesporlacomarca.com/wp-content/uploads/2018/06/casetas_puestos_sanmarcial_irun.jpg
GEO:43.3397419;-1.7934492
X-APPLE-STRUCTURED-LOCATION;VALUE=URI;X-ADDRESS=Jardines Luis Mariano Colon Ibilbidea 27 Irun Gipuzkoa España;X-APPLE-RADIUS=500;X-TITLE=Colon Ibilbidea\, 27:geo:-1.7934492,43.3397419
END:VEVENT
BEGIN:VEVENT
DTSTART;TZID=Europe/Madrid:20240622T100000
DTEND;TZID=Europe/Madrid:20240622T235900
DTSTAMP:20260420T114948
CREATED:20240614T053516Z
LAST-MODIFIED:20240614T053520Z
UID:10035851-1719050400-1719100740@deplanesporlacomarca.com
SUMMARY:SAN MARCIALES 2024 - PUESTOS DE LUIS MARIANO (IRUN)
DESCRIPTION:En el entorno de Luis Mariano de Irun se encuentran diferentes puestos con motivo de la fiestas de San Pedro y San Marcial. \n\n\n\n \n\n\n\nSon un total de 12 casetas de frutos secos\, productos naturales\, juguetes\, artesanía\, serigrafía\, bisutería o marroquinería. \n\n\n\n \n\n\n\nLa apertura de los puestos será el sábado 15 de Junio y permanecerán hasta el 2 de Julio\, a partir de las 10.00 horas de la mañana y el cierre oscila dependiendo de los días entre las 00.00 y las 02.00 horas.
URL:https://deplanesporlacomarca.com/agenda-evento/san-marciales-2024-puestos-de-luis-mariano-irun/2024-06-22/
LOCATION:Jardines Luis Mariano\, Colon Ibilbidea\, 27\, Irun\, Gipuzkoa\, España
ATTACH;FMTTYPE=image/jpeg:https://deplanesporlacomarca.com/wp-content/uploads/2018/06/casetas_puestos_sanmarcial_irun.jpg
GEO:43.3397419;-1.7934492
X-APPLE-STRUCTURED-LOCATION;VALUE=URI;X-ADDRESS=Jardines Luis Mariano Colon Ibilbidea 27 Irun Gipuzkoa España;X-APPLE-RADIUS=500;X-TITLE=Colon Ibilbidea\, 27:geo:-1.7934492,43.3397419
END:VEVENT
BEGIN:VEVENT
DTSTART;TZID=Europe/Madrid:20240621T100000
DTEND;TZID=Europe/Madrid:20240621T235900
DTSTAMP:20260420T114948
CREATED:20240614T053516Z
LAST-MODIFIED:20240614T053520Z
UID:10035850-1718964000-1719014340@deplanesporlacomarca.com
SUMMARY:SAN MARCIALES 2024 - PUESTOS DE LUIS MARIANO (IRUN)
DESCRIPTION:En el entorno de Luis Mariano de Irun se encuentran diferentes puestos con motivo de la fiestas de San Pedro y San Marcial. \n\n\n\n \n\n\n\nSon un total de 12 casetas de frutos secos\, productos naturales\, juguetes\, artesanía\, serigrafía\, bisutería o marroquinería. \n\n\n\n \n\n\n\nLa apertura de los puestos será el sábado 15 de Junio y permanecerán hasta el 2 de Julio\, a partir de las 10.00 horas de la mañana y el cierre oscila dependiendo de los días entre las 00.00 y las 02.00 horas.
URL:https://deplanesporlacomarca.com/agenda-evento/san-marciales-2024-puestos-de-luis-mariano-irun/2024-06-21/
LOCATION:Jardines Luis Mariano\, Colon Ibilbidea\, 27\, Irun\, Gipuzkoa\, España
ATTACH;FMTTYPE=image/jpeg:https://deplanesporlacomarca.com/wp-content/uploads/2018/06/casetas_puestos_sanmarcial_irun.jpg
GEO:43.3397419;-1.7934492
X-APPLE-STRUCTURED-LOCATION;VALUE=URI;X-ADDRESS=Jardines Luis Mariano Colon Ibilbidea 27 Irun Gipuzkoa España;X-APPLE-RADIUS=500;X-TITLE=Colon Ibilbidea\, 27:geo:-1.7934492,43.3397419
END:VEVENT
BEGIN:VEVENT
DTSTART;TZID=Europe/Madrid:20240620T100000
DTEND;TZID=Europe/Madrid:20240620T235900
DTSTAMP:20260420T114948
CREATED:20240614T053516Z
LAST-MODIFIED:20240614T053520Z
UID:10035849-1718877600-1718927940@deplanesporlacomarca.com
SUMMARY:SAN MARCIALES 2024 - PUESTOS DE LUIS MARIANO (IRUN)
DESCRIPTION:En el entorno de Luis Mariano de Irun se encuentran diferentes puestos con motivo de la fiestas de San Pedro y San Marcial. \n\n\n\n \n\n\n\nSon un total de 12 casetas de frutos secos\, productos naturales\, juguetes\, artesanía\, serigrafía\, bisutería o marroquinería. \n\n\n\n \n\n\n\nLa apertura de los puestos será el sábado 15 de Junio y permanecerán hasta el 2 de Julio\, a partir de las 10.00 horas de la mañana y el cierre oscila dependiendo de los días entre las 00.00 y las 02.00 horas.
URL:https://deplanesporlacomarca.com/agenda-evento/san-marciales-2024-puestos-de-luis-mariano-irun/2024-06-20/
LOCATION:Jardines Luis Mariano\, Colon Ibilbidea\, 27\, Irun\, Gipuzkoa\, España
ATTACH;FMTTYPE=image/jpeg:https://deplanesporlacomarca.com/wp-content/uploads/2018/06/casetas_puestos_sanmarcial_irun.jpg
GEO:43.3397419;-1.7934492
X-APPLE-STRUCTURED-LOCATION;VALUE=URI;X-ADDRESS=Jardines Luis Mariano Colon Ibilbidea 27 Irun Gipuzkoa España;X-APPLE-RADIUS=500;X-TITLE=Colon Ibilbidea\, 27:geo:-1.7934492,43.3397419
END:VEVENT
BEGIN:VEVENT
DTSTART;TZID=Europe/Madrid:20240619T100000
DTEND;TZID=Europe/Madrid:20240619T235900
DTSTAMP:20260420T114948
CREATED:20240614T053516Z
LAST-MODIFIED:20240614T053520Z
UID:10035848-1718791200-1718841540@deplanesporlacomarca.com
SUMMARY:SAN MARCIALES 2024 - PUESTOS DE LUIS MARIANO (IRUN)
DESCRIPTION:En el entorno de Luis Mariano de Irun se encuentran diferentes puestos con motivo de la fiestas de San Pedro y San Marcial. \n\n\n\n \n\n\n\nSon un total de 12 casetas de frutos secos\, productos naturales\, juguetes\, artesanía\, serigrafía\, bisutería o marroquinería. \n\n\n\n \n\n\n\nLa apertura de los puestos será el sábado 15 de Junio y permanecerán hasta el 2 de Julio\, a partir de las 10.00 horas de la mañana y el cierre oscila dependiendo de los días entre las 00.00 y las 02.00 horas.
URL:https://deplanesporlacomarca.com/agenda-evento/san-marciales-2024-puestos-de-luis-mariano-irun/2024-06-19/
LOCATION:Jardines Luis Mariano\, Colon Ibilbidea\, 27\, Irun\, Gipuzkoa\, España
ATTACH;FMTTYPE=image/jpeg:https://deplanesporlacomarca.com/wp-content/uploads/2018/06/casetas_puestos_sanmarcial_irun.jpg
GEO:43.3397419;-1.7934492
X-APPLE-STRUCTURED-LOCATION;VALUE=URI;X-ADDRESS=Jardines Luis Mariano Colon Ibilbidea 27 Irun Gipuzkoa España;X-APPLE-RADIUS=500;X-TITLE=Colon Ibilbidea\, 27:geo:-1.7934492,43.3397419
END:VEVENT
BEGIN:VEVENT
DTSTART;TZID=Europe/Madrid:20240618T100000
DTEND;TZID=Europe/Madrid:20240618T235900
DTSTAMP:20260420T114948
CREATED:20240614T053516Z
LAST-MODIFIED:20240614T053520Z
UID:10035847-1718704800-1718755140@deplanesporlacomarca.com
SUMMARY:SAN MARCIALES 2024 - PUESTOS DE LUIS MARIANO (IRUN)
DESCRIPTION:En el entorno de Luis Mariano de Irun se encuentran diferentes puestos con motivo de la fiestas de San Pedro y San Marcial. \n\n\n\n \n\n\n\nSon un total de 12 casetas de frutos secos\, productos naturales\, juguetes\, artesanía\, serigrafía\, bisutería o marroquinería. \n\n\n\n \n\n\n\nLa apertura de los puestos será el sábado 15 de Junio y permanecerán hasta el 2 de Julio\, a partir de las 10.00 horas de la mañana y el cierre oscila dependiendo de los días entre las 00.00 y las 02.00 horas.
URL:https://deplanesporlacomarca.com/agenda-evento/san-marciales-2024-puestos-de-luis-mariano-irun/2024-06-18/
LOCATION:Jardines Luis Mariano\, Colon Ibilbidea\, 27\, Irun\, Gipuzkoa\, España
ATTACH;FMTTYPE=image/jpeg:https://deplanesporlacomarca.com/wp-content/uploads/2018/06/casetas_puestos_sanmarcial_irun.jpg
GEO:43.3397419;-1.7934492
X-APPLE-STRUCTURED-LOCATION;VALUE=URI;X-ADDRESS=Jardines Luis Mariano Colon Ibilbidea 27 Irun Gipuzkoa España;X-APPLE-RADIUS=500;X-TITLE=Colon Ibilbidea\, 27:geo:-1.7934492,43.3397419
END:VEVENT
BEGIN:VEVENT
DTSTART;TZID=Europe/Madrid:20240617T100000
DTEND;TZID=Europe/Madrid:20240617T235900
DTSTAMP:20260420T114948
CREATED:20240614T053516Z
LAST-MODIFIED:20240614T053520Z
UID:10035846-1718618400-1718668740@deplanesporlacomarca.com
SUMMARY:SAN MARCIALES 2024 - PUESTOS DE LUIS MARIANO (IRUN)
DESCRIPTION:En el entorno de Luis Mariano de Irun se encuentran diferentes puestos con motivo de la fiestas de San Pedro y San Marcial. \n\n\n\n \n\n\n\nSon un total de 12 casetas de frutos secos\, productos naturales\, juguetes\, artesanía\, serigrafía\, bisutería o marroquinería. \n\n\n\n \n\n\n\nLa apertura de los puestos será el sábado 15 de Junio y permanecerán hasta el 2 de Julio\, a partir de las 10.00 horas de la mañana y el cierre oscila dependiendo de los días entre las 00.00 y las 02.00 horas.
URL:https://deplanesporlacomarca.com/agenda-evento/san-marciales-2024-puestos-de-luis-mariano-irun/2024-06-17/
LOCATION:Jardines Luis Mariano\, Colon Ibilbidea\, 27\, Irun\, Gipuzkoa\, España
ATTACH;FMTTYPE=image/jpeg:https://deplanesporlacomarca.com/wp-content/uploads/2018/06/casetas_puestos_sanmarcial_irun.jpg
GEO:43.3397419;-1.7934492
X-APPLE-STRUCTURED-LOCATION;VALUE=URI;X-ADDRESS=Jardines Luis Mariano Colon Ibilbidea 27 Irun Gipuzkoa España;X-APPLE-RADIUS=500;X-TITLE=Colon Ibilbidea\, 27:geo:-1.7934492,43.3397419
END:VEVENT
BEGIN:VEVENT
DTSTART;TZID=Europe/Madrid:20240616T100000
DTEND;TZID=Europe/Madrid:20240616T235900
DTSTAMP:20260420T114948
CREATED:20240614T053516Z
LAST-MODIFIED:20240614T053520Z
UID:10035845-1718532000-1718582340@deplanesporlacomarca.com
SUMMARY:SAN MARCIALES 2024 - PUESTOS DE LUIS MARIANO (IRUN)
DESCRIPTION:En el entorno de Luis Mariano de Irun se encuentran diferentes puestos con motivo de la fiestas de San Pedro y San Marcial. \n\n\n\n \n\n\n\nSon un total de 12 casetas de frutos secos\, productos naturales\, juguetes\, artesanía\, serigrafía\, bisutería o marroquinería. \n\n\n\n \n\n\n\nLa apertura de los puestos será el sábado 15 de Junio y permanecerán hasta el 2 de Julio\, a partir de las 10.00 horas de la mañana y el cierre oscila dependiendo de los días entre las 00.00 y las 02.00 horas.
URL:https://deplanesporlacomarca.com/agenda-evento/san-marciales-2024-puestos-de-luis-mariano-irun/2024-06-16/
LOCATION:Jardines Luis Mariano\, Colon Ibilbidea\, 27\, Irun\, Gipuzkoa\, España
ATTACH;FMTTYPE=image/jpeg:https://deplanesporlacomarca.com/wp-content/uploads/2018/06/casetas_puestos_sanmarcial_irun.jpg
GEO:43.3397419;-1.7934492
X-APPLE-STRUCTURED-LOCATION;VALUE=URI;X-ADDRESS=Jardines Luis Mariano Colon Ibilbidea 27 Irun Gipuzkoa España;X-APPLE-RADIUS=500;X-TITLE=Colon Ibilbidea\, 27:geo:-1.7934492,43.3397419
END:VEVENT
BEGIN:VEVENT
DTSTART;TZID=Europe/Madrid:20240615T100000
DTEND;TZID=Europe/Madrid:20240615T235900
DTSTAMP:20260420T114948
CREATED:20240614T053516Z
LAST-MODIFIED:20240614T053520Z
UID:10035844-1718445600-1718495940@deplanesporlacomarca.com
SUMMARY:SAN MARCIALES 2024 - PUESTOS DE LUIS MARIANO (IRUN)
DESCRIPTION:En el entorno de Luis Mariano de Irun se encuentran diferentes puestos con motivo de la fiestas de San Pedro y San Marcial. \n\n\n\n \n\n\n\nSon un total de 12 casetas de frutos secos\, productos naturales\, juguetes\, artesanía\, serigrafía\, bisutería o marroquinería. \n\n\n\n \n\n\n\nLa apertura de los puestos será el sábado 15 de Junio y permanecerán hasta el 2 de Julio\, a partir de las 10.00 horas de la mañana y el cierre oscila dependiendo de los días entre las 00.00 y las 02.00 horas.
URL:https://deplanesporlacomarca.com/agenda-evento/san-marciales-2024-puestos-de-luis-mariano-irun/2024-06-15/
LOCATION:Jardines Luis Mariano\, Colon Ibilbidea\, 27\, Irun\, Gipuzkoa\, España
ATTACH;FMTTYPE=image/jpeg:https://deplanesporlacomarca.com/wp-content/uploads/2018/06/casetas_puestos_sanmarcial_irun.jpg
GEO:43.3397419;-1.7934492
X-APPLE-STRUCTURED-LOCATION;VALUE=URI;X-ADDRESS=Jardines Luis Mariano Colon Ibilbidea 27 Irun Gipuzkoa España;X-APPLE-RADIUS=500;X-TITLE=Colon Ibilbidea\, 27:geo:-1.7934492,43.3397419
END:VEVENT
BEGIN:VEVENT
DTSTART;TZID=Europe/Madrid:20240507T100000
DTEND;TZID=Europe/Madrid:20240507T100000
DTSTAMP:20260420T114948
CREATED:20240504T092546Z
LAST-MODIFIED:20240504T092549Z
UID:10035403-1715076000-1715076000@deplanesporlacomarca.com
SUMMARY:REPARTO PLANTAS TEMPORADA DE INVIERNO - LUIS MARIANO (IRUN)
DESCRIPTION:El área de Movilidad\, Vía Pública y Obras del Ayuntamiento de Irun informa que con el inicio de la campaña de plantación de la flor de temporada de verano\, se procederá tal y como se hizo el año pasado\, al reparto de las plantas y flores de la temporada de invierno en buen estado que se han retirado de los parques y jardines de la ciudad. El reparto\, abierto a toda la ciudadanía\, tendrá lugar en Luis Mariano a las 10.00 horas\, hasta fin de existencias. \n\n\n\n \n\n\n\nSe van a repartir aproximadamente 600 prímulas\, 600 no me olvides (myosotis)\, 600 erysimum\, 600 papaver y 400 ciclámenes. Se trata de plantas que en verano pierden las flores y por eso se utilizan como flor de temporada de invierno. Estas plantas florecerán de nuevo en invierno o primavera. \n\n\n\n \n\n\n\nTambién se repartirán unos 2.000 tulipanes. Estos bulbos plantados en la campaña de invierno florecen en primavera durante 3-4 semanas y pueden volver a brotar y dar flores en la primavera siguiente.
URL:https://deplanesporlacomarca.com/agenda-evento/reparto-plantas-temporada-de-invierno-luis-mariano-irun/
LOCATION:Jardines Luis Mariano\, Colon Ibilbidea\, 27\, Irun\, Gipuzkoa\, España
ATTACH;FMTTYPE=image/jpeg:https://deplanesporlacomarca.com/wp-content/uploads/2023/05/de-planes-por-la-comarca-irun-gipuzkoa-bidasoa-txingudi-detxokos-629.jpg
GEO:43.3397419;-1.7934492
X-APPLE-STRUCTURED-LOCATION;VALUE=URI;X-ADDRESS=Jardines Luis Mariano Colon Ibilbidea 27 Irun Gipuzkoa España;X-APPLE-RADIUS=500;X-TITLE=Colon Ibilbidea\, 27:geo:-1.7934492,43.3397419
END:VEVENT
END:VCALENDAR