BEGIN:VCALENDAR
VERSION:2.0
PRODID:-//De planes por la comarca - ECPv6.15.20//NONSGML v1.0//EN
CALSCALE:GREGORIAN
METHOD:PUBLISH
X-ORIGINAL-URL:https://deplanesporlacomarca.com
X-WR-CALDESC:Eventos para De planes por la comarca
REFRESH-INTERVAL;VALUE=DURATION:PT1H
X-Robots-Tag:noindex
X-PUBLISHED-TTL:PT1H
BEGIN:VTIMEZONE
TZID:Europe/Madrid
BEGIN:DAYLIGHT
TZOFFSETFROM:+0100
TZOFFSETTO:+0200
TZNAME:CEST
DTSTART:20230326T010000
END:DAYLIGHT
BEGIN:STANDARD
TZOFFSETFROM:+0200
TZOFFSETTO:+0100
TZNAME:CET
DTSTART:20231029T010000
END:STANDARD
BEGIN:DAYLIGHT
TZOFFSETFROM:+0100
TZOFFSETTO:+0200
TZNAME:CEST
DTSTART:20240331T010000
END:DAYLIGHT
BEGIN:STANDARD
TZOFFSETFROM:+0200
TZOFFSETTO:+0100
TZNAME:CET
DTSTART:20241027T010000
END:STANDARD
BEGIN:DAYLIGHT
TZOFFSETFROM:+0100
TZOFFSETTO:+0200
TZNAME:CEST
DTSTART:20250330T010000
END:DAYLIGHT
BEGIN:STANDARD
TZOFFSETFROM:+0200
TZOFFSETTO:+0100
TZNAME:CET
DTSTART:20251026T010000
END:STANDARD
BEGIN:DAYLIGHT
TZOFFSETFROM:+0100
TZOFFSETTO:+0200
TZNAME:CEST
DTSTART:20260329T010000
END:DAYLIGHT
BEGIN:STANDARD
TZOFFSETFROM:+0200
TZOFFSETTO:+0100
TZNAME:CET
DTSTART:20261025T010000
END:STANDARD
END:VTIMEZONE
BEGIN:VEVENT
DTSTART;TZID=Europe/Madrid:20250703T090000
DTEND;TZID=Europe/Madrid:20250703T130000
DTSTAMP:20260420T161825
CREATED:20250515T141006Z
LAST-MODIFIED:20250515T141009Z
UID:10039603-1751533200-1751547600@deplanesporlacomarca.com
SUMMARY:LUDOTECA DE VERANO PARA NIÑAS Y NIÑOS - LUDOTEKA MULTIDINAMIKA (IRUN)
DESCRIPTION:¡Vuelve la LUDOTEKA MULTIDINAMIKA!  \n\n\n\n \n\n\n\nTienes lugar desde el 2 de julio hasta el 1 de Agosto y está dirigida a niños y niñas de entre 4 y 12 años (nacidos entre 2013 y 2021) \n\n\n\n \n\n\n\nMultideportes\, juegos y actividades acuáticas\, olimpiadas\, excursiones\,… \n\n\n\n \n\n\n\nDiversión garantizada y plazas limitadas. \n\n\n\n \n\n\n\nMás información e inscripciones en: \n\n\n\n– 663 050 720 / 666 283 359 \n\n\n\n– www.ludotekamultidinamika.com \n\n\n\n– Instagram
URL:https://deplanesporlacomarca.com/agenda-evento/ludoteca-de-verano-para-ninas-y-ninos-ludoteka-multidinamika-irun/2025-07-03/
LOCATION:Judo Club Mayumi\, Puiana Kalea\, 21\, Irun\, Gipuzkoa\, España
ATTACH;FMTTYPE=image/jpeg:https://deplanesporlacomarca.com/wp-content/uploads/2025/05/ludoteca_verano_ninas_ninos_ludoteka_multidinamika_mayumi_kaier_verano_2025_irun.jpg
GEO:43.3395687;-1.8128261
X-APPLE-STRUCTURED-LOCATION;VALUE=URI;X-ADDRESS=Judo Club Mayumi Puiana Kalea 21 Irun Gipuzkoa España;X-APPLE-RADIUS=500;X-TITLE=Puiana Kalea\, 21:geo:-1.8128261,43.3395687
END:VEVENT
BEGIN:VEVENT
DTSTART;TZID=Europe/Madrid:20250702T090000
DTEND;TZID=Europe/Madrid:20250702T130000
DTSTAMP:20260420T161825
CREATED:20250515T141006Z
LAST-MODIFIED:20250515T141009Z
UID:10039602-1751446800-1751461200@deplanesporlacomarca.com
SUMMARY:LUDOTECA DE VERANO PARA NIÑAS Y NIÑOS - LUDOTEKA MULTIDINAMIKA (IRUN)
DESCRIPTION:¡Vuelve la LUDOTEKA MULTIDINAMIKA!  \n\n\n\n \n\n\n\nTienes lugar desde el 2 de julio hasta el 1 de Agosto y está dirigida a niños y niñas de entre 4 y 12 años (nacidos entre 2013 y 2021) \n\n\n\n \n\n\n\nMultideportes\, juegos y actividades acuáticas\, olimpiadas\, excursiones\,… \n\n\n\n \n\n\n\nDiversión garantizada y plazas limitadas. \n\n\n\n \n\n\n\nMás información e inscripciones en: \n\n\n\n– 663 050 720 / 666 283 359 \n\n\n\n– www.ludotekamultidinamika.com \n\n\n\n– Instagram
URL:https://deplanesporlacomarca.com/agenda-evento/ludoteca-de-verano-para-ninas-y-ninos-ludoteka-multidinamika-irun/2025-07-02/
LOCATION:Judo Club Mayumi\, Puiana Kalea\, 21\, Irun\, Gipuzkoa\, España
ATTACH;FMTTYPE=image/jpeg:https://deplanesporlacomarca.com/wp-content/uploads/2025/05/ludoteca_verano_ninas_ninos_ludoteka_multidinamika_mayumi_kaier_verano_2025_irun.jpg
GEO:43.3395687;-1.8128261
X-APPLE-STRUCTURED-LOCATION;VALUE=URI;X-ADDRESS=Judo Club Mayumi Puiana Kalea 21 Irun Gipuzkoa España;X-APPLE-RADIUS=500;X-TITLE=Puiana Kalea\, 21:geo:-1.8128261,43.3395687
END:VEVENT
BEGIN:VEVENT
DTSTART;TZID=Europe/Madrid:20250308T153000
DTEND;TZID=Europe/Madrid:20250308T153000
DTSTAMP:20260420T161826
CREATED:20250227T073854Z
LAST-MODIFIED:20250227T073858Z
UID:10038578-1741447800-1741447800@deplanesporlacomarca.com
SUMMARY:CURSO DE DEFENSA PERSONAL FEMENINA - MARZO 2025 - MAYUMI JUDO CLUB (IRUN)
DESCRIPTION:El Mayumi Judo Club de Irun organiza un curso de “Defensa Personal Femenina«\, a partir de las 15.30 horas. \n\n\n\n \n\n\n\nEl plan está dirigido a mujeres\, a partir de 14 años. \n\n\n\n \n\n\n\nPuedes inscribirte previamente en este enlace.
URL:https://deplanesporlacomarca.com/agenda-evento/curso-de-defensa-personal-femenina-marzo-2025-mayumi-judo-club-irun/
LOCATION:Judo Club Mayumi\, Puiana Kalea\, 21\, Irun\, Gipuzkoa\, España
ATTACH;FMTTYPE=image/jpeg:https://deplanesporlacomarca.com/wp-content/uploads/2025/02/curso_defensa_personal_femenina_8_marzo_2025_mayumi_judo_club_irun.jpg
GEO:43.3395687;-1.8128261
X-APPLE-STRUCTURED-LOCATION;VALUE=URI;X-ADDRESS=Judo Club Mayumi Puiana Kalea 21 Irun Gipuzkoa España;X-APPLE-RADIUS=500;X-TITLE=Puiana Kalea\, 21:geo:-1.8128261,43.3395687
END:VEVENT
BEGIN:VEVENT
DTSTART;TZID=Europe/Madrid:20240525T153000
DTEND;TZID=Europe/Madrid:20240525T153000
DTSTAMP:20260420T161826
CREATED:20240514T153745Z
LAST-MODIFIED:20240514T153752Z
UID:10035538-1716651000-1716651000@deplanesporlacomarca.com
SUMMARY:CURSO DE DEFENSA PERSONAL FEMENINA - MAYO 2024 - MAYUMI JUDO CLUB (IRUN)
DESCRIPTION:El Mayumi Judo Club de Irun organiza un curso de “Defensa Personal Femenina«\, a partir de las 15.30 horas. \n\n\n\n \n\n\n\nEl plan está dirigido a mujeres\, a partir de 14 años. \n\n\n\n \n\n\n\nPuedes inscribirte previamente en este enlace.
URL:https://deplanesporlacomarca.com/agenda-evento/curso-de-defensa-personal-femenina-mayo-2024-mayumi-judo-club-irun/
LOCATION:Judo Club Mayumi\, Puiana Kalea\, 21\, Irun\, Gipuzkoa\, España
ATTACH;FMTTYPE=image/jpeg:https://deplanesporlacomarca.com/wp-content/uploads/2024/05/curso_defensa_personal_femenina_25_mayo_2024_mayumi_judo_club_irun.jpg
GEO:43.3395687;-1.8128261
X-APPLE-STRUCTURED-LOCATION;VALUE=URI;X-ADDRESS=Judo Club Mayumi Puiana Kalea 21 Irun Gipuzkoa España;X-APPLE-RADIUS=500;X-TITLE=Puiana Kalea\, 21:geo:-1.8128261,43.3395687
END:VEVENT
END:VCALENDAR