BEGIN:VCALENDAR
VERSION:2.0
PRODID:-//De planes por la comarca - ECPv6.15.20//NONSGML v1.0//EN
CALSCALE:GREGORIAN
METHOD:PUBLISH
X-WR-CALNAME:De planes por la comarca
X-ORIGINAL-URL:https://deplanesporlacomarca.com
X-WR-CALDESC:Eventos para De planes por la comarca
REFRESH-INTERVAL;VALUE=DURATION:PT1H
X-Robots-Tag:noindex
X-PUBLISHED-TTL:PT1H
BEGIN:VTIMEZONE
TZID:Europe/Madrid
BEGIN:DAYLIGHT
TZOFFSETFROM:+0100
TZOFFSETTO:+0200
TZNAME:CEST
DTSTART:20230326T010000
END:DAYLIGHT
BEGIN:STANDARD
TZOFFSETFROM:+0200
TZOFFSETTO:+0100
TZNAME:CET
DTSTART:20231029T010000
END:STANDARD
BEGIN:DAYLIGHT
TZOFFSETFROM:+0100
TZOFFSETTO:+0200
TZNAME:CEST
DTSTART:20240331T010000
END:DAYLIGHT
BEGIN:STANDARD
TZOFFSETFROM:+0200
TZOFFSETTO:+0100
TZNAME:CET
DTSTART:20241027T010000
END:STANDARD
BEGIN:DAYLIGHT
TZOFFSETFROM:+0100
TZOFFSETTO:+0200
TZNAME:CEST
DTSTART:20250330T010000
END:DAYLIGHT
BEGIN:STANDARD
TZOFFSETFROM:+0200
TZOFFSETTO:+0100
TZNAME:CET
DTSTART:20251026T010000
END:STANDARD
END:VTIMEZONE
BEGIN:VEVENT
DTSTART;TZID=Europe/Madrid:20240914T100000
DTEND;TZID=Europe/Madrid:20240914T100000
DTSTAMP:20260420T042912
CREATED:20240829T083956Z
LAST-MODIFIED:20240911T162753Z
UID:10036624-1726308000-1726308000@deplanesporlacomarca.com
SUMMARY:"TALLER DE VIDEOS MUSICALES DEL FESTIVAL AMUA" (HONDARRIBIA)
DESCRIPTION:Como anticipo a la celebración de la cuarta edición de Amua\, el festival de cortometraje musical que tendrá lugar el próximo mes de noviembre en Hondarribia\, se ha organizado por primera vez un taller de grabación y edición de vídeos musicales dirigido a jóvenes de entre 16 y 18 años.  \n\n\n\n \n\n\n\nSe trata de una formación dividida en tres clases de 90 minutos de duración\, que se llevarán a cabo íntegramente en euskera durante las mañanas de los sábados 14 y 28 de septiembre y el 12 de octubre\, en Kultur Etxea de Hondarribia.  \n\n\n\n \n\n\n\nLa realización del taller correrá a cargo de la reconocida realizadora audiovisual Anuska Ariztimuño\, conocida por haber dirigido piezas comerciales para marcas de prestigio como Audi\, Movistar o BMW\, así como por haber elaborado varios videoclips para grupos de la escena musical actual.  \n\n\n\n \n\n\n\nEl taller tendrá un carácter práctico y se centrará en el uso del teléfono móvil. Los y las participantes aprenderán a sacar provecho de las posibilidades visuales de los móviles y a emplearlas en la grabación de piezas musicales. Además\, en la tercera clase práctica recibirán consejos en torno a la grabación y edición de esos vídeos. \n\n\n\n \n\n\n\nComo aliciente\, la pieza resultante de las grabaciones que se realicen durante el taller se podrán visualizar en el marco del Festival Amua el próximo 16 de noviembre\, y optará a un premio de 500 euros.  \n\n\n\n \n\n\n\nEl taller tiene un límite de nueve plazas y el periodo de inscripción permanecerá abierto hasta el lunes 9 de septiembre. Las inscripciones deben realizarse enviando un email a la dirección mcarton@hondarribia.eus\, indicando en el título del asunto ‘Bideosormen tailerra’\, y en el cuerpo del mismo debe indicarse el nombre y el DNI de la persona interesada en participar. Además\, se debe certificar la edad. Las nueve primeras personas que se inscriban serán las aceptadas en el taller\, pasando el resto de los y las siguientes candidatos y candidatas a una lista de espera.
URL:https://deplanesporlacomarca.com/agenda-evento/taller-de-videos-musicales-del-festival-amua-hondarribia/2024-09-14/
LOCATION:Kultur Etxea\, Denda Kalea\, 18\, Hondarribia\, Gipuzkoa\, España
ATTACH;FMTTYPE=image/jpeg:https://deplanesporlacomarca.com/wp-content/uploads/2024/08/taller_videos_musicales_amua_hondarribia.jpg
GEO:43.363133;-1.7922913
X-APPLE-STRUCTURED-LOCATION;VALUE=URI;X-ADDRESS=Kultur Etxea Denda Kalea 18 Hondarribia Gipuzkoa España;X-APPLE-RADIUS=500;X-TITLE=Denda Kalea\, 18:geo:-1.7922913,43.363133
END:VEVENT
BEGIN:VEVENT
DTSTART;TZID=Europe/Madrid:20240625T183000
DTEND;TZID=Europe/Madrid:20240625T203000
DTSTAMP:20260420T042912
CREATED:20240619T130807Z
LAST-MODIFIED:20240619T130810Z
UID:10035957-1719340200-1719347400@deplanesporlacomarca.com
SUMMARY:CONFERENCIA-TALLER\, "¡DIVERSIDAD SEXUAL TAMBIÉN EN HONDARRIBIA!" - KULTUR ETXEA (HONDARRIBIA)
DESCRIPTION:Con motivo de la celebración del Día Internacional de la libertad sexual y del orgullo LGTBI+\, tiene lugar una conferencia-taller en Kultur Etxea de Hondarribia\, denominada “Libertad sexual también en Hondarribia”\, a partir de las 18.30 horas. \n\n\n\n \n\n\n\nSe trata de un acto organizado por la asociación Hiruki Larroxa y el Departamento de Igualdad del Ayuntamiento de Hondarribia\, y el ponente-dinamizador será Egoitz A. Albeniz. Se desarrollará en euskera. \n\n\n\n \n\n\n\n“Libertad sexual también en Hondarribia” consiste en una conferencia-taller que analiza las experiencias y los retos a los que se enfrentan las personas LGBTI+. Incide en la visibilidad\, en las redes comunitarias y en la creación de espacios seguros. L@s participantes tendrán la oportunidad de comentar sobre las estrategias para hacer frete a la LGBTIfobia diaria\, y sobre las formas de promover redes y estrategias para la resistencia fuera de los entornos urbanos. En definitiva\, el objetivo de la sesión es comenzar a dar los pasos iniciales para posibilitar la articulación de las personas del colectivo LGTBI+ en Hondarribia. \n\n\n\n \n\n\n\nEl plan tiene entrada gratuita.
URL:https://deplanesporlacomarca.com/agenda-evento/conferencia-taller-diversidad-sexual-tambien-en-hondarribia-kultur-etxea-hondarribia/
LOCATION:Kultur Etxea\, Denda Kalea\, 18\, Hondarribia\, Gipuzkoa\, España
ATTACH;FMTTYPE=image/jpeg:https://deplanesporlacomarca.com/wp-content/uploads/2024/06/conferencia_taller_diversidad_sexual_tambien_en_hondarribia_25_junio_2024_kultur_etxea_hondarribia.jpg
GEO:43.363133;-1.7922913
X-APPLE-STRUCTURED-LOCATION;VALUE=URI;X-ADDRESS=Kultur Etxea Denda Kalea 18 Hondarribia Gipuzkoa España;X-APPLE-RADIUS=500;X-TITLE=Denda Kalea\, 18:geo:-1.7922913,43.363133
END:VEVENT
BEGIN:VEVENT
DTSTART;TZID=Europe/Madrid:20240530T193000
DTEND;TZID=Europe/Madrid:20240530T193000
DTSTAMP:20260420T042912
CREATED:20240528T163633Z
LAST-MODIFIED:20240528T163637Z
UID:10035663-1717097400-1717097400@deplanesporlacomarca.com
SUMMARY:FESTIVAL "ZINEGOAK HEDAPENA" - KULTUR ETXEA (HONDARRIBIA)
DESCRIPTION:Zinegoak es el festival internacional de cine LGBTIQ+ que se celebra anualmente en Bilbao. En el festival se proyectan largometrajes de ficción\, largometrajes documentales\, cortometrajes de ficción\, cortometrajes documentales y obras experimentales\, entre otras propuestas escénicas junto con gran variedad de actividades en el entorno de la capital vasca.  \n\n\n\n \n\n\n\nZinegoak aporta una mirada desde la cultura y el cine a todos los temas relacionados con diversidad sexual\, con identidad y con género. Una mirada en espacios de ocio\, en espacios relajados\, donde también se pueda dar la reflexión\, pero con algo tan sencillo como disfrutar de una película\, y que además esa película te aporte algo. \n\n\n\n \n\n\n\nEl plan tiene lugar en el salón de actos de Kultur Etxea de Hondarribia\, a partir de las 19.30 horas. \n\n\n\n \n\n\n\nAquí tienes el programa.
URL:https://deplanesporlacomarca.com/agenda-evento/festival-zinegoak-hedapena-kultur-etxea-hondarribia/
LOCATION:Kultur Etxea\, Denda Kalea\, 18\, Hondarribia\, Gipuzkoa\, España
ATTACH;FMTTYPE=image/jpeg:https://deplanesporlacomarca.com/wp-content/uploads/2024/05/zinegoak_2024_hedapena_30_mayo_2024_kultur_etxea_hondarribia.jpg
GEO:43.363133;-1.7922913
X-APPLE-STRUCTURED-LOCATION;VALUE=URI;X-ADDRESS=Kultur Etxea Denda Kalea 18 Hondarribia Gipuzkoa España;X-APPLE-RADIUS=500;X-TITLE=Denda Kalea\, 18:geo:-1.7922913,43.363133
END:VEVENT
BEGIN:VEVENT
DTSTART;TZID=Europe/Madrid:20240509T190000
DTEND;TZID=Europe/Madrid:20240509T190000
DTSTAMP:20260420T042912
CREATED:20240506T124538Z
LAST-MODIFIED:20240506T124544Z
UID:10035435-1715281200-1715281200@deplanesporlacomarca.com
SUMMARY:CHARLA\, "UMETAN JASANDAKO ERASO SEXUALAK" - KULTUR ETXEA (HONDARRIBIA)
DESCRIPTION:Charla en esukera bajo el título\, «Umetan jasandako eraso sexualak«\, a cargo de Maddi Txoperena y Ohiana Etxebarrieta en Kultur Etxea de Hondarribia\, a partir de las 19.00 horas. \n\n\n\n \n\n\n\nPlan con entrada libre. Organizado por Emeki Elkartea y con la colaboración del Ayuntamiento de Hondarribia.
URL:https://deplanesporlacomarca.com/agenda-evento/charla-umetan-jasandako-eraso-sexualak-kultur-etxea-hondarribia/
LOCATION:Kultur Etxea\, Denda Kalea\, 18\, Hondarribia\, Gipuzkoa\, España
ATTACH;FMTTYPE=image/jpeg:https://deplanesporlacomarca.com/wp-content/uploads/2024/05/charla_umetan_jasandako_eraso_sexualak_9_mayo_2024_kultur_etxea_hondarribia.jpg
GEO:43.363133;-1.7922913
X-APPLE-STRUCTURED-LOCATION;VALUE=URI;X-ADDRESS=Kultur Etxea Denda Kalea 18 Hondarribia Gipuzkoa España;X-APPLE-RADIUS=500;X-TITLE=Denda Kalea\, 18:geo:-1.7922913,43.363133
END:VEVENT
END:VCALENDAR