BEGIN:VCALENDAR
VERSION:2.0
PRODID:-//De planes por la comarca - ECPv6.15.20//NONSGML v1.0//EN
CALSCALE:GREGORIAN
METHOD:PUBLISH
X-WR-CALNAME:De planes por la comarca
X-ORIGINAL-URL:https://deplanesporlacomarca.com
X-WR-CALDESC:Eventos para De planes por la comarca
REFRESH-INTERVAL;VALUE=DURATION:PT1H
X-Robots-Tag:noindex
X-PUBLISHED-TTL:PT1H
BEGIN:VTIMEZONE
TZID:Europe/Madrid
BEGIN:DAYLIGHT
TZOFFSETFROM:+0100
TZOFFSETTO:+0200
TZNAME:CEST
DTSTART:20230326T010000
END:DAYLIGHT
BEGIN:STANDARD
TZOFFSETFROM:+0200
TZOFFSETTO:+0100
TZNAME:CET
DTSTART:20231029T010000
END:STANDARD
BEGIN:DAYLIGHT
TZOFFSETFROM:+0100
TZOFFSETTO:+0200
TZNAME:CEST
DTSTART:20240331T010000
END:DAYLIGHT
BEGIN:STANDARD
TZOFFSETFROM:+0200
TZOFFSETTO:+0100
TZNAME:CET
DTSTART:20241027T010000
END:STANDARD
BEGIN:DAYLIGHT
TZOFFSETFROM:+0100
TZOFFSETTO:+0200
TZNAME:CEST
DTSTART:20250330T010000
END:DAYLIGHT
BEGIN:STANDARD
TZOFFSETFROM:+0200
TZOFFSETTO:+0100
TZNAME:CET
DTSTART:20251026T010000
END:STANDARD
END:VTIMEZONE
BEGIN:VEVENT
DTSTART;TZID=Europe/Madrid:20241211T163000
DTEND;TZID=Europe/Madrid:20241211T170000
DTSTAMP:20260420T200834
CREATED:20241204T074143Z
LAST-MODIFIED:20241204T074147Z
UID:10037506-1733934600-1733936400@deplanesporlacomarca.com
SUMMARY:LES PETITS LUS - IRAKURZALE TTIPIEN ASTEAZKENAK - DICIEMBRE 2024 - MÉDIATHÈQUE (HENDAYE)
DESCRIPTION:Como cada miércoles\, sesión de cuenta cuentos en la Médiathèque de Hendaye. \n\n\n\n \n\n\n\nEl día 4 de diciembre a las 10.30 horas\, para niñ@s menores de 3 años y el miércoles 11 de diciembre\, para l@s de 3 años y más.
URL:https://deplanesporlacomarca.com/agenda-evento/les-petits-lus-irakurzale-ttipien-asteazkenak-diciembre-2024-mediatheque-hendaye/2024-12-11/
LOCATION:Médiathèque\, 4\, rue du Jaizquibel\, Hendaye\, Francia
ATTACH;FMTTYPE=image/jpeg:https://deplanesporlacomarca.com/wp-content/uploads/2024/12/les_petits_lus_irakurzale_ttipien_asteazkenak_lecturas_para_ninos_diciembre_2024_mediatheque_hendaye.jpg
GEO:43.3593748;-1.7740053
X-APPLE-STRUCTURED-LOCATION;VALUE=URI;X-ADDRESS=Médiathèque 4 rue du Jaizquibel Hendaye Francia;X-APPLE-RADIUS=500;X-TITLE=4\, rue du Jaizquibel:geo:-1.7740053,43.3593748
END:VEVENT
BEGIN:VEVENT
DTSTART;TZID=Europe/Madrid:20241204T103000
DTEND;TZID=Europe/Madrid:20241204T103000
DTSTAMP:20260420T200834
CREATED:20241204T074143Z
LAST-MODIFIED:20241204T074147Z
UID:10037505-1733308200-1733308200@deplanesporlacomarca.com
SUMMARY:LES PETITS LUS - IRAKURZALE TTIPIEN ASTEAZKENAK - DICIEMBRE 2024 - MÉDIATHÈQUE (HENDAYE)
DESCRIPTION:Como cada miércoles\, sesión de cuenta cuentos en la Médiathèque de Hendaye. \n\n\n\n \n\n\n\nEl día 4 de diciembre a las 10.30 horas\, para niñ@s menores de 3 años y el miércoles 11 de diciembre\, para l@s de 3 años y más.
URL:https://deplanesporlacomarca.com/agenda-evento/les-petits-lus-irakurzale-ttipien-asteazkenak-diciembre-2024-mediatheque-hendaye/2024-12-04/
LOCATION:Médiathèque\, 4\, rue du Jaizquibel\, Hendaye\, Francia
ATTACH;FMTTYPE=image/jpeg:https://deplanesporlacomarca.com/wp-content/uploads/2024/12/les_petits_lus_irakurzale_ttipien_asteazkenak_lecturas_para_ninos_diciembre_2024_mediatheque_hendaye.jpg
GEO:43.3593748;-1.7740053
X-APPLE-STRUCTURED-LOCATION;VALUE=URI;X-ADDRESS=Médiathèque 4 rue du Jaizquibel Hendaye Francia;X-APPLE-RADIUS=500;X-TITLE=4\, rue du Jaizquibel:geo:-1.7740053,43.3593748
END:VEVENT
BEGIN:VEVENT
DTSTART;TZID=Europe/Madrid:20240629T100000
DTEND;TZID=Europe/Madrid:20240629T180000
DTSTAMP:20260420T200834
CREATED:20240619T140811Z
LAST-MODIFIED:20240619T140815Z
UID:10035966-1719655200-1719684000@deplanesporlacomarca.com
SUMMARY:EXPOSICIÓN FOTOGRÁFICA\, "HENDAIAKO ARGAZKI ZAHARRAK" - MÉDIATHÈQUE (HENDAYE)
DESCRIPTION:En el marco del programa de actividades programadas con motivo de la asociación Akelarre\, exposición de fotografías antiguas de Hendaya que tiene lugar en la Médiathéque\, hasta el 29 de Junio. \n\n\n\n \n\n\n\nAlgunas de ellas proceden del fondo documental de la asociación Oroitza\, creada por el Dr. Thillaud\, mientras que otras\, fueran encontradas a través de internet y aportaciones privadas. \n\n\n\n \n\n\n\nEl plan tiene entrada libre y este horario: \n\n\n\n– martes\, miércoles y viernes: 10.00 – 12.30 horas // 14.30 – 18.30 horas \n\n\n\n– jueves: 14.30 – 18.30 horas \n\n\n\n– sábados: 10.00 – 12.30 horas // 14.00 – 18.00 horas
URL:https://deplanesporlacomarca.com/agenda-evento/exposicion-fotografica-hendaiako-argazki-zaharrak-mediatheque-hendaye/2024-06-29/
LOCATION:Médiathèque\, 4\, rue du Jaizquibel\, Hendaye\, Francia
ATTACH;FMTTYPE=image/jpeg:https://deplanesporlacomarca.com/wp-content/uploads/2024/06/exposicion_fotografias_hendaiako_argazki_zaharrak_junio_2024_mediatheque_hendaye.jpg
GEO:43.3593748;-1.7740053
X-APPLE-STRUCTURED-LOCATION;VALUE=URI;X-ADDRESS=Médiathèque 4 rue du Jaizquibel Hendaye Francia;X-APPLE-RADIUS=500;X-TITLE=4\, rue du Jaizquibel:geo:-1.7740053,43.3593748
END:VEVENT
BEGIN:VEVENT
DTSTART;TZID=Europe/Madrid:20240628T100000
DTEND;TZID=Europe/Madrid:20240628T183000
DTSTAMP:20260420T200834
CREATED:20240619T140811Z
LAST-MODIFIED:20240619T140815Z
UID:10035965-1719568800-1719599400@deplanesporlacomarca.com
SUMMARY:EXPOSICIÓN FOTOGRÁFICA\, "HENDAIAKO ARGAZKI ZAHARRAK" - MÉDIATHÈQUE (HENDAYE)
DESCRIPTION:En el marco del programa de actividades programadas con motivo de la asociación Akelarre\, exposición de fotografías antiguas de Hendaya que tiene lugar en la Médiathéque\, hasta el 29 de Junio. \n\n\n\n \n\n\n\nAlgunas de ellas proceden del fondo documental de la asociación Oroitza\, creada por el Dr. Thillaud\, mientras que otras\, fueran encontradas a través de internet y aportaciones privadas. \n\n\n\n \n\n\n\nEl plan tiene entrada libre y este horario: \n\n\n\n– martes\, miércoles y viernes: 10.00 – 12.30 horas // 14.30 – 18.30 horas \n\n\n\n– jueves: 14.30 – 18.30 horas \n\n\n\n– sábados: 10.00 – 12.30 horas // 14.00 – 18.00 horas
URL:https://deplanesporlacomarca.com/agenda-evento/exposicion-fotografica-hendaiako-argazki-zaharrak-mediatheque-hendaye/2024-06-28/
LOCATION:Médiathèque\, 4\, rue du Jaizquibel\, Hendaye\, Francia
ATTACH;FMTTYPE=image/jpeg:https://deplanesporlacomarca.com/wp-content/uploads/2024/06/exposicion_fotografias_hendaiako_argazki_zaharrak_junio_2024_mediatheque_hendaye.jpg
GEO:43.3593748;-1.7740053
X-APPLE-STRUCTURED-LOCATION;VALUE=URI;X-ADDRESS=Médiathèque 4 rue du Jaizquibel Hendaye Francia;X-APPLE-RADIUS=500;X-TITLE=4\, rue du Jaizquibel:geo:-1.7740053,43.3593748
END:VEVENT
BEGIN:VEVENT
DTSTART;TZID=Europe/Madrid:20240627T143000
DTEND;TZID=Europe/Madrid:20240627T183000
DTSTAMP:20260420T200834
CREATED:20240619T140811Z
LAST-MODIFIED:20240619T140815Z
UID:10035964-1719498600-1719513000@deplanesporlacomarca.com
SUMMARY:EXPOSICIÓN FOTOGRÁFICA\, "HENDAIAKO ARGAZKI ZAHARRAK" - MÉDIATHÈQUE (HENDAYE)
DESCRIPTION:En el marco del programa de actividades programadas con motivo de la asociación Akelarre\, exposición de fotografías antiguas de Hendaya que tiene lugar en la Médiathéque\, hasta el 29 de Junio. \n\n\n\n \n\n\n\nAlgunas de ellas proceden del fondo documental de la asociación Oroitza\, creada por el Dr. Thillaud\, mientras que otras\, fueran encontradas a través de internet y aportaciones privadas. \n\n\n\n \n\n\n\nEl plan tiene entrada libre y este horario: \n\n\n\n– martes\, miércoles y viernes: 10.00 – 12.30 horas // 14.30 – 18.30 horas \n\n\n\n– jueves: 14.30 – 18.30 horas \n\n\n\n– sábados: 10.00 – 12.30 horas // 14.00 – 18.00 horas
URL:https://deplanesporlacomarca.com/agenda-evento/exposicion-fotografica-hendaiako-argazki-zaharrak-mediatheque-hendaye/2024-06-27/
LOCATION:Médiathèque\, 4\, rue du Jaizquibel\, Hendaye\, Francia
ATTACH;FMTTYPE=image/jpeg:https://deplanesporlacomarca.com/wp-content/uploads/2024/06/exposicion_fotografias_hendaiako_argazki_zaharrak_junio_2024_mediatheque_hendaye.jpg
GEO:43.3593748;-1.7740053
X-APPLE-STRUCTURED-LOCATION;VALUE=URI;X-ADDRESS=Médiathèque 4 rue du Jaizquibel Hendaye Francia;X-APPLE-RADIUS=500;X-TITLE=4\, rue du Jaizquibel:geo:-1.7740053,43.3593748
END:VEVENT
BEGIN:VEVENT
DTSTART;TZID=Europe/Madrid:20240626T100000
DTEND;TZID=Europe/Madrid:20240626T183000
DTSTAMP:20260420T200834
CREATED:20240619T140811Z
LAST-MODIFIED:20240619T140815Z
UID:10035963-1719396000-1719426600@deplanesporlacomarca.com
SUMMARY:EXPOSICIÓN FOTOGRÁFICA\, "HENDAIAKO ARGAZKI ZAHARRAK" - MÉDIATHÈQUE (HENDAYE)
DESCRIPTION:En el marco del programa de actividades programadas con motivo de la asociación Akelarre\, exposición de fotografías antiguas de Hendaya que tiene lugar en la Médiathéque\, hasta el 29 de Junio. \n\n\n\n \n\n\n\nAlgunas de ellas proceden del fondo documental de la asociación Oroitza\, creada por el Dr. Thillaud\, mientras que otras\, fueran encontradas a través de internet y aportaciones privadas. \n\n\n\n \n\n\n\nEl plan tiene entrada libre y este horario: \n\n\n\n– martes\, miércoles y viernes: 10.00 – 12.30 horas // 14.30 – 18.30 horas \n\n\n\n– jueves: 14.30 – 18.30 horas \n\n\n\n– sábados: 10.00 – 12.30 horas // 14.00 – 18.00 horas
URL:https://deplanesporlacomarca.com/agenda-evento/exposicion-fotografica-hendaiako-argazki-zaharrak-mediatheque-hendaye/2024-06-26/
LOCATION:Médiathèque\, 4\, rue du Jaizquibel\, Hendaye\, Francia
ATTACH;FMTTYPE=image/jpeg:https://deplanesporlacomarca.com/wp-content/uploads/2024/06/exposicion_fotografias_hendaiako_argazki_zaharrak_junio_2024_mediatheque_hendaye.jpg
GEO:43.3593748;-1.7740053
X-APPLE-STRUCTURED-LOCATION;VALUE=URI;X-ADDRESS=Médiathèque 4 rue du Jaizquibel Hendaye Francia;X-APPLE-RADIUS=500;X-TITLE=4\, rue du Jaizquibel:geo:-1.7740053,43.3593748
END:VEVENT
BEGIN:VEVENT
DTSTART;TZID=Europe/Madrid:20240625T100000
DTEND;TZID=Europe/Madrid:20240625T183000
DTSTAMP:20260420T200834
CREATED:20240619T140811Z
LAST-MODIFIED:20240619T140815Z
UID:10035962-1719309600-1719340200@deplanesporlacomarca.com
SUMMARY:EXPOSICIÓN FOTOGRÁFICA\, "HENDAIAKO ARGAZKI ZAHARRAK" - MÉDIATHÈQUE (HENDAYE)
DESCRIPTION:En el marco del programa de actividades programadas con motivo de la asociación Akelarre\, exposición de fotografías antiguas de Hendaya que tiene lugar en la Médiathéque\, hasta el 29 de Junio. \n\n\n\n \n\n\n\nAlgunas de ellas proceden del fondo documental de la asociación Oroitza\, creada por el Dr. Thillaud\, mientras que otras\, fueran encontradas a través de internet y aportaciones privadas. \n\n\n\n \n\n\n\nEl plan tiene entrada libre y este horario: \n\n\n\n– martes\, miércoles y viernes: 10.00 – 12.30 horas // 14.30 – 18.30 horas \n\n\n\n– jueves: 14.30 – 18.30 horas \n\n\n\n– sábados: 10.00 – 12.30 horas // 14.00 – 18.00 horas
URL:https://deplanesporlacomarca.com/agenda-evento/exposicion-fotografica-hendaiako-argazki-zaharrak-mediatheque-hendaye/2024-06-25/
LOCATION:Médiathèque\, 4\, rue du Jaizquibel\, Hendaye\, Francia
ATTACH;FMTTYPE=image/jpeg:https://deplanesporlacomarca.com/wp-content/uploads/2024/06/exposicion_fotografias_hendaiako_argazki_zaharrak_junio_2024_mediatheque_hendaye.jpg
GEO:43.3593748;-1.7740053
X-APPLE-STRUCTURED-LOCATION;VALUE=URI;X-ADDRESS=Médiathèque 4 rue du Jaizquibel Hendaye Francia;X-APPLE-RADIUS=500;X-TITLE=4\, rue du Jaizquibel:geo:-1.7740053,43.3593748
END:VEVENT
BEGIN:VEVENT
DTSTART;TZID=Europe/Madrid:20240622T100000
DTEND;TZID=Europe/Madrid:20240622T180000
DTSTAMP:20260420T200834
CREATED:20240619T140811Z
LAST-MODIFIED:20240619T140815Z
UID:10035961-1719050400-1719079200@deplanesporlacomarca.com
SUMMARY:EXPOSICIÓN FOTOGRÁFICA\, "HENDAIAKO ARGAZKI ZAHARRAK" - MÉDIATHÈQUE (HENDAYE)
DESCRIPTION:En el marco del programa de actividades programadas con motivo de la asociación Akelarre\, exposición de fotografías antiguas de Hendaya que tiene lugar en la Médiathéque\, hasta el 29 de Junio. \n\n\n\n \n\n\n\nAlgunas de ellas proceden del fondo documental de la asociación Oroitza\, creada por el Dr. Thillaud\, mientras que otras\, fueran encontradas a través de internet y aportaciones privadas. \n\n\n\n \n\n\n\nEl plan tiene entrada libre y este horario: \n\n\n\n– martes\, miércoles y viernes: 10.00 – 12.30 horas // 14.30 – 18.30 horas \n\n\n\n– jueves: 14.30 – 18.30 horas \n\n\n\n– sábados: 10.00 – 12.30 horas // 14.00 – 18.00 horas
URL:https://deplanesporlacomarca.com/agenda-evento/exposicion-fotografica-hendaiako-argazki-zaharrak-mediatheque-hendaye/2024-06-22/
LOCATION:Médiathèque\, 4\, rue du Jaizquibel\, Hendaye\, Francia
ATTACH;FMTTYPE=image/jpeg:https://deplanesporlacomarca.com/wp-content/uploads/2024/06/exposicion_fotografias_hendaiako_argazki_zaharrak_junio_2024_mediatheque_hendaye.jpg
GEO:43.3593748;-1.7740053
X-APPLE-STRUCTURED-LOCATION;VALUE=URI;X-ADDRESS=Médiathèque 4 rue du Jaizquibel Hendaye Francia;X-APPLE-RADIUS=500;X-TITLE=4\, rue du Jaizquibel:geo:-1.7740053,43.3593748
END:VEVENT
BEGIN:VEVENT
DTSTART;TZID=Europe/Madrid:20240621T100000
DTEND;TZID=Europe/Madrid:20240621T183000
DTSTAMP:20260420T200834
CREATED:20240619T140811Z
LAST-MODIFIED:20240619T140815Z
UID:10035960-1718964000-1718994600@deplanesporlacomarca.com
SUMMARY:EXPOSICIÓN FOTOGRÁFICA\, "HENDAIAKO ARGAZKI ZAHARRAK" - MÉDIATHÈQUE (HENDAYE)
DESCRIPTION:En el marco del programa de actividades programadas con motivo de la asociación Akelarre\, exposición de fotografías antiguas de Hendaya que tiene lugar en la Médiathéque\, hasta el 29 de Junio. \n\n\n\n \n\n\n\nAlgunas de ellas proceden del fondo documental de la asociación Oroitza\, creada por el Dr. Thillaud\, mientras que otras\, fueran encontradas a través de internet y aportaciones privadas. \n\n\n\n \n\n\n\nEl plan tiene entrada libre y este horario: \n\n\n\n– martes\, miércoles y viernes: 10.00 – 12.30 horas // 14.30 – 18.30 horas \n\n\n\n– jueves: 14.30 – 18.30 horas \n\n\n\n– sábados: 10.00 – 12.30 horas // 14.00 – 18.00 horas
URL:https://deplanesporlacomarca.com/agenda-evento/exposicion-fotografica-hendaiako-argazki-zaharrak-mediatheque-hendaye/2024-06-21/
LOCATION:Médiathèque\, 4\, rue du Jaizquibel\, Hendaye\, Francia
ATTACH;FMTTYPE=image/jpeg:https://deplanesporlacomarca.com/wp-content/uploads/2024/06/exposicion_fotografias_hendaiako_argazki_zaharrak_junio_2024_mediatheque_hendaye.jpg
GEO:43.3593748;-1.7740053
X-APPLE-STRUCTURED-LOCATION;VALUE=URI;X-ADDRESS=Médiathèque 4 rue du Jaizquibel Hendaye Francia;X-APPLE-RADIUS=500;X-TITLE=4\, rue du Jaizquibel:geo:-1.7740053,43.3593748
END:VEVENT
BEGIN:VEVENT
DTSTART;TZID=Europe/Madrid:20240620T143000
DTEND;TZID=Europe/Madrid:20240620T183000
DTSTAMP:20260420T200834
CREATED:20240619T140811Z
LAST-MODIFIED:20240619T140815Z
UID:10035959-1718893800-1718908200@deplanesporlacomarca.com
SUMMARY:EXPOSICIÓN FOTOGRÁFICA\, "HENDAIAKO ARGAZKI ZAHARRAK" - MÉDIATHÈQUE (HENDAYE)
DESCRIPTION:En el marco del programa de actividades programadas con motivo de la asociación Akelarre\, exposición de fotografías antiguas de Hendaya que tiene lugar en la Médiathéque\, hasta el 29 de Junio. \n\n\n\n \n\n\n\nAlgunas de ellas proceden del fondo documental de la asociación Oroitza\, creada por el Dr. Thillaud\, mientras que otras\, fueran encontradas a través de internet y aportaciones privadas. \n\n\n\n \n\n\n\nEl plan tiene entrada libre y este horario: \n\n\n\n– martes\, miércoles y viernes: 10.00 – 12.30 horas // 14.30 – 18.30 horas \n\n\n\n– jueves: 14.30 – 18.30 horas \n\n\n\n– sábados: 10.00 – 12.30 horas // 14.00 – 18.00 horas
URL:https://deplanesporlacomarca.com/agenda-evento/exposicion-fotografica-hendaiako-argazki-zaharrak-mediatheque-hendaye/2024-06-20/
LOCATION:Médiathèque\, 4\, rue du Jaizquibel\, Hendaye\, Francia
ATTACH;FMTTYPE=image/jpeg:https://deplanesporlacomarca.com/wp-content/uploads/2024/06/exposicion_fotografias_hendaiako_argazki_zaharrak_junio_2024_mediatheque_hendaye.jpg
GEO:43.3593748;-1.7740053
X-APPLE-STRUCTURED-LOCATION;VALUE=URI;X-ADDRESS=Médiathèque 4 rue du Jaizquibel Hendaye Francia;X-APPLE-RADIUS=500;X-TITLE=4\, rue du Jaizquibel:geo:-1.7740053,43.3593748
END:VEVENT
BEGIN:VEVENT
DTSTART;TZID=Europe/Madrid:20240619T100000
DTEND;TZID=Europe/Madrid:20240619T183000
DTSTAMP:20260420T200834
CREATED:20240619T140811Z
LAST-MODIFIED:20240619T140815Z
UID:10035958-1718791200-1718821800@deplanesporlacomarca.com
SUMMARY:EXPOSICIÓN FOTOGRÁFICA\, "HENDAIAKO ARGAZKI ZAHARRAK" - MÉDIATHÈQUE (HENDAYE)
DESCRIPTION:En el marco del programa de actividades programadas con motivo de la asociación Akelarre\, exposición de fotografías antiguas de Hendaya que tiene lugar en la Médiathéque\, hasta el 29 de Junio. \n\n\n\n \n\n\n\nAlgunas de ellas proceden del fondo documental de la asociación Oroitza\, creada por el Dr. Thillaud\, mientras que otras\, fueran encontradas a través de internet y aportaciones privadas. \n\n\n\n \n\n\n\nEl plan tiene entrada libre y este horario: \n\n\n\n– martes\, miércoles y viernes: 10.00 – 12.30 horas // 14.30 – 18.30 horas \n\n\n\n– jueves: 14.30 – 18.30 horas \n\n\n\n– sábados: 10.00 – 12.30 horas // 14.00 – 18.00 horas
URL:https://deplanesporlacomarca.com/agenda-evento/exposicion-fotografica-hendaiako-argazki-zaharrak-mediatheque-hendaye/2024-06-19/
LOCATION:Médiathèque\, 4\, rue du Jaizquibel\, Hendaye\, Francia
ATTACH;FMTTYPE=image/jpeg:https://deplanesporlacomarca.com/wp-content/uploads/2024/06/exposicion_fotografias_hendaiako_argazki_zaharrak_junio_2024_mediatheque_hendaye.jpg
GEO:43.3593748;-1.7740053
X-APPLE-STRUCTURED-LOCATION;VALUE=URI;X-ADDRESS=Médiathèque 4 rue du Jaizquibel Hendaye Francia;X-APPLE-RADIUS=500;X-TITLE=4\, rue du Jaizquibel:geo:-1.7740053,43.3593748
END:VEVENT
END:VCALENDAR