BEGIN:VCALENDAR
VERSION:2.0
PRODID:-//De planes por la comarca - ECPv6.15.20//NONSGML v1.0//EN
CALSCALE:GREGORIAN
METHOD:PUBLISH
X-WR-CALNAME:De planes por la comarca
X-ORIGINAL-URL:https://deplanesporlacomarca.com
X-WR-CALDESC:Eventos para De planes por la comarca
REFRESH-INTERVAL;VALUE=DURATION:PT1H
X-Robots-Tag:noindex
X-PUBLISHED-TTL:PT1H
BEGIN:VTIMEZONE
TZID:Europe/Madrid
BEGIN:DAYLIGHT
TZOFFSETFROM:+0100
TZOFFSETTO:+0200
TZNAME:CEST
DTSTART:20230326T010000
END:DAYLIGHT
BEGIN:STANDARD
TZOFFSETFROM:+0200
TZOFFSETTO:+0100
TZNAME:CET
DTSTART:20231029T010000
END:STANDARD
BEGIN:DAYLIGHT
TZOFFSETFROM:+0100
TZOFFSETTO:+0200
TZNAME:CEST
DTSTART:20240331T010000
END:DAYLIGHT
BEGIN:STANDARD
TZOFFSETFROM:+0200
TZOFFSETTO:+0100
TZNAME:CET
DTSTART:20241027T010000
END:STANDARD
BEGIN:DAYLIGHT
TZOFFSETFROM:+0100
TZOFFSETTO:+0200
TZNAME:CEST
DTSTART:20250330T010000
END:DAYLIGHT
BEGIN:STANDARD
TZOFFSETFROM:+0200
TZOFFSETTO:+0100
TZNAME:CET
DTSTART:20251026T010000
END:STANDARD
END:VTIMEZONE
BEGIN:VEVENT
DTSTART;TZID=Europe/Madrid:20240518T120000
DTEND;TZID=Europe/Madrid:20240518T130000
DTSTAMP:20260422T230837
CREATED:20240511T090836Z
LAST-MODIFIED:20240511T090840Z
UID:10035495-1716033600-1716037200@deplanesporlacomarca.com
SUMMARY:DÍA INTERNACIONAL DE LOS MUSEOS - MUSEO OIASSO (IRUN)
DESCRIPTION:Con motivo del Día Internacional de los Museos\, además de la entrada gratuita del jueves 18 de mayo\, el Museo Oiasso de Irun ha programado diversas actividades para los próximos días. \n\n\n\n \n\n\n\nCada año el ICOM organiza el Día Internacional de los Museos\, una cita a la que se suman miles de museos de todo el mundo con diversas actividades. El lema de este año «Museos por la educación y la investigación» subraya el papel de las instituciones culturales a la hora de proporcionar una experiencia educativa holística. \n\n\n\n \n\n\n\nLos museos son centros dinámicos que fomentan la curiosidad\, la creatividad y el pensamiento crítico. En este sentido el museo Oiasso ha organizado las siguientes actividades: \n\n\n\n \n\n\n\nViernes 17 de Mayo \n\n\n\n– 19.00 horas: La arqueóloga Ana María Benito ofrecerá la conferencia titulada: “Una historia sorprendente sumergida en la bahía de Getaria. La nave de Iturritxiki”. Esta conferencia cierra las actividades organizadas con motivo de la exposición Mujeres arqueólogas en Gipuzkoa. La entrada es gratuita. \n\n\n\n \n\n\n\nSábado 18 de Mayo \n\n\n\n– Gratuidad de la entrada en el museo.– 12.00 horas: La arqueóloga de la Fundación Arkeolan Zohartze Galán realizará una visita especial:«Relato de las obras de las termas de Oiasso» explicando las intervenciones realizadas con motivo de la musealización del yacimiento de las termas públicas de Oiasso. \n\n\n\n \n\n\n\nDomingo 19 de Mayo \n\n\n\n– 11.00 horas (Castellano) y 12.00 horas (euskera): Visitas guiadas a la ermita Santa Elena. La visita a la ermita Santa Elena se realiza con el recurso a la aplicación móvil de descarga gratuita Tour Irun Romano (TIR)\, que permite realizar un itinerario guiado por los principales hallazgos arqueológicos sobre Oiasso realizados en el centro de la ciudad.Es necesario realizar reserva previa 943 63 93 53. Tarifa: 5\,75 Euros.
URL:https://deplanesporlacomarca.com/agenda-evento/dia-internacional-de-los-museos-museo-oiasso-irun/2024-05-18/
LOCATION:Museo Oiasso\, Eskoleta 1\, Irun\, Gipuzkoa\, 20302\, España
ATTACH;FMTTYPE=image/jpeg:https://deplanesporlacomarca.com/wp-content/uploads/2024/05/dia_internacional_de_los_museos_mayo_2024_museo_oiasso_irun.jpg
GEO:43.339816;-1.787788
X-APPLE-STRUCTURED-LOCATION;VALUE=URI;X-ADDRESS=Museo Oiasso Eskoleta 1 Irun Gipuzkoa 20302 España;X-APPLE-RADIUS=500;X-TITLE=Eskoleta 1:geo:-1.787788,43.339816
END:VEVENT
BEGIN:VEVENT
DTSTART;TZID=Europe/Madrid:20240518T100000
DTEND;TZID=Europe/Madrid:20240518T140000
DTSTAMP:20260422T230837
CREATED:20230127T141656Z
LAST-MODIFIED:20240926T150317Z
UID:10035344-1716026400-1716040800@deplanesporlacomarca.com
SUMMARY:TALLER "ARKEOLAB FAMILIAR" - MUSEO OIASSO (IRUN)
DESCRIPTION:Este taller permite convertirnos en auténticos arqueólogos por un día. La actividad comienza excavando en un yacimiento arqueológico simulado en el que\, con un poco de suerte\, se descubrirán restos como cerámica\, huesos o monedas. Pero el verdadero trabajo de investigación arranca en el laboratorio\, a donde acudiremos para estudiar\, catalogar e interpretar cada una de las piezas encontradas. \n\n\n\n \n\n\n\nTambién permite disfrutar en familia de la arqueología. Se trata de un itinerario arqueológico que lejos de ser una visita guiada\, es una actividad autónoma para las familias\, en la que los pequeños con ayuda de los sus familiares adultos\, realizarán los diferentes pasos propuestos en el dossier-guía que se entrega en la recepción del museo.Es necesario hacer reserva previa Al acabar la actividad las familias podrán llevarse su propio Dossier de arqueología\, auténtica acreditación de la habilidad para encontrar los hallazgos. \n\n\n\n \n\n\n\nEl plan está dirigido a familias con niñ@s de entre 6 y 12 años y tiene lugar de 10.00 a 13.00 horas en el Museo Oiasso de Irun. Tiene un precio de 5 Euros por participante. \n\n\n\n \n\n\n\nPuedes apuntarte y/o pedir más información en: \n\n\n\n– Museo Oiasso \n\n\n\n– 943639353 \n\n\n\n– info-oiassomuseo@irun.org
URL:https://deplanesporlacomarca.com/agenda-evento/taller-arkeolab-familiar-museo-oiasso-irun/2024-05-18/
LOCATION:Museo Oiasso\, Eskoleta 1\, Irun\, Gipuzkoa\, 20302\, España
ATTACH;FMTTYPE=image/jpeg:https://deplanesporlacomarca.com/wp-content/uploads/2017/03/museo_oiasso_irun.jpg
GEO:43.339816;-1.787788
X-APPLE-STRUCTURED-LOCATION;VALUE=URI;X-ADDRESS=Museo Oiasso Eskoleta 1 Irun Gipuzkoa 20302 España;X-APPLE-RADIUS=500;X-TITLE=Eskoleta 1:geo:-1.787788,43.339816
END:VEVENT
BEGIN:VEVENT
DTSTART;TZID=Europe/Madrid:20240517T190000
DTEND;TZID=Europe/Madrid:20240517T190000
DTSTAMP:20260422T230837
CREATED:20240511T090836Z
LAST-MODIFIED:20240511T090840Z
UID:10035494-1715972400-1715972400@deplanesporlacomarca.com
SUMMARY:DÍA INTERNACIONAL DE LOS MUSEOS - MUSEO OIASSO (IRUN)
DESCRIPTION:Con motivo del Día Internacional de los Museos\, además de la entrada gratuita del jueves 18 de mayo\, el Museo Oiasso de Irun ha programado diversas actividades para los próximos días. \n\n\n\n \n\n\n\nCada año el ICOM organiza el Día Internacional de los Museos\, una cita a la que se suman miles de museos de todo el mundo con diversas actividades. El lema de este año «Museos por la educación y la investigación» subraya el papel de las instituciones culturales a la hora de proporcionar una experiencia educativa holística. \n\n\n\n \n\n\n\nLos museos son centros dinámicos que fomentan la curiosidad\, la creatividad y el pensamiento crítico. En este sentido el museo Oiasso ha organizado las siguientes actividades: \n\n\n\n \n\n\n\nViernes 17 de Mayo \n\n\n\n– 19.00 horas: La arqueóloga Ana María Benito ofrecerá la conferencia titulada: “Una historia sorprendente sumergida en la bahía de Getaria. La nave de Iturritxiki”. Esta conferencia cierra las actividades organizadas con motivo de la exposición Mujeres arqueólogas en Gipuzkoa. La entrada es gratuita. \n\n\n\n \n\n\n\nSábado 18 de Mayo \n\n\n\n– Gratuidad de la entrada en el museo.– 12.00 horas: La arqueóloga de la Fundación Arkeolan Zohartze Galán realizará una visita especial:«Relato de las obras de las termas de Oiasso» explicando las intervenciones realizadas con motivo de la musealización del yacimiento de las termas públicas de Oiasso. \n\n\n\n \n\n\n\nDomingo 19 de Mayo \n\n\n\n– 11.00 horas (Castellano) y 12.00 horas (euskera): Visitas guiadas a la ermita Santa Elena. La visita a la ermita Santa Elena se realiza con el recurso a la aplicación móvil de descarga gratuita Tour Irun Romano (TIR)\, que permite realizar un itinerario guiado por los principales hallazgos arqueológicos sobre Oiasso realizados en el centro de la ciudad.Es necesario realizar reserva previa 943 63 93 53. Tarifa: 5\,75 Euros.
URL:https://deplanesporlacomarca.com/agenda-evento/dia-internacional-de-los-museos-museo-oiasso-irun/2024-05-17/
LOCATION:Museo Oiasso\, Eskoleta 1\, Irun\, Gipuzkoa\, 20302\, España
ATTACH;FMTTYPE=image/jpeg:https://deplanesporlacomarca.com/wp-content/uploads/2024/05/dia_internacional_de_los_museos_mayo_2024_museo_oiasso_irun.jpg
GEO:43.339816;-1.787788
X-APPLE-STRUCTURED-LOCATION;VALUE=URI;X-ADDRESS=Museo Oiasso Eskoleta 1 Irun Gipuzkoa 20302 España;X-APPLE-RADIUS=500;X-TITLE=Eskoleta 1:geo:-1.787788,43.339816
END:VEVENT
BEGIN:VEVENT
DTSTART;TZID=Europe/Madrid:20240512T110000
DTEND;TZID=Europe/Madrid:20240512T130000
DTSTAMP:20260422T230837
CREATED:20240507T124424Z
LAST-MODIFIED:20240507T124428Z
UID:10035438-1715511600-1715518800@deplanesporlacomarca.com
SUMMARY:III DÍA DE LOS MOLINOS DE GIPUZKOA - MUSEO OIASSO (IRUN)
DESCRIPTION:El Museo Oiasso de Irun se suma a la iniciativa de las asociaciones Ihurrita Errota Elkartea y Aldabe Elkartea de celebrar el III Día de los Molinos de Gipuzkoa. Los museos y centros de interpretación de un total de 25 localidades guipuzcoanas se han sumado a la iniciativa y han formado un programa de más de 30 actividades orientadas a poner en valor y divulgar este elemento de nuestro patrimonio\, los molinos. \n\n\n\n \n\n\n\nLos molinos son parte de nuestro patrimonio histórico\, tecnológico\, antropológico y etnográfico. Durante siglos han tenido una gran importancia en el desarrollo social\, económico e industrial de Gipuzkoa. Son una de las manifestaciones más significativas de la organización del territorio y de las actividades humanas\, que habla de las relaciones del ser humano con su medio y de los modos de vida que forman parte de nuestra cultura e historia. \n\n\n\n \n\n\n\nEl Museo Oiasso de Irun ofrece sendas visitas guiadas gratuitas por su colección permanente\, haciendo especial hincapié en los dos molinos que forman parte de la misma: por un lado\, un molino de mano procedente del poblado de Intxur\, testimonio arqueológico de las actividades agrícolas de hace más de 3.000 años\, por otro\, un molino de piedra procedente de Arditurri y datado de los siglos I y II de nuestra era. \n\n\n\n \n\n\n\nEl plan en el Museo Oiasso es: \n\n\n\n– A las 11.00 horas en castellano \n\n\n\n– A las 12.00 horas en euskera \n\n\n\n \n\n\n\nLas reservas deben realizarse en el teléfono 943 63 93 53 o en info-oiassomuseo@irun.org
URL:https://deplanesporlacomarca.com/agenda-evento/iii-dia-de-los-molinos-de-gipuzkoa-museo-oiasso-irun/
LOCATION:Museo Oiasso\, Eskoleta 1\, Irun\, Gipuzkoa\, 20302\, España
ATTACH;FMTTYPE=image/jpeg:https://deplanesporlacomarca.com/wp-content/uploads/2024/05/dia_de_los_molinos_gipuzkoa_2024_12_mayo_museo_oiasso_irun.jpg
GEO:43.339816;-1.787788
X-APPLE-STRUCTURED-LOCATION;VALUE=URI;X-ADDRESS=Museo Oiasso Eskoleta 1 Irun Gipuzkoa 20302 España;X-APPLE-RADIUS=500;X-TITLE=Eskoleta 1:geo:-1.787788,43.339816
END:VEVENT
BEGIN:VEVENT
DTSTART;TZID=Europe/Madrid:20240511T100000
DTEND;TZID=Europe/Madrid:20240511T140000
DTSTAMP:20260422T230837
CREATED:20230127T141656Z
LAST-MODIFIED:20240926T150317Z
UID:10035343-1715421600-1715436000@deplanesporlacomarca.com
SUMMARY:TALLER "ARKEOLAB FAMILIAR" - MUSEO OIASSO (IRUN)
DESCRIPTION:Este taller permite convertirnos en auténticos arqueólogos por un día. La actividad comienza excavando en un yacimiento arqueológico simulado en el que\, con un poco de suerte\, se descubrirán restos como cerámica\, huesos o monedas. Pero el verdadero trabajo de investigación arranca en el laboratorio\, a donde acudiremos para estudiar\, catalogar e interpretar cada una de las piezas encontradas. \n\n\n\n \n\n\n\nTambién permite disfrutar en familia de la arqueología. Se trata de un itinerario arqueológico que lejos de ser una visita guiada\, es una actividad autónoma para las familias\, en la que los pequeños con ayuda de los sus familiares adultos\, realizarán los diferentes pasos propuestos en el dossier-guía que se entrega en la recepción del museo.Es necesario hacer reserva previa Al acabar la actividad las familias podrán llevarse su propio Dossier de arqueología\, auténtica acreditación de la habilidad para encontrar los hallazgos. \n\n\n\n \n\n\n\nEl plan está dirigido a familias con niñ@s de entre 6 y 12 años y tiene lugar de 10.00 a 13.00 horas en el Museo Oiasso de Irun. Tiene un precio de 5 Euros por participante. \n\n\n\n \n\n\n\nPuedes apuntarte y/o pedir más información en: \n\n\n\n– Museo Oiasso \n\n\n\n– 943639353 \n\n\n\n– info-oiassomuseo@irun.org
URL:https://deplanesporlacomarca.com/agenda-evento/taller-arkeolab-familiar-museo-oiasso-irun/2024-05-11/
LOCATION:Museo Oiasso\, Eskoleta 1\, Irun\, Gipuzkoa\, 20302\, España
ATTACH;FMTTYPE=image/jpeg:https://deplanesporlacomarca.com/wp-content/uploads/2017/03/museo_oiasso_irun.jpg
GEO:43.339816;-1.787788
X-APPLE-STRUCTURED-LOCATION;VALUE=URI;X-ADDRESS=Museo Oiasso Eskoleta 1 Irun Gipuzkoa 20302 España;X-APPLE-RADIUS=500;X-TITLE=Eskoleta 1:geo:-1.787788,43.339816
END:VEVENT
BEGIN:VEVENT
DTSTART;TZID=Europe/Madrid:20240504T100000
DTEND;TZID=Europe/Madrid:20240504T140000
DTSTAMP:20260422T230837
CREATED:20230127T141656Z
LAST-MODIFIED:20240926T150317Z
UID:10035342-1714816800-1714831200@deplanesporlacomarca.com
SUMMARY:TALLER "ARKEOLAB FAMILIAR" - MUSEO OIASSO (IRUN)
DESCRIPTION:Este taller permite convertirnos en auténticos arqueólogos por un día. La actividad comienza excavando en un yacimiento arqueológico simulado en el que\, con un poco de suerte\, se descubrirán restos como cerámica\, huesos o monedas. Pero el verdadero trabajo de investigación arranca en el laboratorio\, a donde acudiremos para estudiar\, catalogar e interpretar cada una de las piezas encontradas. \n\n\n\n \n\n\n\nTambién permite disfrutar en familia de la arqueología. Se trata de un itinerario arqueológico que lejos de ser una visita guiada\, es una actividad autónoma para las familias\, en la que los pequeños con ayuda de los sus familiares adultos\, realizarán los diferentes pasos propuestos en el dossier-guía que se entrega en la recepción del museo.Es necesario hacer reserva previa Al acabar la actividad las familias podrán llevarse su propio Dossier de arqueología\, auténtica acreditación de la habilidad para encontrar los hallazgos. \n\n\n\n \n\n\n\nEl plan está dirigido a familias con niñ@s de entre 6 y 12 años y tiene lugar de 10.00 a 13.00 horas en el Museo Oiasso de Irun. Tiene un precio de 5 Euros por participante. \n\n\n\n \n\n\n\nPuedes apuntarte y/o pedir más información en: \n\n\n\n– Museo Oiasso \n\n\n\n– 943639353 \n\n\n\n– info-oiassomuseo@irun.org
URL:https://deplanesporlacomarca.com/agenda-evento/taller-arkeolab-familiar-museo-oiasso-irun/2024-05-04/
LOCATION:Museo Oiasso\, Eskoleta 1\, Irun\, Gipuzkoa\, 20302\, España
ATTACH;FMTTYPE=image/jpeg:https://deplanesporlacomarca.com/wp-content/uploads/2017/03/museo_oiasso_irun.jpg
GEO:43.339816;-1.787788
X-APPLE-STRUCTURED-LOCATION;VALUE=URI;X-ADDRESS=Museo Oiasso Eskoleta 1 Irun Gipuzkoa 20302 España;X-APPLE-RADIUS=500;X-TITLE=Eskoleta 1:geo:-1.787788,43.339816
END:VEVENT
BEGIN:VEVENT
DTSTART;TZID=Europe/Madrid:20240503T190000
DTEND;TZID=Europe/Madrid:20240503T190000
DTSTAMP:20260422T230837
CREATED:20240429T125406Z
LAST-MODIFIED:20240429T125410Z
UID:10035340-1714762800-1714762800@deplanesporlacomarca.com
SUMMARY:CONFERENCIA\, "MEMORIA Y ARQUEOLOGÍA" - MUSEO OIASSO (IRUN)
DESCRIPTION:El Museo Oiasso de Irun ha preparado esta conferencia que lleva por título\, «Memoria y arqueología»\, a cargo de Lourdes Herrasti\, arqueóloga de la Sociedad de Ciencias Aranzadi\, a partir de las 19.00 horas. \n\n\n\n \n\n\n\nEnmarcada dentro del programa de actividades organizado en torno a la exposición «Mujeres Arqueólogas en Gipuzkoa«\, visitable hasta el 31 de mayo en el propio museo. Una muestra que pone en valor el trabajo de mujeres como LOURDES HERRASTI en las investigaciones arqueológicas del territorio. \n\n\n\n \n\n\n\nLa doctora Lourdes Herrasti Erlogorri es especialista en osteoarqueología\, y lleva más de 30 años trabajando en la Sociedad de Ciencias Aranzadi. Actualmente es directora del Departamento de Antropología. \n\n\n\n \n\n\n\nHa participado en importantes hallazgos arqueológicos\, como el yacimiento neolítico de San Juan ante Portam Latinam (Araba)\, y en la exhumación de fosas de la Guerra Civil\, combinando rigor científico y humanidad. Herrasti ha trabajado en el campo de la antropología física realizando estudios antropológicos de los restos encontrados en yacimientos arqueológicos e impulsó el Departamento de Antropología Física\, poniendo en marcha diferentes líneas de trabajo. \n\n\n\n \n\n\n\nEn la actualidad\, la Sociedad de Ciencias Aranzadi interviene de forma regular en procesos de exhumación de fosas comunes y realiza análisis de los restos encontrados en colaboración con distintas asociaciones de Memoria Histórica. \n\n\n\n \n\n\n\nLa divulgación es una parte importante del trabajo realizado por Lourdes Herrasti. Por ello\, participa en charlas informativas en escuelas\, realiza publicaciones y ha creado una base de datos abierta en donde queda reflejada toda la información generada en las exhumaciones. \n\n\n\n \n\n\n\nEl plan tiene entrada libre hasta completar aforo.
URL:https://deplanesporlacomarca.com/agenda-evento/conferencia-memoria-y-arqueologia-museo-oiasso-irun/
LOCATION:Museo Oiasso\, Eskoleta 1\, Irun\, Gipuzkoa\, 20302\, España
ATTACH;FMTTYPE=image/jpeg:https://deplanesporlacomarca.com/wp-content/uploads/2024/04/conferencia_memoria_arqueologia_lourdes_herrasti_3_mayo_2024_museo_oiasso_irun.jpg
GEO:43.339816;-1.787788
X-APPLE-STRUCTURED-LOCATION;VALUE=URI;X-ADDRESS=Museo Oiasso Eskoleta 1 Irun Gipuzkoa 20302 España;X-APPLE-RADIUS=500;X-TITLE=Eskoleta 1:geo:-1.787788,43.339816
END:VEVENT
BEGIN:VEVENT
DTSTART;TZID=Europe/Madrid:20240502T193000
DTEND;TZID=Europe/Madrid:20240502T193000
DTSTAMP:20260422T230837
CREATED:20240429T130216Z
LAST-MODIFIED:20240429T130220Z
UID:10035341-1714678200-1714678200@deplanesporlacomarca.com
SUMMARY:MUSIKA MUSEOAN - CONCIERTO ALUMNOS/AS DEL CONSERVATORIO DE IRUN - MAYO 2024 - MUSEO OIASSO (IRUN)
DESCRIPTION:Concierto de los/as alumnos/as del Conservatorio Municipal en el Museo Romano Oiasso de Irun. Organizado por el área de Cultura del Ayuntamiento de Irun. \n\n\n\n \n\n\n\nLos alumnos del Conservatorio de Música de Irun actúan en el museo acompañados al piano por el profesor de repertorio Borja Rubiños\, a las 19.30 horas. \n\n\n\n \n\n\n\nEste concierto se incluye dentro del ciclo «Musika Museoan»\, que agrupa todas aquellas propuestas musicales que se organizan en el Museo Romano Oiasso en paralelo a su oferta de exposiciones y programa permanente. \n\n\n\n \n\n\n\nEste es el programa previsto: \n\n\n\nAndoni Dieguez  (trombón) – Concierto. L. Grondahl \n\n\n\nIzaro Villoria (viola) – Sonata Arpeggione (1ª movt.). F. Schubert \n\n\n\nNora Roldán (cello) – Concierto en Lam (1º movt.). C. Saint Saens \n\n\n\nNaroa Aragón (violín) –  Romanza andaluza. P. Sarasate \n\n\n\nHelena Pablos (clarinete) – Concierto LaM (1º movt.). W.A. Mozart \n\n\n\nNaia Berruet  (flauta) – Concertino. C. Chaminade \n\n\n\nIon Martinez (flauta) –  Rondo Concierto 7º. F. Devienne   \n\n\n\n \n\n\n\nEl plan tiene entrada gratuita\, hasta completar aforo.
URL:https://deplanesporlacomarca.com/agenda-evento/musika-museoan-concierto-alumnos-as-del-conservatorio-de-irun-mayo-2024-museo-oiasso-irun/
LOCATION:Museo Oiasso\, Eskoleta 1\, Irun\, Gipuzkoa\, 20302\, España
ATTACH;FMTTYPE=image/jpeg:https://deplanesporlacomarca.com/wp-content/uploads/2024/04/musika_museoan_concierto_alumnos_conservatorio_mayo_2024_museo_oiasso_irun.jpg
GEO:43.339816;-1.787788
X-APPLE-STRUCTURED-LOCATION;VALUE=URI;X-ADDRESS=Museo Oiasso Eskoleta 1 Irun Gipuzkoa 20302 España;X-APPLE-RADIUS=500;X-TITLE=Eskoleta 1:geo:-1.787788,43.339816
END:VEVENT
BEGIN:VEVENT
DTSTART;TZID=Europe/Madrid:20240427T120000
DTEND;TZID=Europe/Madrid:20240427T203000
DTSTAMP:20260422T230837
CREATED:20240417T083924Z
LAST-MODIFIED:20240417T083928Z
UID:10035226-1714219200-1714249800@deplanesporlacomarca.com
SUMMARY:VIII. JORNADA GRIEGA - ABRIL 2024 - MUSEO OIASSO (IRUN)
DESCRIPTION:El Museo Romano Oiasso de Irun acoge la VIII Jornada Griega en Oiasso\, organizada por la Asociación Sociocultural Filohelena “Periplo” y el Área de Cultura y Deportes del Ayuntamiento de Irun. \n\n\n\n \n\n\n\nDesde 2016 y en colaboración con el Ayuntamiento de Irún\, la Asociación “Periplo” celebra en el Μuseo Oiasso una jornada cultural\, que en esta ocasión nos acercará a la realidad de las mujeres en la sociedad moderna\, invitándonos a reflexionar y a inspirarnos a partes iguales. \n\n\n\n \n\n\n\nLa jornada comenzará a las 12.00 horas con la conferencia La situación de las mujeres en la sociedad griega actual y genealogías de resistencia feminista\, a cargo de Katerina Sergidou\, activista\, feminista\, investigadora de antropología social y estudios feministas y de género. A continuación\, se abrirá un turno de preguntas del público. \n\n\n\n \n\n\n\nA las 19.00 horas\, la compañía La Pacheca Collective ofrecerá la obra teatral Helenas (de Troya\, de Ucrania\, de Santutxu…)\, que aborda la violencia de género y cuestiona los estereotipos sobre las mujeres. Bea Insa se convierte en Helena de Troya para hablarnos de otras tantas mujeres luchadoras. \n\n\n\n \n\n\n\nDespués de la representación habrá un coloquio con la participación de la actriz Bea Insa. \n\n\n\n \n\n\n\nLa jornada concluirá con una copa de vino griego. \n\n\n\n \n\n\n\nLa entrada a la conferencia es libre hasta completar el aforo. Las invitaciones para la obra Helenas se repartirán en la recepción del museo el mismo sábado desde las 10.00 horas. Todas las actividades son gratuitas. Los interesados en tomar parte en esta iniciativa pueden tener más información por los medios habituales que dispone Oiasso: teléfono 943 63 93 53 o el correo electrónico info-oiassomuseo@irun.org. \n\n\n\n \n\n\n\nPROGRAMA:  \n\n\n\n \n\n\n\n– 12.00 – 14.00 horas: Conferencia: “La situación de las mujeres en la sociedad griega actual y genealogías de resistencia feminista”\, a cargo de Katerina Sergidou. Entrada libre hasta completar aforo.  \n\n\n\n \n\n\n\n– 19.00 – 20.00 horas: Obra teatral: “Helenas (de Troya\, de Ucrania\, de Santutxu…)” de La Pacheca Collective. Entrada gratuita con invitación.  \n\n\n\n \n\n\n\n– 20.00 – 20.30 horas: Coloquio con la participación de la actriz Bea Insa.  \n\n\n\n \n\n\n\nPosteriormente se ofrecerá a los asistentes una copa de vino griego.
URL:https://deplanesporlacomarca.com/agenda-evento/viii-jornada-griega-abril-2024-museo-oiasso-irun/
LOCATION:Museo Oiasso\, Eskoleta 1\, Irun\, Gipuzkoa\, 20302\, España
ATTACH;FMTTYPE=image/jpeg:https://deplanesporlacomarca.com/wp-content/uploads/2024/04/viii_jornada_griega_27_abril_2024_museo_oiasso_irun.jpg
GEO:43.339816;-1.787788
X-APPLE-STRUCTURED-LOCATION;VALUE=URI;X-ADDRESS=Museo Oiasso Eskoleta 1 Irun Gipuzkoa 20302 España;X-APPLE-RADIUS=500;X-TITLE=Eskoleta 1:geo:-1.787788,43.339816
END:VEVENT
BEGIN:VEVENT
DTSTART;TZID=Europe/Madrid:20240427T100000
DTEND;TZID=Europe/Madrid:20240427T140000
DTSTAMP:20260422T230837
CREATED:20230127T141656Z
LAST-MODIFIED:20240926T150317Z
UID:10035059-1714212000-1714226400@deplanesporlacomarca.com
SUMMARY:TALLER "ARKEOLAB FAMILIAR" - MUSEO OIASSO (IRUN)
DESCRIPTION:Este taller permite convertirnos en auténticos arqueólogos por un día. La actividad comienza excavando en un yacimiento arqueológico simulado en el que\, con un poco de suerte\, se descubrirán restos como cerámica\, huesos o monedas. Pero el verdadero trabajo de investigación arranca en el laboratorio\, a donde acudiremos para estudiar\, catalogar e interpretar cada una de las piezas encontradas. \n\n\n\n \n\n\n\nTambién permite disfrutar en familia de la arqueología. Se trata de un itinerario arqueológico que lejos de ser una visita guiada\, es una actividad autónoma para las familias\, en la que los pequeños con ayuda de los sus familiares adultos\, realizarán los diferentes pasos propuestos en el dossier-guía que se entrega en la recepción del museo.Es necesario hacer reserva previa Al acabar la actividad las familias podrán llevarse su propio Dossier de arqueología\, auténtica acreditación de la habilidad para encontrar los hallazgos. \n\n\n\n \n\n\n\nEl plan está dirigido a familias con niñ@s de entre 6 y 12 años y tiene lugar de 10.00 a 13.00 horas en el Museo Oiasso de Irun. Tiene un precio de 5 Euros por participante. \n\n\n\n \n\n\n\nPuedes apuntarte y/o pedir más información en: \n\n\n\n– Museo Oiasso \n\n\n\n– 943639353 \n\n\n\n– info-oiassomuseo@irun.org
URL:https://deplanesporlacomarca.com/agenda-evento/taller-arkeolab-familiar-museo-oiasso-irun/2024-04-27/
LOCATION:Museo Oiasso\, Eskoleta 1\, Irun\, Gipuzkoa\, 20302\, España
ATTACH;FMTTYPE=image/jpeg:https://deplanesporlacomarca.com/wp-content/uploads/2017/03/museo_oiasso_irun.jpg
GEO:43.339816;-1.787788
X-APPLE-STRUCTURED-LOCATION;VALUE=URI;X-ADDRESS=Museo Oiasso Eskoleta 1 Irun Gipuzkoa 20302 España;X-APPLE-RADIUS=500;X-TITLE=Eskoleta 1:geo:-1.787788,43.339816
END:VEVENT
BEGIN:VEVENT
DTSTART;TZID=Europe/Madrid:20240425T190000
DTEND;TZID=Europe/Madrid:20240425T190000
DTSTAMP:20260422T230837
CREATED:20240417T113539Z
LAST-MODIFIED:20240417T113543Z
UID:10035227-1714071600-1714071600@deplanesporlacomarca.com
SUMMARY:PRESENTACIÓN DEL LIBRO\, "REVOLUCIÓN\, RESISTENCIA Y MEMORIA. PATRIMONIO DE LA HUMANIDAD" - MUSEO OIASSO (IRUN)
DESCRIPTION:Presentación del libro\, «Revolución\, resistencia y memoria. Patrimonio de la humanidad» del arqueólogo donostiarra Xabier Peñalver en el Museo Oiasso de Irun\, a partir de las 19.00 horas. \n\n\n\n \n\n\n\n«En la historia de la humanidad han existido conciencias que se han revelado contra la explotación del ser humano y fruto de ello surgieron millones de pequeñas y grandes luchas\, de sublevaciones\, de revoluciones\, todas con la in- tención de transformar el desarrollo de la historia. Emergieron personajes referenciales en ese proceso como Karl Marx\, Che Guevara\, Ho Chi Minh\, movimientos populares\, comunas de París\, revoluciones de octubre; con pequeños o grandes fracasos\, con pequeños o grandes logros. \n\n\n\n \n\n\n\nDe manera gráfica\, sintética y accesible\, este trabajo pionero nos acerca a decenas de lugares ocultos por los medios de comunicación y las guías de viajes al uso\, lugares donde se forjaron\, decidieron\, consolidaron o se apagaron los principales procesos transformadores y liberadores del siglo xx. En los que se subieron al tren de la historia los principales sujetos revolucionarios o donde echó a volar el espíritu resistente frente a la tiranía\, la esclavitud\, el racismo o el imperialismo. Evitando espacios gentrificados\, sobreexplotados e hipermasificados\, vacíos de todo contenido histórico y político\, esta completísima guía nos ofrece una manera de viajar diferente\, invitándonos a visitar 350 destinos únicos.» \n\n\n\n \n\n\n\nXabier Peñalver es doctor en Arqueología y dirige excavaciones desde hace veinticinco años en yacimientos prehistóricos tales como la cueva paleolítica de Praile Aitz I (Deba)\, los monumentos megalíticos de Langagorri (Astigarraga-Errenteria) y Mulisko Gaina (Hernani-Urnieta) o los poblados de Intxur (Albiztur-Tolosa) y Basagain (Anoeta). Entre sus libros cabe destacar\, Sobre el origen de los vascos (1999)\, El hábitat en la vertiente atlántica de Euskal Herria. El Bronce Final y la Edad del Hierro (2001)\, Intxur. Burdin Aroko herrixka (2002)\, Burdin aroko herri harresituak Gipuzkoan (2003)\, Mairubaratzak. Pirinioetako harrespilak (2004)\, Orígenes (Txalaparta\, 2005). En la actualidad trabaja en diferentes estudios de yacimientos y materiales del Paleolítico Superior y de la Edad del Hierro dentro del territorio de Gipuzkoa. También colabora con el museo Oiasso y con el Festival Internacional de Cine Arqueológico del Bidasoa (FICAB). \n\n\n\n \n\n\n\nEl plan tiene entrada gratuita y aforo limitado.
URL:https://deplanesporlacomarca.com/agenda-evento/presentacion-del-libro-revolucion-resistencia-y-memoria-patrimonio-de-la-humanidad-museo-oiasso-irun/
LOCATION:Museo Oiasso\, Eskoleta 1\, Irun\, Gipuzkoa\, 20302\, España
ATTACH;FMTTYPE=image/jpeg:https://deplanesporlacomarca.com/wp-content/uploads/2024/04/presentacion_libro_revolucion_resistencia_memoria_patrimonio_humanidad_xabier_penalver_25_abril_2024_museo_oiasso_irun.jpg
GEO:43.339816;-1.787788
X-APPLE-STRUCTURED-LOCATION;VALUE=URI;X-ADDRESS=Museo Oiasso Eskoleta 1 Irun Gipuzkoa 20302 España;X-APPLE-RADIUS=500;X-TITLE=Eskoleta 1:geo:-1.787788,43.339816
END:VEVENT
END:VCALENDAR