BEGIN:VCALENDAR
VERSION:2.0
PRODID:-//De planes por la comarca - ECPv6.15.20//NONSGML v1.0//EN
CALSCALE:GREGORIAN
METHOD:PUBLISH
X-WR-CALNAME:De planes por la comarca
X-ORIGINAL-URL:https://deplanesporlacomarca.com
X-WR-CALDESC:Eventos para De planes por la comarca
REFRESH-INTERVAL;VALUE=DURATION:PT1H
X-Robots-Tag:noindex
X-PUBLISHED-TTL:PT1H
BEGIN:VTIMEZONE
TZID:Europe/Madrid
BEGIN:DAYLIGHT
TZOFFSETFROM:+0100
TZOFFSETTO:+0200
TZNAME:CEST
DTSTART:20230326T010000
END:DAYLIGHT
BEGIN:STANDARD
TZOFFSETFROM:+0200
TZOFFSETTO:+0100
TZNAME:CET
DTSTART:20231029T010000
END:STANDARD
BEGIN:DAYLIGHT
TZOFFSETFROM:+0100
TZOFFSETTO:+0200
TZNAME:CEST
DTSTART:20240331T010000
END:DAYLIGHT
BEGIN:STANDARD
TZOFFSETFROM:+0200
TZOFFSETTO:+0100
TZNAME:CET
DTSTART:20241027T010000
END:STANDARD
BEGIN:DAYLIGHT
TZOFFSETFROM:+0100
TZOFFSETTO:+0200
TZNAME:CEST
DTSTART:20250330T010000
END:DAYLIGHT
BEGIN:STANDARD
TZOFFSETFROM:+0200
TZOFFSETTO:+0100
TZNAME:CET
DTSTART:20251026T010000
END:STANDARD
END:VTIMEZONE
BEGIN:VEVENT
DTSTART;TZID=Europe/Madrid:20240531T170000
DTEND;TZID=Europe/Madrid:20240531T190000
DTSTAMP:20260421T045046
CREATED:20240502T061102Z
LAST-MODIFIED:20240502T061106Z
UID:10035395-1717174800-1717182000@deplanesporlacomarca.com
SUMMARY:HAURRAK PARKEAN - MAYO 2024 (IRUN)
DESCRIPTION:El Ayuntamiento de Irun y Hezten han puesto en marcha la iniciativa Haurrak Parkean\, dirigida a aumentar el uso del euskera en la calle y el parque\, cuyas sesiones se desarrollarán en diferentes barrios y zonas de juegos de Irun con la dinamización recreativa de Hezten. \n\n\n\n \n\n\n\nEn función de la edad de los niños y niñas que acuden\, se forman dos grupos\, de forma que se realizan juegos con niños y niñas de 3 a 5 años y sus cuidadores/as\, combinando la transmisión lingüística en la familia y el tiempo libre. Con los niños/as de 6 a 9 años\, en cambio\, la actividad se realizará entre amigos en compañía de dos educadores/as. \n\n\n\n \n\n\n\nEl calendario de actividades y fechas es el siguiente: \n\n\n\n8\, 15\, 22 y 29 de Mayo (miércoles): \n\n\n\n– Parque Nagore Laffage (Si llueve\, se realiza en el Colegio Toki Alai\, Calle Alzukaitz) \n\n\n\n– Parque Partxis (Calle Olaketa) \n\n\n\n3\, 10\, 24 y 31 de Mayo (viernes): \n\n\n\n– Frontón cubierto de la plaza Arbium. \n\n\n\n– Plaza Almudena Grandes. (Si llueve\, la actividad se realizará en los arkupes del Ayuntamiento) \n\n\n\n \n\n\n\nTodas las actividades enmarcadas en Haurrak Parkean serán íntegramente en euskera. Desde el Área de Euskera quieren recordar que\, aunque el conocimiento del euskera no es imprescindible\, tanto madres y/o padres como hijas/os deberán comprometerse a mantener una actitud participativa durante la actividad al inscribirse.
URL:https://deplanesporlacomarca.com/agenda-evento/haurrak-parkean-mayo-2024-irun/2024-05-31/
LOCATION:Parque Nagore Laffage\, Juan Wolmer Plaza\, 1\, Irun\, Gipuzkoa\, España
ATTACH;FMTTYPE=image/jpeg:https://deplanesporlacomarca.com/wp-content/uploads/2024/05/haurrak_parkean_mayo_2024_irun.jpg
GEO:43.3383485;-1.7799394
X-APPLE-STRUCTURED-LOCATION;VALUE=URI;X-ADDRESS=Parque Nagore Laffage Juan Wolmer Plaza 1 Irun Gipuzkoa España;X-APPLE-RADIUS=500;X-TITLE=Juan Wolmer Plaza\, 1:geo:-1.7799394,43.3383485
END:VEVENT
BEGIN:VEVENT
DTSTART;TZID=Europe/Madrid:20240528T170000
DTEND;TZID=Europe/Madrid:20240528T190000
DTSTAMP:20260421T045046
CREATED:20240502T061102Z
LAST-MODIFIED:20240502T061106Z
UID:10035394-1716915600-1716922800@deplanesporlacomarca.com
SUMMARY:HAURRAK PARKEAN - MAYO 2024 (IRUN)
DESCRIPTION:El Ayuntamiento de Irun y Hezten han puesto en marcha la iniciativa Haurrak Parkean\, dirigida a aumentar el uso del euskera en la calle y el parque\, cuyas sesiones se desarrollarán en diferentes barrios y zonas de juegos de Irun con la dinamización recreativa de Hezten. \n\n\n\n \n\n\n\nEn función de la edad de los niños y niñas que acuden\, se forman dos grupos\, de forma que se realizan juegos con niños y niñas de 3 a 5 años y sus cuidadores/as\, combinando la transmisión lingüística en la familia y el tiempo libre. Con los niños/as de 6 a 9 años\, en cambio\, la actividad se realizará entre amigos en compañía de dos educadores/as. \n\n\n\n \n\n\n\nEl calendario de actividades y fechas es el siguiente: \n\n\n\n8\, 15\, 22 y 29 de Mayo (miércoles): \n\n\n\n– Parque Nagore Laffage (Si llueve\, se realiza en el Colegio Toki Alai\, Calle Alzukaitz) \n\n\n\n– Parque Partxis (Calle Olaketa) \n\n\n\n3\, 10\, 24 y 31 de Mayo (viernes): \n\n\n\n– Frontón cubierto de la plaza Arbium. \n\n\n\n– Plaza Almudena Grandes. (Si llueve\, la actividad se realizará en los arkupes del Ayuntamiento) \n\n\n\n \n\n\n\nTodas las actividades enmarcadas en Haurrak Parkean serán íntegramente en euskera. Desde el Área de Euskera quieren recordar que\, aunque el conocimiento del euskera no es imprescindible\, tanto madres y/o padres como hijas/os deberán comprometerse a mantener una actitud participativa durante la actividad al inscribirse.
URL:https://deplanesporlacomarca.com/agenda-evento/haurrak-parkean-mayo-2024-irun/2024-05-28/
LOCATION:Parque Nagore Laffage\, Juan Wolmer Plaza\, 1\, Irun\, Gipuzkoa\, España
ATTACH;FMTTYPE=image/jpeg:https://deplanesporlacomarca.com/wp-content/uploads/2024/05/haurrak_parkean_mayo_2024_irun.jpg
GEO:43.3383485;-1.7799394
X-APPLE-STRUCTURED-LOCATION;VALUE=URI;X-ADDRESS=Parque Nagore Laffage Juan Wolmer Plaza 1 Irun Gipuzkoa España;X-APPLE-RADIUS=500;X-TITLE=Juan Wolmer Plaza\, 1:geo:-1.7799394,43.3383485
END:VEVENT
BEGIN:VEVENT
DTSTART;TZID=Europe/Madrid:20240524T170000
DTEND;TZID=Europe/Madrid:20240524T190000
DTSTAMP:20260421T045046
CREATED:20240502T061102Z
LAST-MODIFIED:20240502T061106Z
UID:10035393-1716570000-1716577200@deplanesporlacomarca.com
SUMMARY:HAURRAK PARKEAN - MAYO 2024 (IRUN)
DESCRIPTION:El Ayuntamiento de Irun y Hezten han puesto en marcha la iniciativa Haurrak Parkean\, dirigida a aumentar el uso del euskera en la calle y el parque\, cuyas sesiones se desarrollarán en diferentes barrios y zonas de juegos de Irun con la dinamización recreativa de Hezten. \n\n\n\n \n\n\n\nEn función de la edad de los niños y niñas que acuden\, se forman dos grupos\, de forma que se realizan juegos con niños y niñas de 3 a 5 años y sus cuidadores/as\, combinando la transmisión lingüística en la familia y el tiempo libre. Con los niños/as de 6 a 9 años\, en cambio\, la actividad se realizará entre amigos en compañía de dos educadores/as. \n\n\n\n \n\n\n\nEl calendario de actividades y fechas es el siguiente: \n\n\n\n8\, 15\, 22 y 29 de Mayo (miércoles): \n\n\n\n– Parque Nagore Laffage (Si llueve\, se realiza en el Colegio Toki Alai\, Calle Alzukaitz) \n\n\n\n– Parque Partxis (Calle Olaketa) \n\n\n\n3\, 10\, 24 y 31 de Mayo (viernes): \n\n\n\n– Frontón cubierto de la plaza Arbium. \n\n\n\n– Plaza Almudena Grandes. (Si llueve\, la actividad se realizará en los arkupes del Ayuntamiento) \n\n\n\n \n\n\n\nTodas las actividades enmarcadas en Haurrak Parkean serán íntegramente en euskera. Desde el Área de Euskera quieren recordar que\, aunque el conocimiento del euskera no es imprescindible\, tanto madres y/o padres como hijas/os deberán comprometerse a mantener una actitud participativa durante la actividad al inscribirse.
URL:https://deplanesporlacomarca.com/agenda-evento/haurrak-parkean-mayo-2024-irun/2024-05-24/
LOCATION:Parque Nagore Laffage\, Juan Wolmer Plaza\, 1\, Irun\, Gipuzkoa\, España
ATTACH;FMTTYPE=image/jpeg:https://deplanesporlacomarca.com/wp-content/uploads/2024/05/haurrak_parkean_mayo_2024_irun.jpg
GEO:43.3383485;-1.7799394
X-APPLE-STRUCTURED-LOCATION;VALUE=URI;X-ADDRESS=Parque Nagore Laffage Juan Wolmer Plaza 1 Irun Gipuzkoa España;X-APPLE-RADIUS=500;X-TITLE=Juan Wolmer Plaza\, 1:geo:-1.7799394,43.3383485
END:VEVENT
BEGIN:VEVENT
DTSTART;TZID=Europe/Madrid:20240521T170000
DTEND;TZID=Europe/Madrid:20240521T190000
DTSTAMP:20260421T045046
CREATED:20240502T061102Z
LAST-MODIFIED:20240502T061106Z
UID:10035392-1716310800-1716318000@deplanesporlacomarca.com
SUMMARY:HAURRAK PARKEAN - MAYO 2024 (IRUN)
DESCRIPTION:El Ayuntamiento de Irun y Hezten han puesto en marcha la iniciativa Haurrak Parkean\, dirigida a aumentar el uso del euskera en la calle y el parque\, cuyas sesiones se desarrollarán en diferentes barrios y zonas de juegos de Irun con la dinamización recreativa de Hezten. \n\n\n\n \n\n\n\nEn función de la edad de los niños y niñas que acuden\, se forman dos grupos\, de forma que se realizan juegos con niños y niñas de 3 a 5 años y sus cuidadores/as\, combinando la transmisión lingüística en la familia y el tiempo libre. Con los niños/as de 6 a 9 años\, en cambio\, la actividad se realizará entre amigos en compañía de dos educadores/as. \n\n\n\n \n\n\n\nEl calendario de actividades y fechas es el siguiente: \n\n\n\n8\, 15\, 22 y 29 de Mayo (miércoles): \n\n\n\n– Parque Nagore Laffage (Si llueve\, se realiza en el Colegio Toki Alai\, Calle Alzukaitz) \n\n\n\n– Parque Partxis (Calle Olaketa) \n\n\n\n3\, 10\, 24 y 31 de Mayo (viernes): \n\n\n\n– Frontón cubierto de la plaza Arbium. \n\n\n\n– Plaza Almudena Grandes. (Si llueve\, la actividad se realizará en los arkupes del Ayuntamiento) \n\n\n\n \n\n\n\nTodas las actividades enmarcadas en Haurrak Parkean serán íntegramente en euskera. Desde el Área de Euskera quieren recordar que\, aunque el conocimiento del euskera no es imprescindible\, tanto madres y/o padres como hijas/os deberán comprometerse a mantener una actitud participativa durante la actividad al inscribirse.
URL:https://deplanesporlacomarca.com/agenda-evento/haurrak-parkean-mayo-2024-irun/2024-05-21/
LOCATION:Parque Nagore Laffage\, Juan Wolmer Plaza\, 1\, Irun\, Gipuzkoa\, España
ATTACH;FMTTYPE=image/jpeg:https://deplanesporlacomarca.com/wp-content/uploads/2024/05/haurrak_parkean_mayo_2024_irun.jpg
GEO:43.3383485;-1.7799394
X-APPLE-STRUCTURED-LOCATION;VALUE=URI;X-ADDRESS=Parque Nagore Laffage Juan Wolmer Plaza 1 Irun Gipuzkoa España;X-APPLE-RADIUS=500;X-TITLE=Juan Wolmer Plaza\, 1:geo:-1.7799394,43.3383485
END:VEVENT
BEGIN:VEVENT
DTSTART;TZID=Europe/Madrid:20240514T170000
DTEND;TZID=Europe/Madrid:20240514T190000
DTSTAMP:20260421T045046
CREATED:20240502T061102Z
LAST-MODIFIED:20240502T061106Z
UID:10035391-1715706000-1715713200@deplanesporlacomarca.com
SUMMARY:HAURRAK PARKEAN - MAYO 2024 (IRUN)
DESCRIPTION:El Ayuntamiento de Irun y Hezten han puesto en marcha la iniciativa Haurrak Parkean\, dirigida a aumentar el uso del euskera en la calle y el parque\, cuyas sesiones se desarrollarán en diferentes barrios y zonas de juegos de Irun con la dinamización recreativa de Hezten. \n\n\n\n \n\n\n\nEn función de la edad de los niños y niñas que acuden\, se forman dos grupos\, de forma que se realizan juegos con niños y niñas de 3 a 5 años y sus cuidadores/as\, combinando la transmisión lingüística en la familia y el tiempo libre. Con los niños/as de 6 a 9 años\, en cambio\, la actividad se realizará entre amigos en compañía de dos educadores/as. \n\n\n\n \n\n\n\nEl calendario de actividades y fechas es el siguiente: \n\n\n\n8\, 15\, 22 y 29 de Mayo (miércoles): \n\n\n\n– Parque Nagore Laffage (Si llueve\, se realiza en el Colegio Toki Alai\, Calle Alzukaitz) \n\n\n\n– Parque Partxis (Calle Olaketa) \n\n\n\n3\, 10\, 24 y 31 de Mayo (viernes): \n\n\n\n– Frontón cubierto de la plaza Arbium. \n\n\n\n– Plaza Almudena Grandes. (Si llueve\, la actividad se realizará en los arkupes del Ayuntamiento) \n\n\n\n \n\n\n\nTodas las actividades enmarcadas en Haurrak Parkean serán íntegramente en euskera. Desde el Área de Euskera quieren recordar que\, aunque el conocimiento del euskera no es imprescindible\, tanto madres y/o padres como hijas/os deberán comprometerse a mantener una actitud participativa durante la actividad al inscribirse.
URL:https://deplanesporlacomarca.com/agenda-evento/haurrak-parkean-mayo-2024-irun/2024-05-14/
LOCATION:Parque Nagore Laffage\, Juan Wolmer Plaza\, 1\, Irun\, Gipuzkoa\, España
ATTACH;FMTTYPE=image/jpeg:https://deplanesporlacomarca.com/wp-content/uploads/2024/05/haurrak_parkean_mayo_2024_irun.jpg
GEO:43.3383485;-1.7799394
X-APPLE-STRUCTURED-LOCATION;VALUE=URI;X-ADDRESS=Parque Nagore Laffage Juan Wolmer Plaza 1 Irun Gipuzkoa España;X-APPLE-RADIUS=500;X-TITLE=Juan Wolmer Plaza\, 1:geo:-1.7799394,43.3383485
END:VEVENT
BEGIN:VEVENT
DTSTART;TZID=Europe/Madrid:20240510T170000
DTEND;TZID=Europe/Madrid:20240510T190000
DTSTAMP:20260421T045046
CREATED:20240502T061102Z
LAST-MODIFIED:20240502T061106Z
UID:10035390-1715360400-1715367600@deplanesporlacomarca.com
SUMMARY:HAURRAK PARKEAN - MAYO 2024 (IRUN)
DESCRIPTION:El Ayuntamiento de Irun y Hezten han puesto en marcha la iniciativa Haurrak Parkean\, dirigida a aumentar el uso del euskera en la calle y el parque\, cuyas sesiones se desarrollarán en diferentes barrios y zonas de juegos de Irun con la dinamización recreativa de Hezten. \n\n\n\n \n\n\n\nEn función de la edad de los niños y niñas que acuden\, se forman dos grupos\, de forma que se realizan juegos con niños y niñas de 3 a 5 años y sus cuidadores/as\, combinando la transmisión lingüística en la familia y el tiempo libre. Con los niños/as de 6 a 9 años\, en cambio\, la actividad se realizará entre amigos en compañía de dos educadores/as. \n\n\n\n \n\n\n\nEl calendario de actividades y fechas es el siguiente: \n\n\n\n8\, 15\, 22 y 29 de Mayo (miércoles): \n\n\n\n– Parque Nagore Laffage (Si llueve\, se realiza en el Colegio Toki Alai\, Calle Alzukaitz) \n\n\n\n– Parque Partxis (Calle Olaketa) \n\n\n\n3\, 10\, 24 y 31 de Mayo (viernes): \n\n\n\n– Frontón cubierto de la plaza Arbium. \n\n\n\n– Plaza Almudena Grandes. (Si llueve\, la actividad se realizará en los arkupes del Ayuntamiento) \n\n\n\n \n\n\n\nTodas las actividades enmarcadas en Haurrak Parkean serán íntegramente en euskera. Desde el Área de Euskera quieren recordar que\, aunque el conocimiento del euskera no es imprescindible\, tanto madres y/o padres como hijas/os deberán comprometerse a mantener una actitud participativa durante la actividad al inscribirse.
URL:https://deplanesporlacomarca.com/agenda-evento/haurrak-parkean-mayo-2024-irun/2024-05-10/
LOCATION:Parque Nagore Laffage\, Juan Wolmer Plaza\, 1\, Irun\, Gipuzkoa\, España
ATTACH;FMTTYPE=image/jpeg:https://deplanesporlacomarca.com/wp-content/uploads/2024/05/haurrak_parkean_mayo_2024_irun.jpg
GEO:43.3383485;-1.7799394
X-APPLE-STRUCTURED-LOCATION;VALUE=URI;X-ADDRESS=Parque Nagore Laffage Juan Wolmer Plaza 1 Irun Gipuzkoa España;X-APPLE-RADIUS=500;X-TITLE=Juan Wolmer Plaza\, 1:geo:-1.7799394,43.3383485
END:VEVENT
BEGIN:VEVENT
DTSTART;TZID=Europe/Madrid:20240507T170000
DTEND;TZID=Europe/Madrid:20240507T190000
DTSTAMP:20260421T045046
CREATED:20240502T061102Z
LAST-MODIFIED:20240502T061106Z
UID:10035389-1715101200-1715108400@deplanesporlacomarca.com
SUMMARY:HAURRAK PARKEAN - MAYO 2024 (IRUN)
DESCRIPTION:El Ayuntamiento de Irun y Hezten han puesto en marcha la iniciativa Haurrak Parkean\, dirigida a aumentar el uso del euskera en la calle y el parque\, cuyas sesiones se desarrollarán en diferentes barrios y zonas de juegos de Irun con la dinamización recreativa de Hezten. \n\n\n\n \n\n\n\nEn función de la edad de los niños y niñas que acuden\, se forman dos grupos\, de forma que se realizan juegos con niños y niñas de 3 a 5 años y sus cuidadores/as\, combinando la transmisión lingüística en la familia y el tiempo libre. Con los niños/as de 6 a 9 años\, en cambio\, la actividad se realizará entre amigos en compañía de dos educadores/as. \n\n\n\n \n\n\n\nEl calendario de actividades y fechas es el siguiente: \n\n\n\n8\, 15\, 22 y 29 de Mayo (miércoles): \n\n\n\n– Parque Nagore Laffage (Si llueve\, se realiza en el Colegio Toki Alai\, Calle Alzukaitz) \n\n\n\n– Parque Partxis (Calle Olaketa) \n\n\n\n3\, 10\, 24 y 31 de Mayo (viernes): \n\n\n\n– Frontón cubierto de la plaza Arbium. \n\n\n\n– Plaza Almudena Grandes. (Si llueve\, la actividad se realizará en los arkupes del Ayuntamiento) \n\n\n\n \n\n\n\nTodas las actividades enmarcadas en Haurrak Parkean serán íntegramente en euskera. Desde el Área de Euskera quieren recordar que\, aunque el conocimiento del euskera no es imprescindible\, tanto madres y/o padres como hijas/os deberán comprometerse a mantener una actitud participativa durante la actividad al inscribirse.
URL:https://deplanesporlacomarca.com/agenda-evento/haurrak-parkean-mayo-2024-irun/2024-05-07/
LOCATION:Parque Nagore Laffage\, Juan Wolmer Plaza\, 1\, Irun\, Gipuzkoa\, España
ATTACH;FMTTYPE=image/jpeg:https://deplanesporlacomarca.com/wp-content/uploads/2024/05/haurrak_parkean_mayo_2024_irun.jpg
GEO:43.3383485;-1.7799394
X-APPLE-STRUCTURED-LOCATION;VALUE=URI;X-ADDRESS=Parque Nagore Laffage Juan Wolmer Plaza 1 Irun Gipuzkoa España;X-APPLE-RADIUS=500;X-TITLE=Juan Wolmer Plaza\, 1:geo:-1.7799394,43.3383485
END:VEVENT
BEGIN:VEVENT
DTSTART;TZID=Europe/Madrid:20240503T170000
DTEND;TZID=Europe/Madrid:20240503T190000
DTSTAMP:20260421T045046
CREATED:20240502T061102Z
LAST-MODIFIED:20240502T061106Z
UID:10035388-1714755600-1714762800@deplanesporlacomarca.com
SUMMARY:HAURRAK PARKEAN - MAYO 2024 (IRUN)
DESCRIPTION:El Ayuntamiento de Irun y Hezten han puesto en marcha la iniciativa Haurrak Parkean\, dirigida a aumentar el uso del euskera en la calle y el parque\, cuyas sesiones se desarrollarán en diferentes barrios y zonas de juegos de Irun con la dinamización recreativa de Hezten. \n\n\n\n \n\n\n\nEn función de la edad de los niños y niñas que acuden\, se forman dos grupos\, de forma que se realizan juegos con niños y niñas de 3 a 5 años y sus cuidadores/as\, combinando la transmisión lingüística en la familia y el tiempo libre. Con los niños/as de 6 a 9 años\, en cambio\, la actividad se realizará entre amigos en compañía de dos educadores/as. \n\n\n\n \n\n\n\nEl calendario de actividades y fechas es el siguiente: \n\n\n\n8\, 15\, 22 y 29 de Mayo (miércoles): \n\n\n\n– Parque Nagore Laffage (Si llueve\, se realiza en el Colegio Toki Alai\, Calle Alzukaitz) \n\n\n\n– Parque Partxis (Calle Olaketa) \n\n\n\n3\, 10\, 24 y 31 de Mayo (viernes): \n\n\n\n– Frontón cubierto de la plaza Arbium. \n\n\n\n– Plaza Almudena Grandes. (Si llueve\, la actividad se realizará en los arkupes del Ayuntamiento) \n\n\n\n \n\n\n\nTodas las actividades enmarcadas en Haurrak Parkean serán íntegramente en euskera. Desde el Área de Euskera quieren recordar que\, aunque el conocimiento del euskera no es imprescindible\, tanto madres y/o padres como hijas/os deberán comprometerse a mantener una actitud participativa durante la actividad al inscribirse.
URL:https://deplanesporlacomarca.com/agenda-evento/haurrak-parkean-mayo-2024-irun/2024-05-03/
LOCATION:Parque Nagore Laffage\, Juan Wolmer Plaza\, 1\, Irun\, Gipuzkoa\, España
ATTACH;FMTTYPE=image/jpeg:https://deplanesporlacomarca.com/wp-content/uploads/2024/05/haurrak_parkean_mayo_2024_irun.jpg
GEO:43.3383485;-1.7799394
X-APPLE-STRUCTURED-LOCATION;VALUE=URI;X-ADDRESS=Parque Nagore Laffage Juan Wolmer Plaza 1 Irun Gipuzkoa España;X-APPLE-RADIUS=500;X-TITLE=Juan Wolmer Plaza\, 1:geo:-1.7799394,43.3383485
END:VEVENT
END:VCALENDAR