BEGIN:VCALENDAR
VERSION:2.0
PRODID:-//De planes por la comarca - ECPv6.15.20//NONSGML v1.0//EN
CALSCALE:GREGORIAN
METHOD:PUBLISH
X-WR-CALNAME:De planes por la comarca
X-ORIGINAL-URL:https://deplanesporlacomarca.com
X-WR-CALDESC:Eventos para De planes por la comarca
REFRESH-INTERVAL;VALUE=DURATION:PT1H
X-Robots-Tag:noindex
X-PUBLISHED-TTL:PT1H
BEGIN:VTIMEZONE
TZID:Europe/Madrid
BEGIN:DAYLIGHT
TZOFFSETFROM:+0100
TZOFFSETTO:+0200
TZNAME:CEST
DTSTART:20230326T010000
END:DAYLIGHT
BEGIN:STANDARD
TZOFFSETFROM:+0200
TZOFFSETTO:+0100
TZNAME:CET
DTSTART:20231029T010000
END:STANDARD
BEGIN:DAYLIGHT
TZOFFSETFROM:+0100
TZOFFSETTO:+0200
TZNAME:CEST
DTSTART:20240331T010000
END:DAYLIGHT
BEGIN:STANDARD
TZOFFSETFROM:+0200
TZOFFSETTO:+0100
TZNAME:CET
DTSTART:20241027T010000
END:STANDARD
BEGIN:DAYLIGHT
TZOFFSETFROM:+0100
TZOFFSETTO:+0200
TZNAME:CEST
DTSTART:20250330T010000
END:DAYLIGHT
BEGIN:STANDARD
TZOFFSETFROM:+0200
TZOFFSETTO:+0100
TZNAME:CET
DTSTART:20251026T010000
END:STANDARD
BEGIN:DAYLIGHT
TZOFFSETFROM:+0100
TZOFFSETTO:+0200
TZNAME:CEST
DTSTART:20260329T010000
END:DAYLIGHT
BEGIN:STANDARD
TZOFFSETFROM:+0200
TZOFFSETTO:+0100
TZNAME:CET
DTSTART:20261025T010000
END:STANDARD
END:VTIMEZONE
BEGIN:VEVENT
DTSTART;TZID=Europe/Madrid:20250809T160000
DTEND;TZID=Europe/Madrid:20250809T160000
DTSTAMP:20260420T044234
CREATED:20250807T142407Z
LAST-MODIFIED:20250807T142411Z
UID:10039916-1754755200-1754755200@deplanesporlacomarca.com
SUMMARY:XIX. TRAVESÍA DE TXINGUDI (HONDARRIBIA)
DESCRIPTION:Nueva edición de la Travesía a nado del Txingudi que tiene lugar en Hondarribia\, a partir de las 16.00 horas y organizada por el Club Deportivo de Natación Bidasoa XXI. \n\n\n\n \n\n\n\nA las 16.00 horas se dará la salida a la categoría infantil en la playa\, junto al Paseo de Butrón. El recorrido para esta categoría será de 700 m. A las 16.30 horas se dará al prueba popular\, que es novedad este año\, con el mismo recorrido que el infantil. \n\n\n\n \n\n\n\nA las 17.00 horas\, tendrá lugar la prueba senior de 2.600 m. La salida se dará de la playa junto al Muelle del Kai-Zahar\, en el Paseo de Butrón. La entrega de chips se hará en ese punto. Durante los recorridos\, las boyas deberán estar en el lado izquierdo de los participantes. La última boya se dejará a la derecha. \n\n\n\n \n\n\n\nHabrá una clasificación general\, así como una individual por categoría y sexo. Trofeos para el vencedor de las pruebas en categoría masculina y femenina. Trofeos para los primeros clasificados por categoría y sexo.
URL:https://deplanesporlacomarca.com/agenda-evento/xix-travesia-de-txingudi-hondarribia/
LOCATION:Paseo Butron\, Butron Pasealekua Ibilbidea\, Hondarribia\, Gipuzkoa\, España
ATTACH;FMTTYPE=image/jpeg:https://deplanesporlacomarca.com/wp-content/uploads/2025/08/19_travesia_nado_txingudi_9_agosto_2025_hondarribia.jpg
GEO:43.3703143;-1.7930703
X-APPLE-STRUCTURED-LOCATION;VALUE=URI;X-ADDRESS=Paseo Butron Butron Pasealekua Ibilbidea Hondarribia Gipuzkoa España;X-APPLE-RADIUS=500;X-TITLE=Butron Pasealekua Ibilbidea:geo:-1.7930703,43.3703143
END:VEVENT
BEGIN:VEVENT
DTSTART;TZID=Europe/Madrid:20240915T110000
DTEND;TZID=Europe/Madrid:20240915T130000
DTSTAMP:20260420T044234
CREATED:20240904T131717Z
LAST-MODIFIED:20240904T131721Z
UID:10036631-1726398000-1726405200@deplanesporlacomarca.com
SUMMARY:LXXXIII USK-GARABATEANDO BIDASOA - 15 DE SEPTIEMBRE (HONDARRIBIA)
DESCRIPTION:Nuevo «Garabateando» del año que\, en esta ocasión se desarrolla en el Paseo Butrón en Hondarribia. \n\n\n\n \n\n\n\nEl plan comienza a las 11.00 horas y es gratuito y sin inscripción. \n\n\n\n \n\n\n\nNos apetece volver a pintar en una zona con mar y vistas tan especiales. \n\n\n\n \n\n\n\nAnimaros a participar con nosotros\, es una actividad abierta y todas las personas son bienvenidas\, sin tener en cuenta edad (los menores irán acompañados) o nivel\, solamente necesitas llevar tu propio material de dibujo y ganas de pasar un buen rato con gente apasionada del bello arte de dibujar. \n\n\n\n \n\n\n\nPunto de encuentro: Bar Uxoa. (En caso de mal tiempo estaremos en las cafeterías de la zona)
URL:https://deplanesporlacomarca.com/agenda-evento/lxxxiii-usk-garabateando-bidasoa-15-de-septiembre-hondarribia/
LOCATION:Paseo Butron\, Butron Pasealekua Ibilbidea\, Hondarribia\, Gipuzkoa\, España
ATTACH;FMTTYPE=image/jpeg:https://deplanesporlacomarca.com/wp-content/uploads/2024/09/lxxxiii_usk_garabateando_paseo_butron_15_septiembre_2024_irun.jpg
GEO:43.3703143;-1.7930703
X-APPLE-STRUCTURED-LOCATION;VALUE=URI;X-ADDRESS=Paseo Butron Butron Pasealekua Ibilbidea Hondarribia Gipuzkoa España;X-APPLE-RADIUS=500;X-TITLE=Butron Pasealekua Ibilbidea:geo:-1.7930703,43.3703143
END:VEVENT
BEGIN:VEVENT
DTSTART;TZID=Europe/Madrid:20240804T110000
DTEND;TZID=Europe/Madrid:20240804T110000
DTSTAMP:20260420T044234
CREATED:20240731T064556Z
LAST-MODIFIED:20240731T064600Z
UID:10036413-1722769200-1722769200@deplanesporlacomarca.com
SUMMARY:XVII. TRAVESÍA DE TXINGUDI (HONDARRIBIA)
DESCRIPTION:Nueva edición de la Travesía a nado del Txingudi que tiene lugar en Hondarribia\, a partir de las 11.00 horas y organizada por el Club Deportivo de Natación Bidasoa XXI. \n\n\n\n \n\n\n\n\n\n\n\n \n\n\n\nA las 11.00 horas se dará la salida a la categoría infantil en la playa\, junto al Paseo de Butrón. El recorrido para esta categoría será de 700 m. A las 11.30 horas se dará la salida a las categorías absolutas. El recorrido para estas categorías será de 2600 m.  \n\n\n\n \n\n\n\nLa salida se dará de la playa junto al Muelle del Kai-Zahar\, en el Paseo de Butrón. La entrega de chips se hará en ese punto. Durante los recorridos\, las boyas deberán estar en el lado izquierdo de los participantes. La última boya se dejará a la derecha. \n\n\n\n \n\n\n\nHabrá una clasificación general\, así como una individual por categoría y sexo. Trofeos para el vencedor de las pruebas en categoría masculina y femenina. Trofeos para los primeros clasificados por categoría y sexo. La entrega de trofeos se hará alrededor de las 13.00 horas en el Paseo Marítimo frente al parking de la playa.
URL:https://deplanesporlacomarca.com/agenda-evento/xvii-travesia-de-txingudi-hondarribia/
LOCATION:Paseo Butron\, Butron Pasealekua Ibilbidea\, Hondarribia\, Gipuzkoa\, España
ATTACH;FMTTYPE=image/jpeg:https://deplanesporlacomarca.com/wp-content/uploads/2024/07/18_travesia_nado_txingudi_4_agosto_2024_hondarribia.jpg
GEO:43.3703143;-1.7930703
X-APPLE-STRUCTURED-LOCATION;VALUE=URI;X-ADDRESS=Paseo Butron Butron Pasealekua Ibilbidea Hondarribia Gipuzkoa España;X-APPLE-RADIUS=500;X-TITLE=Butron Pasealekua Ibilbidea:geo:-1.7930703,43.3703143
END:VEVENT
END:VCALENDAR