BEGIN:VCALENDAR
VERSION:2.0
PRODID:-//De planes por la comarca - ECPv6.15.20//NONSGML v1.0//EN
CALSCALE:GREGORIAN
METHOD:PUBLISH
X-ORIGINAL-URL:https://deplanesporlacomarca.com
X-WR-CALDESC:Eventos para De planes por la comarca
REFRESH-INTERVAL;VALUE=DURATION:PT1H
X-Robots-Tag:noindex
X-PUBLISHED-TTL:PT1H
BEGIN:VTIMEZONE
TZID:Europe/Madrid
BEGIN:DAYLIGHT
TZOFFSETFROM:+0100
TZOFFSETTO:+0200
TZNAME:CEST
DTSTART:20230326T010000
END:DAYLIGHT
BEGIN:STANDARD
TZOFFSETFROM:+0200
TZOFFSETTO:+0100
TZNAME:CET
DTSTART:20231029T010000
END:STANDARD
BEGIN:DAYLIGHT
TZOFFSETFROM:+0100
TZOFFSETTO:+0200
TZNAME:CEST
DTSTART:20240331T010000
END:DAYLIGHT
BEGIN:STANDARD
TZOFFSETFROM:+0200
TZOFFSETTO:+0100
TZNAME:CET
DTSTART:20241027T010000
END:STANDARD
BEGIN:DAYLIGHT
TZOFFSETFROM:+0100
TZOFFSETTO:+0200
TZNAME:CEST
DTSTART:20250330T010000
END:DAYLIGHT
BEGIN:STANDARD
TZOFFSETFROM:+0200
TZOFFSETTO:+0100
TZNAME:CET
DTSTART:20251026T010000
END:STANDARD
BEGIN:DAYLIGHT
TZOFFSETFROM:+0100
TZOFFSETTO:+0200
TZNAME:CEST
DTSTART:20260329T010000
END:DAYLIGHT
BEGIN:STANDARD
TZOFFSETFROM:+0200
TZOFFSETTO:+0100
TZNAME:CET
DTSTART:20261025T010000
END:STANDARD
END:VTIMEZONE
BEGIN:VEVENT
DTSTART;TZID=Europe/Madrid:20250809T093000
DTEND;TZID=Europe/Madrid:20250809T230000
DTSTAMP:20260420T014845
CREATED:20250807T161722Z
LAST-MODIFIED:20250807T161726Z
UID:10039932-1754731800-1754780400@deplanesporlacomarca.com
SUMMARY:FÊTE BASQUE - HIRI BESTA 2025 (HENDAYE)
DESCRIPTION:Como es habitual por estas fechas\, llega a Hendaye la «Fête Basque» o fiesta vasca que transcurre durante tres días en Hendaya y este es el programa previsto para cada día: \n\n\n\n \n\n\n\nDía 8 de Agosto (viernes): \n\n\n\n– 14.30 horas: Bienvenida\, animación musical (grupo Lokarri) y merienda para mayores de 60 años\, ofrecida por el CCAS en Halles de Gaztelu. Reservas en el 05 59 48 23 10\, antes del 5 de agosto.Hay transporte disponible previa solicitud. \n\n\n\n– 18.30 horas: Carreras «Hiri Besta». Carreras de 5 y 10 kilómetros. Salidas y llegadas frente al ayuntamiento. \n\n\n\n– 19.00 – 20.00 horas: Desfile de Zarpai Banda por las calles del centro de la ciudad. \n\n\n\n– 20.00 horas: Apertura oficial de las fiestas desde el balcón del ayuntamiento y ceremonia de entrega de premios de las carreras. \n\n\n\n– 20.30 horas: Animación por las calles del centro\, con Zarpai Banda\, Baiona Banda y «la banda des Gênets».  \n\n\n\n– 22.00 horas: Concierto con Andoni Oilokiegi\, en la Plaza de la República. \n\n\n\n– 23.30 horas: DJ Bull\, en la Plaza de la República. \n\n\n\n \n\n\n\nDía 9 de Agosto (sábado): \n\n\n\n– 09.30 – 13.00 horas: «El lugar de l@s niñ@s» en la Plaza de la República y Rue du Port.: maquillajes\, juegos vascos\, marionetas\, «Euskal Parkea»\, … \n\n\n\n– 10.30 horas: Concierto de «Zarpai Berriak» en la Plaza de la República. \n\n\n\n– 11.00 horas: Reparto de pañuelos de fiestas a l@s niñ@s nacid@s desde la última fiesta vasca. (inscripción en Halles de Gaztelu) \n\n\n\n– 11.30 horas: Carreras «Hiri Besta». Carreras para niñ@s. Salida desde Halles de Gaztelu. \n\n\n\n– 15.00 horas: Final del torneo de pala. Frontón Daniel Ugarte. \n\n\n\n– 16.00 horas: Regata «Trophée de la Ville d’Hendaye». \n\n\n\n– 18.00 horas: Encierro txiki\, organizado por la asociación Zarpai Banda\, por el centro de la ciudad. \n\n\n\n– 18.00 horas: Sardinada en Caneta. \n\n\n\n– 18.15 horas: Bailes vascos y mutxiko con Hendaiako Mutxiko Elkartea en la Plaza de la República. \n\n\n\n– 19.15 horas: «Hendaian Kantuz»\, canciones populares. \n\n\n\n– 22.00 horas: Concierto con «Foisis». \n\n\n\n \n\n\n\nDía 10 de Agosto (domingo): \n\n\n\n– 10.00 horas: Misa con la participación de «L´Harmonie» en la Iglesia de San Vicente. \n\n\n\n– 10.30 horas: Partido de pelota en el Frontón Gaztelu-Zahar. \n\n\n\n– 11.00 – 15.00 horas: Exposición de las carrozas en el parking del Frontón Gaztelu Zahar (está prohibido montarse en ellas) \n\n\n\n– 11.30 horas: Presentación de pequeñas parejas vascas en la Plaza de la República\, animada por los Dultzaineros Jostallu. \n\n\n\n– 16.30 horas: Salida del desfile de carrozas y bandas. Explanada de la estación. Llegada en el Stade Ondarraitz. \n\n\n\n– 19.00 horas: bar en el Stade Ondarraitz. \n\n\n\n– 20.00 horas: «Mutxiko» propuesto por el grupo Hendaiako Mutxiko Elkartea. \n\n\n\n– 21.30 horas: Concierto a cargo del grupo «Kilimak». \n\n\n\n– 23.00 horas: Fuegos artificiales\, a cargo de la pirotecnia Caballer de Valencia (España). \n\n\n\n– 23.20 horas: Baile\, animado por el grupo ADN.
URL:https://deplanesporlacomarca.com/agenda-evento/fete-basque-hiri-besta-2025-hendaye/2025-08-09/
LOCATION:Place de la République\, Place de la République\, Hendaye\, Francia
ATTACH;FMTTYPE=image/jpeg:https://deplanesporlacomarca.com/wp-content/uploads/2025/08/fete_basque_euskal_besta_2025_aout_abuztua_hendaye_hendaia.jpg
GEO:43.3582972;-1.77477
X-APPLE-STRUCTURED-LOCATION;VALUE=URI;X-ADDRESS=Place de la République Place de la République Hendaye Francia;X-APPLE-RADIUS=500;X-TITLE=Place de la République:geo:-1.77477,43.3582972
END:VEVENT
BEGIN:VEVENT
DTSTART;TZID=Europe/Madrid:20250808T143000
DTEND;TZID=Europe/Madrid:20250808T235900
DTSTAMP:20260420T014845
CREATED:20250807T161722Z
LAST-MODIFIED:20250807T161726Z
UID:10039931-1754663400-1754697540@deplanesporlacomarca.com
SUMMARY:FÊTE BASQUE - HIRI BESTA 2025 (HENDAYE)
DESCRIPTION:Como es habitual por estas fechas\, llega a Hendaye la «Fête Basque» o fiesta vasca que transcurre durante tres días en Hendaya y este es el programa previsto para cada día: \n\n\n\n \n\n\n\nDía 8 de Agosto (viernes): \n\n\n\n– 14.30 horas: Bienvenida\, animación musical (grupo Lokarri) y merienda para mayores de 60 años\, ofrecida por el CCAS en Halles de Gaztelu. Reservas en el 05 59 48 23 10\, antes del 5 de agosto.Hay transporte disponible previa solicitud. \n\n\n\n– 18.30 horas: Carreras «Hiri Besta». Carreras de 5 y 10 kilómetros. Salidas y llegadas frente al ayuntamiento. \n\n\n\n– 19.00 – 20.00 horas: Desfile de Zarpai Banda por las calles del centro de la ciudad. \n\n\n\n– 20.00 horas: Apertura oficial de las fiestas desde el balcón del ayuntamiento y ceremonia de entrega de premios de las carreras. \n\n\n\n– 20.30 horas: Animación por las calles del centro\, con Zarpai Banda\, Baiona Banda y «la banda des Gênets».  \n\n\n\n– 22.00 horas: Concierto con Andoni Oilokiegi\, en la Plaza de la República. \n\n\n\n– 23.30 horas: DJ Bull\, en la Plaza de la República. \n\n\n\n \n\n\n\nDía 9 de Agosto (sábado): \n\n\n\n– 09.30 – 13.00 horas: «El lugar de l@s niñ@s» en la Plaza de la República y Rue du Port.: maquillajes\, juegos vascos\, marionetas\, «Euskal Parkea»\, … \n\n\n\n– 10.30 horas: Concierto de «Zarpai Berriak» en la Plaza de la República. \n\n\n\n– 11.00 horas: Reparto de pañuelos de fiestas a l@s niñ@s nacid@s desde la última fiesta vasca. (inscripción en Halles de Gaztelu) \n\n\n\n– 11.30 horas: Carreras «Hiri Besta». Carreras para niñ@s. Salida desde Halles de Gaztelu. \n\n\n\n– 15.00 horas: Final del torneo de pala. Frontón Daniel Ugarte. \n\n\n\n– 16.00 horas: Regata «Trophée de la Ville d’Hendaye». \n\n\n\n– 18.00 horas: Encierro txiki\, organizado por la asociación Zarpai Banda\, por el centro de la ciudad. \n\n\n\n– 18.00 horas: Sardinada en Caneta. \n\n\n\n– 18.15 horas: Bailes vascos y mutxiko con Hendaiako Mutxiko Elkartea en la Plaza de la República. \n\n\n\n– 19.15 horas: «Hendaian Kantuz»\, canciones populares. \n\n\n\n– 22.00 horas: Concierto con «Foisis». \n\n\n\n \n\n\n\nDía 10 de Agosto (domingo): \n\n\n\n– 10.00 horas: Misa con la participación de «L´Harmonie» en la Iglesia de San Vicente. \n\n\n\n– 10.30 horas: Partido de pelota en el Frontón Gaztelu-Zahar. \n\n\n\n– 11.00 – 15.00 horas: Exposición de las carrozas en el parking del Frontón Gaztelu Zahar (está prohibido montarse en ellas) \n\n\n\n– 11.30 horas: Presentación de pequeñas parejas vascas en la Plaza de la República\, animada por los Dultzaineros Jostallu. \n\n\n\n– 16.30 horas: Salida del desfile de carrozas y bandas. Explanada de la estación. Llegada en el Stade Ondarraitz. \n\n\n\n– 19.00 horas: bar en el Stade Ondarraitz. \n\n\n\n– 20.00 horas: «Mutxiko» propuesto por el grupo Hendaiako Mutxiko Elkartea. \n\n\n\n– 21.30 horas: Concierto a cargo del grupo «Kilimak». \n\n\n\n– 23.00 horas: Fuegos artificiales\, a cargo de la pirotecnia Caballer de Valencia (España). \n\n\n\n– 23.20 horas: Baile\, animado por el grupo ADN.
URL:https://deplanesporlacomarca.com/agenda-evento/fete-basque-hiri-besta-2025-hendaye/2025-08-08/
LOCATION:Place de la République\, Place de la République\, Hendaye\, Francia
ATTACH;FMTTYPE=image/jpeg:https://deplanesporlacomarca.com/wp-content/uploads/2025/08/fete_basque_euskal_besta_2025_aout_abuztua_hendaye_hendaia.jpg
GEO:43.3582972;-1.77477
X-APPLE-STRUCTURED-LOCATION;VALUE=URI;X-ADDRESS=Place de la République Place de la République Hendaye Francia;X-APPLE-RADIUS=500;X-TITLE=Place de la République:geo:-1.77477,43.3582972
END:VEVENT
BEGIN:VEVENT
DTSTART;TZID=Europe/Madrid:20250531T180000
DTEND;TZID=Europe/Madrid:20250531T180000
DTSTAMP:20260420T014845
CREATED:20250507T131741Z
LAST-MODIFIED:20250507T131745Z
UID:10039477-1748714400-1748714400@deplanesporlacomarca.com
SUMMARY:SAGARNO EGUNA 2025 - JOURNÉE DU CIDRE (HENDAYA)
DESCRIPTION:Nueva edición del «Sagarno Eguna» en Hendaya\, a partir de las 18.00 horas en la Place de la République. \n\n\n\n \n\n\n\nDegustación de sidra\, talos y pintxos.
URL:https://deplanesporlacomarca.com/agenda-evento/sagarno-eguna-2025-journee-du-cidre-hendaya/
LOCATION:Place de la République\, Place de la République\, Hendaye\, Francia
ATTACH;FMTTYPE=image/jpeg:https://deplanesporlacomarca.com/wp-content/uploads/2025/05/sagarno_eguna_2025_hendaya_hendaia.jpg
GEO:43.3582972;-1.77477
X-APPLE-STRUCTURED-LOCATION;VALUE=URI;X-ADDRESS=Place de la République Place de la République Hendaye Francia;X-APPLE-RADIUS=500;X-TITLE=Place de la République:geo:-1.77477,43.3582972
END:VEVENT
BEGIN:VEVENT
DTSTART;TZID=Europe/Madrid:20250510T090000
DTEND;TZID=Europe/Madrid:20250510T220000
DTSTAMP:20260420T014845
CREATED:20250428T141458Z
LAST-MODIFIED:20250507T154636Z
UID:10039333-1746867600-1746914400@deplanesporlacomarca.com
SUMMARY:INAUGURATION DE LA PLACE DE LA RÉPUBLIQUE (HENDAYE)
DESCRIPTION:Con motivo de la apertura de la Place de la République en Hendaye\, se han preparado diferentes actividades durante los días 9 y 10 de mayo: \n\n\n\n \n\n\n\nViernes\, 9 de Mayo: \n\n\n\n– 17.00 horas: Paseo para presentar las novedades. \n\n\n\n– 18.00 horas: Inauguración oficial. \n\n\n\n– 18.30 horas: Foto de recuerdo para el público en general. \n\n\n\n– 18.45 horas: Pintxo pote animado por Zarpai Banda. \n\n\n\n– 20.30 horas: Concierto del grupo «Alma flamenca». \n\n\n\n– 21.30 horas: Iluminación de la plaza\, acompañada por el coro «Gaztelu Zahar». \n\n\n\n– 22.00 horas: Toro de fuego. \n\n\n\n \n\n\n\n \n\n\n\nSábado\, 10 de Mayo: \n\n\n\n– 09.00 – 17.00 horas: Mercado de ropa. \n\n\n\n– 10.00 – 13.00 horas: Animaciones para los niños: juegos hinchables\, taller creativos\, maquillaje\, stand para descubrir a Maurice Ravel\, animación musical y juegos de madera con la libreria «La Grande Illusion«. \n\n\n\n– 11.30 horas: Concierto de la Orchestre d’Harmonie d’Hendaye. \n\n\n\n– Desde las 14.00 horas: Exposición «Place aux peintres». Animaciones de pintura propuestas por O’Carré des arts.  \n\n\n\n– 18.30 horas: Mutxiko con la asociación Mutxiko Elkartea. \n\n\n\n– 20.00 horas: «Place aux gourmands»\, con la música de DJ Anton y la comida propuesta por los restaurantes (Amona – Bidaia Burger – Bidassoa Jatetxea – L’Apostrophe – La table du 26 – Ttiki).
URL:https://deplanesporlacomarca.com/agenda-evento/inauguration-de-la-place-de-la-republique-hendaye/2025-05-10/
LOCATION:Place de la République\, Place de la République\, Hendaye\, Francia
GEO:43.3582972;-1.77477
X-APPLE-STRUCTURED-LOCATION;VALUE=URI;X-ADDRESS=Place de la République Place de la République Hendaye Francia;X-APPLE-RADIUS=500;X-TITLE=Place de la République:geo:-1.77477,43.3582972
END:VEVENT
BEGIN:VEVENT
DTSTART;TZID=Europe/Madrid:20250509T170000
DTEND;TZID=Europe/Madrid:20250509T230000
DTSTAMP:20260420T014845
CREATED:20250428T141458Z
LAST-MODIFIED:20250507T154636Z
UID:10039499-1746810000-1746831600@deplanesporlacomarca.com
SUMMARY:INAUGURATION DE LA PLACE DE LA RÉPUBLIQUE (HENDAYE)
DESCRIPTION:Con motivo de la apertura de la Place de la République en Hendaye\, se han preparado diferentes actividades durante los días 9 y 10 de mayo: \n\n\n\n \n\n\n\nViernes\, 9 de Mayo: \n\n\n\n– 17.00 horas: Paseo para presentar las novedades. \n\n\n\n– 18.00 horas: Inauguración oficial. \n\n\n\n– 18.30 horas: Foto de recuerdo para el público en general. \n\n\n\n– 18.45 horas: Pintxo pote animado por Zarpai Banda. \n\n\n\n– 20.30 horas: Concierto del grupo «Alma flamenca». \n\n\n\n– 21.30 horas: Iluminación de la plaza\, acompañada por el coro «Gaztelu Zahar». \n\n\n\n– 22.00 horas: Toro de fuego. \n\n\n\n \n\n\n\n \n\n\n\nSábado\, 10 de Mayo: \n\n\n\n– 09.00 – 17.00 horas: Mercado de ropa. \n\n\n\n– 10.00 – 13.00 horas: Animaciones para los niños: juegos hinchables\, taller creativos\, maquillaje\, stand para descubrir a Maurice Ravel\, animación musical y juegos de madera con la libreria «La Grande Illusion«. \n\n\n\n– 11.30 horas: Concierto de la Orchestre d’Harmonie d’Hendaye. \n\n\n\n– Desde las 14.00 horas: Exposición «Place aux peintres». Animaciones de pintura propuestas por O’Carré des arts.  \n\n\n\n– 18.30 horas: Mutxiko con la asociación Mutxiko Elkartea. \n\n\n\n– 20.00 horas: «Place aux gourmands»\, con la música de DJ Anton y la comida propuesta por los restaurantes (Amona – Bidaia Burger – Bidassoa Jatetxea – L’Apostrophe – La table du 26 – Ttiki).
URL:https://deplanesporlacomarca.com/agenda-evento/inauguration-de-la-place-de-la-republique-hendaye/2025-05-09/
LOCATION:Place de la République\, Place de la République\, Hendaye\, Francia
GEO:43.3582972;-1.77477
X-APPLE-STRUCTURED-LOCATION;VALUE=URI;X-ADDRESS=Place de la République Place de la République Hendaye Francia;X-APPLE-RADIUS=500;X-TITLE=Place de la République:geo:-1.77477,43.3582972
END:VEVENT
BEGIN:VEVENT
DTSTART;TZID=Europe/Madrid:20250308T140000
DTEND;TZID=Europe/Madrid:20250308T233000
DTSTAMP:20260420T014845
CREATED:20250207T162934Z
LAST-MODIFIED:20250207T162937Z
UID:10038437-1741442400-1741476600@deplanesporlacomarca.com
SUMMARY:CARNAVALES 2025 - IHAUTERIAK (HENDAYE)
DESCRIPTION:En Hendaya se celebran los carnavales y este es el plan previsto: \n\n\n\n \n\n\n\n– 14.00 – 16.00 horas: en la explanada de «Halles de Gaztelu»\, animaciones diversas para los niños (juegos de madera\, talleres creativos\, maquillajes\, peinados floridos\, máscara decorativa\, taller pastelería\, dibujo\, música\, merienda). Gratuito. \n\n\n\n– 16.00 horas: En el Frontón Gaztelu-Zahar\, reunión de los grupos\, asociaciones y bandas: Akelarre\, Muthiko Alaiak\, Mutxiko Elkartea\, Patxaranga\, Zarpai Banda\, las marionetas gigantes de Cie. Kilika\,… y comienzo del desfile por las calles del centro de la ciudad. \n\n\n\n– 18.15 horas: En Halles de Gaztelu\, juicio y quema del San Pantzar. \n\n\n\n– 19.00 horas: en «Halles de Gaztelu»: animación musical con DJ Track-A. \n\n\n\n– 20.30 horas: Concierto con el grupo Bacano Banda “cumbia/swing/pachang”. \n\n\n\n– 22.20 horas: Concierto del grupo Bushido.
URL:https://deplanesporlacomarca.com/agenda-evento/carnavales-2025-ihauteriak-hendaye/
LOCATION:Place de la République\, Place de la République\, Hendaye\, Francia
ATTACH;FMTTYPE=image/jpeg:https://deplanesporlacomarca.com/wp-content/uploads/2025/02/carnavales_2025_ihauteriak_hendaya_hendaye.jpg
GEO:43.3582972;-1.77477
X-APPLE-STRUCTURED-LOCATION;VALUE=URI;X-ADDRESS=Place de la République Place de la République Hendaye Francia;X-APPLE-RADIUS=500;X-TITLE=Place de la République:geo:-1.77477,43.3582972
END:VEVENT
BEGIN:VEVENT
DTSTART;TZID=Europe/Madrid:20241224T190000
DTEND;TZID=Europe/Madrid:20241224T190000
DTSTAMP:20260420T014845
CREATED:20241204T165121Z
LAST-MODIFIED:20241204T165125Z
UID:10037595-1735066800-1735066800@deplanesporlacomarca.com
SUMMARY:NOËL À HENDAYE 2024 - OLENTZERO (HENDAYA)
DESCRIPTION:Olentzero visita\, tanto a niños como a mayores. \n\n\n\n \n\n\n\nA partir de las 19.00 horas en la Plaza de la República de Hendaya. \n\n\n\n \n\n\n\nOrganiza: Asociación Akelarre.
URL:https://deplanesporlacomarca.com/agenda-evento/noel-a-hendaye-2024-olentzero-hendaya/
LOCATION:Place de la République\, Place de la République\, Hendaye\, Francia
ATTACH;FMTTYPE=image/jpeg:https://deplanesporlacomarca.com/wp-content/uploads/2024/12/hendaye_en_fete_hendaia_bestan_navidad_2024_hendaya.jpg
GEO:43.3582972;-1.77477
X-APPLE-STRUCTURED-LOCATION;VALUE=URI;X-ADDRESS=Place de la République Place de la République Hendaye Francia;X-APPLE-RADIUS=500;X-TITLE=Place de la République:geo:-1.77477,43.3582972
END:VEVENT
BEGIN:VEVENT
DTSTART;TZID=Europe/Madrid:20241129T180000
DTEND;TZID=Europe/Madrid:20241129T180000
DTSTAMP:20260420T014845
CREATED:20241127T170714Z
LAST-MODIFIED:20241127T170718Z
UID:10037420-1732903200-1732903200@deplanesporlacomarca.com
SUMMARY:ENCENDIDO DEL ALUMBRADO NAVIDEÑO 2024 (HENDAYE)
DESCRIPTION:Encendido del alumbrado navideño desde la Place de la République de Hendaye\, a partir de las 18.00 horas.
URL:https://deplanesporlacomarca.com/agenda-evento/encendido-del-alumbrado-navideno-2024-hendaye/
LOCATION:Place de la République\, Place de la République\, Hendaye\, Francia
ATTACH;FMTTYPE=image/jpeg:https://deplanesporlacomarca.com/wp-content/uploads/2022/12/de-planes-por-la-comarca-hendaya-francia-bidasoa-txingudi-detxokos-147.jpg
GEO:43.3582972;-1.77477
X-APPLE-STRUCTURED-LOCATION;VALUE=URI;X-ADDRESS=Place de la République Place de la République Hendaye Francia;X-APPLE-RADIUS=500;X-TITLE=Place de la République:geo:-1.77477,43.3582972
END:VEVENT
BEGIN:VEVENT
DTSTART;TZID=Europe/Madrid:20240829T203000
DTEND;TZID=Europe/Madrid:20240829T220000
DTSTAMP:20260420T014845
CREATED:20240704T080742Z
LAST-MODIFIED:20240704T080746Z
UID:10036061-1724963400-1724968800@deplanesporlacomarca.com
SUMMARY:JEUDI´NE EN VILLE 2024 - CONCIERTOS (HENDAYA)
DESCRIPTION:Las cafeterías y restaurantes de la Plaza de la República en Hendaya presentan cada jueves y\, como cada verano\, «Jeudi´ne en Ville» una serie de conciertos para que disfrutes\, mientras te tomas algo. \n\n\n\n \n\n\n\nEl plan es gratuito y comienza a las 20.30 horas.
URL:https://deplanesporlacomarca.com/agenda-evento/jeudine-en-ville-2024-conciertos-hendaya/2024-08-29/
LOCATION:Place de la République\, Place de la République\, Hendaye\, Francia
ATTACH;FMTTYPE=image/jpeg:https://deplanesporlacomarca.com/wp-content/uploads/2024/07/jeudi_ne_en_ville_2024_conciertos_hendaye_hendaya_.jpg
GEO:43.3582972;-1.77477
X-APPLE-STRUCTURED-LOCATION;VALUE=URI;X-ADDRESS=Place de la République Place de la République Hendaye Francia;X-APPLE-RADIUS=500;X-TITLE=Place de la République:geo:-1.77477,43.3582972
END:VEVENT
BEGIN:VEVENT
DTSTART;TZID=Europe/Madrid:20240822T203000
DTEND;TZID=Europe/Madrid:20240822T220000
DTSTAMP:20260420T014845
CREATED:20240704T080742Z
LAST-MODIFIED:20240704T080746Z
UID:10036060-1724358600-1724364000@deplanesporlacomarca.com
SUMMARY:JEUDI´NE EN VILLE 2024 - CONCIERTOS (HENDAYA)
DESCRIPTION:Las cafeterías y restaurantes de la Plaza de la República en Hendaya presentan cada jueves y\, como cada verano\, «Jeudi´ne en Ville» una serie de conciertos para que disfrutes\, mientras te tomas algo. \n\n\n\n \n\n\n\nEl plan es gratuito y comienza a las 20.30 horas.
URL:https://deplanesporlacomarca.com/agenda-evento/jeudine-en-ville-2024-conciertos-hendaya/2024-08-22/
LOCATION:Place de la République\, Place de la République\, Hendaye\, Francia
ATTACH;FMTTYPE=image/jpeg:https://deplanesporlacomarca.com/wp-content/uploads/2024/07/jeudi_ne_en_ville_2024_conciertos_hendaye_hendaya_.jpg
GEO:43.3582972;-1.77477
X-APPLE-STRUCTURED-LOCATION;VALUE=URI;X-ADDRESS=Place de la République Place de la République Hendaye Francia;X-APPLE-RADIUS=500;X-TITLE=Place de la République:geo:-1.77477,43.3582972
END:VEVENT
BEGIN:VEVENT
DTSTART;TZID=Europe/Madrid:20240815T203000
DTEND;TZID=Europe/Madrid:20240815T220000
DTSTAMP:20260420T014845
CREATED:20240704T080742Z
LAST-MODIFIED:20240704T080746Z
UID:10036059-1723753800-1723759200@deplanesporlacomarca.com
SUMMARY:JEUDI´NE EN VILLE 2024 - CONCIERTOS (HENDAYA)
DESCRIPTION:Las cafeterías y restaurantes de la Plaza de la República en Hendaya presentan cada jueves y\, como cada verano\, «Jeudi´ne en Ville» una serie de conciertos para que disfrutes\, mientras te tomas algo. \n\n\n\n \n\n\n\nEl plan es gratuito y comienza a las 20.30 horas.
URL:https://deplanesporlacomarca.com/agenda-evento/jeudine-en-ville-2024-conciertos-hendaya/2024-08-15/
LOCATION:Place de la République\, Place de la République\, Hendaye\, Francia
ATTACH;FMTTYPE=image/jpeg:https://deplanesporlacomarca.com/wp-content/uploads/2024/07/jeudi_ne_en_ville_2024_conciertos_hendaye_hendaya_.jpg
GEO:43.3582972;-1.77477
X-APPLE-STRUCTURED-LOCATION;VALUE=URI;X-ADDRESS=Place de la République Place de la République Hendaye Francia;X-APPLE-RADIUS=500;X-TITLE=Place de la République:geo:-1.77477,43.3582972
END:VEVENT
BEGIN:VEVENT
DTSTART;TZID=Europe/Madrid:20240808T090000
DTEND;TZID=Europe/Madrid:20240808T183000
DTSTAMP:20260420T014845
CREATED:20240806T170535Z
LAST-MODIFIED:20240806T170540Z
UID:10036476-1723107600-1723141800@deplanesporlacomarca.com
SUMMARY:BRADERIE DU CENTRE VILLE - 8 AGOSTO 2024 (HENDAYE)
DESCRIPTION:Los comerciantes de Hendaya y otros expositores participan en la octava edición del «Braderie du Centre Ville«\, organizada por Hendaye Commerce y que tiene lugar en la Place de la République de Hendaya\, desde las 09.00 horas. \n\n\n\n \n\n\n\nMás de una veintena de expositores te ofrecen multitud de productos y te permiten hacer tus compras en los últimos días de las rebajas del verano. Joyería\, artesanía\, pintura\, textil\, artículos de playa\, zapatillas\, complementos\, artículos de decoración\,… \n\n\n\n \n\n\n\nY a partir de las 10.30 horas\, tiene lugar el espectáculo de Urban Groove Band.
URL:https://deplanesporlacomarca.com/agenda-evento/braderie-du-centre-ville-8-agosto-2024-hendaye/
LOCATION:Place de la République\, Place de la République\, Hendaye\, Francia
ATTACH;FMTTYPE=image/jpeg:https://deplanesporlacomarca.com/wp-content/uploads/2024/08/braderie_du_centre_ville_agosto_2024_hendaye_hendaya.jpg
GEO:43.3582972;-1.77477
X-APPLE-STRUCTURED-LOCATION;VALUE=URI;X-ADDRESS=Place de la République Place de la République Hendaye Francia;X-APPLE-RADIUS=500;X-TITLE=Place de la République:geo:-1.77477,43.3582972
END:VEVENT
BEGIN:VEVENT
DTSTART;TZID=Europe/Madrid:20240801T203000
DTEND;TZID=Europe/Madrid:20240801T220000
DTSTAMP:20260420T014845
CREATED:20240704T080742Z
LAST-MODIFIED:20240704T080746Z
UID:10036058-1722544200-1722549600@deplanesporlacomarca.com
SUMMARY:JEUDI´NE EN VILLE 2024 - CONCIERTOS (HENDAYA)
DESCRIPTION:Las cafeterías y restaurantes de la Plaza de la República en Hendaya presentan cada jueves y\, como cada verano\, «Jeudi´ne en Ville» una serie de conciertos para que disfrutes\, mientras te tomas algo. \n\n\n\n \n\n\n\nEl plan es gratuito y comienza a las 20.30 horas.
URL:https://deplanesporlacomarca.com/agenda-evento/jeudine-en-ville-2024-conciertos-hendaya/2024-08-01/
LOCATION:Place de la République\, Place de la République\, Hendaye\, Francia
ATTACH;FMTTYPE=image/jpeg:https://deplanesporlacomarca.com/wp-content/uploads/2024/07/jeudi_ne_en_ville_2024_conciertos_hendaye_hendaya_.jpg
GEO:43.3582972;-1.77477
X-APPLE-STRUCTURED-LOCATION;VALUE=URI;X-ADDRESS=Place de la République Place de la République Hendaye Francia;X-APPLE-RADIUS=500;X-TITLE=Place de la République:geo:-1.77477,43.3582972
END:VEVENT
BEGIN:VEVENT
DTSTART;TZID=Europe/Madrid:20240725T203000
DTEND;TZID=Europe/Madrid:20240725T220000
DTSTAMP:20260420T014845
CREATED:20240704T080742Z
LAST-MODIFIED:20240704T080746Z
UID:10036057-1721939400-1721944800@deplanesporlacomarca.com
SUMMARY:JEUDI´NE EN VILLE 2024 - CONCIERTOS (HENDAYA)
DESCRIPTION:Las cafeterías y restaurantes de la Plaza de la República en Hendaya presentan cada jueves y\, como cada verano\, «Jeudi´ne en Ville» una serie de conciertos para que disfrutes\, mientras te tomas algo. \n\n\n\n \n\n\n\nEl plan es gratuito y comienza a las 20.30 horas.
URL:https://deplanesporlacomarca.com/agenda-evento/jeudine-en-ville-2024-conciertos-hendaya/2024-07-25/
LOCATION:Place de la République\, Place de la République\, Hendaye\, Francia
ATTACH;FMTTYPE=image/jpeg:https://deplanesporlacomarca.com/wp-content/uploads/2024/07/jeudi_ne_en_ville_2024_conciertos_hendaye_hendaya_.jpg
GEO:43.3582972;-1.77477
X-APPLE-STRUCTURED-LOCATION;VALUE=URI;X-ADDRESS=Place de la République Place de la République Hendaye Francia;X-APPLE-RADIUS=500;X-TITLE=Place de la République:geo:-1.77477,43.3582972
END:VEVENT
BEGIN:VEVENT
DTSTART;TZID=Europe/Madrid:20240718T203000
DTEND;TZID=Europe/Madrid:20240718T220000
DTSTAMP:20260420T014845
CREATED:20240704T080742Z
LAST-MODIFIED:20240704T080746Z
UID:10036056-1721334600-1721340000@deplanesporlacomarca.com
SUMMARY:JEUDI´NE EN VILLE 2024 - CONCIERTOS (HENDAYA)
DESCRIPTION:Las cafeterías y restaurantes de la Plaza de la República en Hendaya presentan cada jueves y\, como cada verano\, «Jeudi´ne en Ville» una serie de conciertos para que disfrutes\, mientras te tomas algo. \n\n\n\n \n\n\n\nEl plan es gratuito y comienza a las 20.30 horas.
URL:https://deplanesporlacomarca.com/agenda-evento/jeudine-en-ville-2024-conciertos-hendaya/2024-07-18/
LOCATION:Place de la République\, Place de la République\, Hendaye\, Francia
ATTACH;FMTTYPE=image/jpeg:https://deplanesporlacomarca.com/wp-content/uploads/2024/07/jeudi_ne_en_ville_2024_conciertos_hendaye_hendaya_.jpg
GEO:43.3582972;-1.77477
X-APPLE-STRUCTURED-LOCATION;VALUE=URI;X-ADDRESS=Place de la République Place de la République Hendaye Francia;X-APPLE-RADIUS=500;X-TITLE=Place de la République:geo:-1.77477,43.3582972
END:VEVENT
BEGIN:VEVENT
DTSTART;TZID=Europe/Madrid:20240711T203000
DTEND;TZID=Europe/Madrid:20240711T220000
DTSTAMP:20260420T014845
CREATED:20240704T080742Z
LAST-MODIFIED:20240704T080746Z
UID:10036055-1720729800-1720735200@deplanesporlacomarca.com
SUMMARY:JEUDI´NE EN VILLE 2024 - CONCIERTOS (HENDAYA)
DESCRIPTION:Las cafeterías y restaurantes de la Plaza de la República en Hendaya presentan cada jueves y\, como cada verano\, «Jeudi´ne en Ville» una serie de conciertos para que disfrutes\, mientras te tomas algo. \n\n\n\n \n\n\n\nEl plan es gratuito y comienza a las 20.30 horas.
URL:https://deplanesporlacomarca.com/agenda-evento/jeudine-en-ville-2024-conciertos-hendaya/2024-07-11/
LOCATION:Place de la République\, Place de la République\, Hendaye\, Francia
ATTACH;FMTTYPE=image/jpeg:https://deplanesporlacomarca.com/wp-content/uploads/2024/07/jeudi_ne_en_ville_2024_conciertos_hendaye_hendaya_.jpg
GEO:43.3582972;-1.77477
X-APPLE-STRUCTURED-LOCATION;VALUE=URI;X-ADDRESS=Place de la République Place de la République Hendaye Francia;X-APPLE-RADIUS=500;X-TITLE=Place de la République:geo:-1.77477,43.3582972
END:VEVENT
END:VCALENDAR