BEGIN:VCALENDAR
VERSION:2.0
PRODID:-//De planes por la comarca - ECPv6.15.20//NONSGML v1.0//EN
CALSCALE:GREGORIAN
METHOD:PUBLISH
X-WR-CALNAME:De planes por la comarca
X-ORIGINAL-URL:https://deplanesporlacomarca.com
X-WR-CALDESC:Eventos para De planes por la comarca
REFRESH-INTERVAL;VALUE=DURATION:PT1H
X-Robots-Tag:noindex
X-PUBLISHED-TTL:PT1H
BEGIN:VTIMEZONE
TZID:Europe/Madrid
BEGIN:DAYLIGHT
TZOFFSETFROM:+0100
TZOFFSETTO:+0200
TZNAME:CEST
DTSTART:20230326T010000
END:DAYLIGHT
BEGIN:STANDARD
TZOFFSETFROM:+0200
TZOFFSETTO:+0100
TZNAME:CET
DTSTART:20231029T010000
END:STANDARD
BEGIN:DAYLIGHT
TZOFFSETFROM:+0100
TZOFFSETTO:+0200
TZNAME:CEST
DTSTART:20240331T010000
END:DAYLIGHT
BEGIN:STANDARD
TZOFFSETFROM:+0200
TZOFFSETTO:+0100
TZNAME:CET
DTSTART:20241027T010000
END:STANDARD
BEGIN:DAYLIGHT
TZOFFSETFROM:+0100
TZOFFSETTO:+0200
TZNAME:CEST
DTSTART:20250330T010000
END:DAYLIGHT
BEGIN:STANDARD
TZOFFSETFROM:+0200
TZOFFSETTO:+0100
TZNAME:CET
DTSTART:20251026T010000
END:STANDARD
END:VTIMEZONE
BEGIN:VEVENT
DTSTART;TZID=Europe/Madrid:20240815T203000
DTEND;TZID=Europe/Madrid:20240815T220000
DTSTAMP:20260420T032012
CREATED:20240704T080742Z
LAST-MODIFIED:20240704T080746Z
UID:10036059-1723753800-1723759200@deplanesporlacomarca.com
SUMMARY:JEUDI´NE EN VILLE 2024 - CONCIERTOS (HENDAYA)
DESCRIPTION:Las cafeterías y restaurantes de la Plaza de la República en Hendaya presentan cada jueves y\, como cada verano\, «Jeudi´ne en Ville» una serie de conciertos para que disfrutes\, mientras te tomas algo. \n\n\n\n \n\n\n\nEl plan es gratuito y comienza a las 20.30 horas.
URL:https://deplanesporlacomarca.com/agenda-evento/jeudine-en-ville-2024-conciertos-hendaya/2024-08-15/
LOCATION:Place de la République\, Place de la République\, Hendaye\, Francia
ATTACH;FMTTYPE=image/jpeg:https://deplanesporlacomarca.com/wp-content/uploads/2024/07/jeudi_ne_en_ville_2024_conciertos_hendaye_hendaya_.jpg
GEO:43.3582972;-1.77477
X-APPLE-STRUCTURED-LOCATION;VALUE=URI;X-ADDRESS=Place de la République Place de la République Hendaye Francia;X-APPLE-RADIUS=500;X-TITLE=Place de la République:geo:-1.77477,43.3582972
END:VEVENT
BEGIN:VEVENT
DTSTART;TZID=Europe/Madrid:20240808T090000
DTEND;TZID=Europe/Madrid:20240808T183000
DTSTAMP:20260420T032012
CREATED:20240806T170535Z
LAST-MODIFIED:20240806T170540Z
UID:10036476-1723107600-1723141800@deplanesporlacomarca.com
SUMMARY:BRADERIE DU CENTRE VILLE - 8 AGOSTO 2024 (HENDAYE)
DESCRIPTION:Los comerciantes de Hendaya y otros expositores participan en la octava edición del «Braderie du Centre Ville«\, organizada por Hendaye Commerce y que tiene lugar en la Place de la République de Hendaya\, desde las 09.00 horas. \n\n\n\n \n\n\n\nMás de una veintena de expositores te ofrecen multitud de productos y te permiten hacer tus compras en los últimos días de las rebajas del verano. Joyería\, artesanía\, pintura\, textil\, artículos de playa\, zapatillas\, complementos\, artículos de decoración\,… \n\n\n\n \n\n\n\nY a partir de las 10.30 horas\, tiene lugar el espectáculo de Urban Groove Band.
URL:https://deplanesporlacomarca.com/agenda-evento/braderie-du-centre-ville-8-agosto-2024-hendaye/
LOCATION:Place de la République\, Place de la République\, Hendaye\, Francia
ATTACH;FMTTYPE=image/jpeg:https://deplanesporlacomarca.com/wp-content/uploads/2024/08/braderie_du_centre_ville_agosto_2024_hendaye_hendaya.jpg
GEO:43.3582972;-1.77477
X-APPLE-STRUCTURED-LOCATION;VALUE=URI;X-ADDRESS=Place de la République Place de la République Hendaye Francia;X-APPLE-RADIUS=500;X-TITLE=Place de la République:geo:-1.77477,43.3582972
END:VEVENT
BEGIN:VEVENT
DTSTART;TZID=Europe/Madrid:20240801T203000
DTEND;TZID=Europe/Madrid:20240801T220000
DTSTAMP:20260420T032012
CREATED:20240704T080742Z
LAST-MODIFIED:20240704T080746Z
UID:10036058-1722544200-1722549600@deplanesporlacomarca.com
SUMMARY:JEUDI´NE EN VILLE 2024 - CONCIERTOS (HENDAYA)
DESCRIPTION:Las cafeterías y restaurantes de la Plaza de la República en Hendaya presentan cada jueves y\, como cada verano\, «Jeudi´ne en Ville» una serie de conciertos para que disfrutes\, mientras te tomas algo. \n\n\n\n \n\n\n\nEl plan es gratuito y comienza a las 20.30 horas.
URL:https://deplanesporlacomarca.com/agenda-evento/jeudine-en-ville-2024-conciertos-hendaya/2024-08-01/
LOCATION:Place de la République\, Place de la République\, Hendaye\, Francia
ATTACH;FMTTYPE=image/jpeg:https://deplanesporlacomarca.com/wp-content/uploads/2024/07/jeudi_ne_en_ville_2024_conciertos_hendaye_hendaya_.jpg
GEO:43.3582972;-1.77477
X-APPLE-STRUCTURED-LOCATION;VALUE=URI;X-ADDRESS=Place de la République Place de la République Hendaye Francia;X-APPLE-RADIUS=500;X-TITLE=Place de la République:geo:-1.77477,43.3582972
END:VEVENT
BEGIN:VEVENT
DTSTART;TZID=Europe/Madrid:20240725T203000
DTEND;TZID=Europe/Madrid:20240725T220000
DTSTAMP:20260420T032012
CREATED:20240704T080742Z
LAST-MODIFIED:20240704T080746Z
UID:10036057-1721939400-1721944800@deplanesporlacomarca.com
SUMMARY:JEUDI´NE EN VILLE 2024 - CONCIERTOS (HENDAYA)
DESCRIPTION:Las cafeterías y restaurantes de la Plaza de la República en Hendaya presentan cada jueves y\, como cada verano\, «Jeudi´ne en Ville» una serie de conciertos para que disfrutes\, mientras te tomas algo. \n\n\n\n \n\n\n\nEl plan es gratuito y comienza a las 20.30 horas.
URL:https://deplanesporlacomarca.com/agenda-evento/jeudine-en-ville-2024-conciertos-hendaya/2024-07-25/
LOCATION:Place de la République\, Place de la République\, Hendaye\, Francia
ATTACH;FMTTYPE=image/jpeg:https://deplanesporlacomarca.com/wp-content/uploads/2024/07/jeudi_ne_en_ville_2024_conciertos_hendaye_hendaya_.jpg
GEO:43.3582972;-1.77477
X-APPLE-STRUCTURED-LOCATION;VALUE=URI;X-ADDRESS=Place de la République Place de la République Hendaye Francia;X-APPLE-RADIUS=500;X-TITLE=Place de la République:geo:-1.77477,43.3582972
END:VEVENT
BEGIN:VEVENT
DTSTART;TZID=Europe/Madrid:20240718T203000
DTEND;TZID=Europe/Madrid:20240718T220000
DTSTAMP:20260420T032012
CREATED:20240704T080742Z
LAST-MODIFIED:20240704T080746Z
UID:10036056-1721334600-1721340000@deplanesporlacomarca.com
SUMMARY:JEUDI´NE EN VILLE 2024 - CONCIERTOS (HENDAYA)
DESCRIPTION:Las cafeterías y restaurantes de la Plaza de la República en Hendaya presentan cada jueves y\, como cada verano\, «Jeudi´ne en Ville» una serie de conciertos para que disfrutes\, mientras te tomas algo. \n\n\n\n \n\n\n\nEl plan es gratuito y comienza a las 20.30 horas.
URL:https://deplanesporlacomarca.com/agenda-evento/jeudine-en-ville-2024-conciertos-hendaya/2024-07-18/
LOCATION:Place de la République\, Place de la République\, Hendaye\, Francia
ATTACH;FMTTYPE=image/jpeg:https://deplanesporlacomarca.com/wp-content/uploads/2024/07/jeudi_ne_en_ville_2024_conciertos_hendaye_hendaya_.jpg
GEO:43.3582972;-1.77477
X-APPLE-STRUCTURED-LOCATION;VALUE=URI;X-ADDRESS=Place de la République Place de la République Hendaye Francia;X-APPLE-RADIUS=500;X-TITLE=Place de la République:geo:-1.77477,43.3582972
END:VEVENT
BEGIN:VEVENT
DTSTART;TZID=Europe/Madrid:20240711T203000
DTEND;TZID=Europe/Madrid:20240711T220000
DTSTAMP:20260420T032012
CREATED:20240704T080742Z
LAST-MODIFIED:20240704T080746Z
UID:10036055-1720729800-1720735200@deplanesporlacomarca.com
SUMMARY:JEUDI´NE EN VILLE 2024 - CONCIERTOS (HENDAYA)
DESCRIPTION:Las cafeterías y restaurantes de la Plaza de la República en Hendaya presentan cada jueves y\, como cada verano\, «Jeudi´ne en Ville» una serie de conciertos para que disfrutes\, mientras te tomas algo. \n\n\n\n \n\n\n\nEl plan es gratuito y comienza a las 20.30 horas.
URL:https://deplanesporlacomarca.com/agenda-evento/jeudine-en-ville-2024-conciertos-hendaya/2024-07-11/
LOCATION:Place de la République\, Place de la République\, Hendaye\, Francia
ATTACH;FMTTYPE=image/jpeg:https://deplanesporlacomarca.com/wp-content/uploads/2024/07/jeudi_ne_en_ville_2024_conciertos_hendaye_hendaya_.jpg
GEO:43.3582972;-1.77477
X-APPLE-STRUCTURED-LOCATION;VALUE=URI;X-ADDRESS=Place de la République Place de la République Hendaye Francia;X-APPLE-RADIUS=500;X-TITLE=Place de la République:geo:-1.77477,43.3582972
END:VEVENT
END:VCALENDAR