BEGIN:VCALENDAR
VERSION:2.0
PRODID:-//De planes por la comarca - ECPv6.15.20//NONSGML v1.0//EN
CALSCALE:GREGORIAN
METHOD:PUBLISH
X-ORIGINAL-URL:https://deplanesporlacomarca.com
X-WR-CALDESC:Eventos para De planes por la comarca
REFRESH-INTERVAL;VALUE=DURATION:PT1H
X-Robots-Tag:noindex
X-PUBLISHED-TTL:PT1H
BEGIN:VTIMEZONE
TZID:Europe/Madrid
BEGIN:DAYLIGHT
TZOFFSETFROM:+0100
TZOFFSETTO:+0200
TZNAME:CEST
DTSTART:20230326T010000
END:DAYLIGHT
BEGIN:STANDARD
TZOFFSETFROM:+0200
TZOFFSETTO:+0100
TZNAME:CET
DTSTART:20231029T010000
END:STANDARD
BEGIN:DAYLIGHT
TZOFFSETFROM:+0100
TZOFFSETTO:+0200
TZNAME:CEST
DTSTART:20240331T010000
END:DAYLIGHT
BEGIN:STANDARD
TZOFFSETFROM:+0200
TZOFFSETTO:+0100
TZNAME:CET
DTSTART:20241027T010000
END:STANDARD
BEGIN:DAYLIGHT
TZOFFSETFROM:+0100
TZOFFSETTO:+0200
TZNAME:CEST
DTSTART:20250330T010000
END:DAYLIGHT
BEGIN:STANDARD
TZOFFSETFROM:+0200
TZOFFSETTO:+0100
TZNAME:CET
DTSTART:20251026T010000
END:STANDARD
BEGIN:DAYLIGHT
TZOFFSETFROM:+0100
TZOFFSETTO:+0200
TZNAME:CEST
DTSTART:20260329T010000
END:DAYLIGHT
BEGIN:STANDARD
TZOFFSETFROM:+0200
TZOFFSETTO:+0100
TZNAME:CET
DTSTART:20261025T010000
END:STANDARD
END:VTIMEZONE
BEGIN:VEVENT
DTSTART;TZID=Europe/Madrid:20251224T173000
DTEND;TZID=Europe/Madrid:20251224T173000
DTSTAMP:20260420T181411
CREATED:20251204T105622Z
LAST-MODIFIED:20251222T174805Z
UID:10041166-1766597400-1766597400@deplanesporlacomarca.com
SUMMARY:NAVIDADES 2025 - FESTIVAL DE VILLANCICOS Y OLENTZEROS - PLAZA GIPUZKOA (HONDARRIBIA)
DESCRIPTION:Festival de villancicos y olentzeros de adultos que\, cada 24 de Diciembre\, se celebra en Hondarribia. \n\n\n\n \n\n\n\nEl plan comienza a las 17.30 horas y tiene lugar en la Plaza Gipuzkoa. En caso de mal tiempo se celebrará en los arkupes del Ayuntamiento. \n\n\n\n \n\n\n\nEste es el orden de participación: \n\n\n\n– HARRESI BOLEIBOL KLUBA \n\n\n\n– KLINK KORUA \n\n\n\n– MARLA ABESBATZA \n\n\n\n– ZUMARDIKOAK \n\n\n\n– GOXOKI ABESBATZ \n\n\n\n– AMUTE KOSTA AUZO ELKARTEA
URL:https://deplanesporlacomarca.com/agenda-evento/navidades-2025-festival-de-villancicos-y-olentzeros-plaza-gipuzkoa-hondarribia/
LOCATION:Plaza Gipuzkoa\, Gipuzkoa Plaza\, Hondarribia\, Gipuzkoa\, España
GEO:43.3640775;-1.7926632
X-APPLE-STRUCTURED-LOCATION;VALUE=URI;X-ADDRESS=Plaza Gipuzkoa Gipuzkoa Plaza Hondarribia Gipuzkoa España;X-APPLE-RADIUS=500;X-TITLE=Gipuzkoa Plaza:geo:-1.7926632,43.3640775
END:VEVENT
BEGIN:VEVENT
DTSTART;TZID=Europe/Madrid:20250906T223000
DTEND;TZID=Europe/Madrid:20250906T223000
DTSTAMP:20260420T181411
CREATED:20250826T065808Z
LAST-MODIFIED:20250826T065813Z
UID:10040104-1757197800-1757197800@deplanesporlacomarca.com
SUMMARY:"AMA GUADALUPEKOA 2025" - PRESENTACIÓN DE CANTINERAS (HONDARRIBIA)
DESCRIPTION:A partir de las 22.30 horas y con salida desde la calle Nafarroa Behera de Hondarribia\, comienzo del desfile de «Presentación de Cantineras» con la carroza en la que van las 20 cantineras del Alarde de Hondarribia 2025 y la Banda de Música «Ciudad de Hondarribia». \n\n\n\n \n\n\n\nRecorren las calles: Sabino Arana\, Matxin de Arzu\, San Pedro y Javier Ugarte. Recorrida la Marina\, las cantineras\, desfilando junto con sus acompañantes\, se dirigen hacia la Plaza Gipuzkoa\, a través de la calle Santiago de Compostela\, donde se les hace entrega de unos regalos para que después disfruten de un concierto en el que la Banda de Música de la ciudad interpreta las marchas del Alarde.
URL:https://deplanesporlacomarca.com/agenda-evento/ama-guadalupekoa-2025-presentacion-de-cantineras-hondarribia/
LOCATION:Plaza Gipuzkoa\, Gipuzkoa Plaza\, Hondarribia\, Gipuzkoa\, España
ATTACH;FMTTYPE=image/jpeg:https://deplanesporlacomarca.com/wp-content/uploads/2025/08/desfile_presentacion_cantineras_alarde_hondarribia.jpg
GEO:43.3640775;-1.7926632
X-APPLE-STRUCTURED-LOCATION;VALUE=URI;X-ADDRESS=Plaza Gipuzkoa Gipuzkoa Plaza Hondarribia Gipuzkoa España;X-APPLE-RADIUS=500;X-TITLE=Gipuzkoa Plaza:geo:-1.7926632,43.3640775
END:VEVENT
BEGIN:VEVENT
DTSTART;TZID=Europe/Madrid:20250518T113000
DTEND;TZID=Europe/Madrid:20250518T113000
DTSTAMP:20260420T181411
CREATED:20250428T100717Z
LAST-MODIFIED:20250516T155202Z
UID:10039300-1747567800-1747567800@deplanesporlacomarca.com
SUMMARY:HERRI KANTA JAIALDIA 2025 (HONDARRIBIA)
DESCRIPTION:En la Plaza Gipuzkoa de Hondarribia tiene lugar el Herri Kanta Jaialdia. Será la 34 edición y comenzará a las 11.30 horas de la mañana\, y que continuará a lo largo del día en diferentes puntos de la ciudad. Lo organiza el departamento de Cultura del Ayuntamiento de Hondarribia. \n\n\n\n \n\n\n\nCada agrupación interpreta dos canciones en euskera y al finalizar el evento todas las personas asistentes se despiden interpretando el “Agur Jaunak!”. \n\n\n\n \n\n\n\nLa Plaza Gipuzkoa es el escenario que cada año acoge este evento en caso de buen tiempo (Itsas Etxea Auditoriuma en caso de lo contrario). Después\, los coros interpretan diferentes canciones por el Casco Histórico y Portu Auzoa mientras llega la hora de comer. Más de 300 personas se dan cita en una comida en la que\, por supuesto\, la música sigue protagonista.  \n\n\n\n \n\n\n\nEstos son los grupos participantes:
URL:https://deplanesporlacomarca.com/agenda-evento/herri-kanta-jaialdia-2025-hondarribia/
LOCATION:Plaza Gipuzkoa\, Gipuzkoa Plaza\, Hondarribia\, Gipuzkoa\, España
ATTACH;FMTTYPE=image/jpeg:https://deplanesporlacomarca.com/wp-content/uploads/2025/04/xxxiv_herri_kanta_jaialdia_mayo_2025_hondarribia.jpg
GEO:43.3640775;-1.7926632
X-APPLE-STRUCTURED-LOCATION;VALUE=URI;X-ADDRESS=Plaza Gipuzkoa Gipuzkoa Plaza Hondarribia Gipuzkoa España;X-APPLE-RADIUS=500;X-TITLE=Gipuzkoa Plaza:geo:-1.7926632,43.3640775
END:VEVENT
BEGIN:VEVENT
DTSTART;TZID=Europe/Madrid:20241224T180000
DTEND;TZID=Europe/Madrid:20241224T180000
DTSTAMP:20260420T181411
CREATED:20241204T151118Z
LAST-MODIFIED:20241224T141440Z
UID:10037589-1735063200-1735063200@deplanesporlacomarca.com
SUMMARY:NAVIDADES 2024 - FESTIVAL DE VILLANCICOS Y OLENTZEROS - PLAZA GIPUZKOA (HONDARRIBIA)
DESCRIPTION:¡¡¡ Debido al mal tiempo\, se traslada a los arkupes del Ayuntamiento !!! \n\n\n\n \n\n\n\nFestival de villancicos y olentzeros de adultos que\, cada 24 de Diciembre\, se celebra en Hondarribia. \n\n\n\n \n\n\n\nEl plan comienza a las 18.00 horas y tiene lugar en la Plaza Gipuzkoa.
URL:https://deplanesporlacomarca.com/agenda-evento/navidades-2024-festival-de-villancicos-y-olentzeros-plaza-gipuzkoa-hondarribia/
LOCATION:Plaza Gipuzkoa\, Gipuzkoa Plaza\, Hondarribia\, Gipuzkoa\, España
GEO:43.3640775;-1.7926632
X-APPLE-STRUCTURED-LOCATION;VALUE=URI;X-ADDRESS=Plaza Gipuzkoa Gipuzkoa Plaza Hondarribia Gipuzkoa España;X-APPLE-RADIUS=500;X-TITLE=Gipuzkoa Plaza:geo:-1.7926632,43.3640775
END:VEVENT
BEGIN:VEVENT
DTSTART;TZID=Europe/Madrid:20240906T223000
DTEND;TZID=Europe/Madrid:20240906T223000
DTSTAMP:20260420T181411
CREATED:20240828T072934Z
LAST-MODIFIED:20240828T072936Z
UID:10036502-1725661800-1725661800@deplanesporlacomarca.com
SUMMARY:"AMA GUADALUPEKOA 2024" - PRESENTACIÓN DE CANTINERAS (HONDARRIBIA)
DESCRIPTION:A partir de las 22.30 horas y con salida desde la calle Nafarroa Behera de Hondarribia\, comienzo del desfile de «Presentación de Cantineras» con la carroza en la que van las 20 cantineras del Alarde de Hondarribia 2024 y la Banda de Música «Ciudad de Hondarribia». \n\n\n\n \n\n\n\nRecorren las calles: Sabino Arana\, Matxin de Arzu\, San Pedro y Javier Ugarte. Recorrida la Marina\, las cantineras\, desfilando junto con sus acompañantes\, se dirigen hacia la Plaza Gipuzkoa\, a través de la calle Santiago de Compostela\, donde se les hace entrega de unos regalos para que después disfruten de un concierto en el que la Banda de Música de la ciudad interpreta las marchas del Alarde.
URL:https://deplanesporlacomarca.com/agenda-evento/ama-guadalupekoa-2024-presentacion-de-cantineras-hondarribia/
LOCATION:Plaza Gipuzkoa\, Gipuzkoa Plaza\, Hondarribia\, Gipuzkoa\, España
ATTACH;FMTTYPE=image/jpeg:https://deplanesporlacomarca.com/wp-content/uploads/2024/08/hondarribiko_jaiak_presentacion_cantineras_alarde_hondarribia_gipuzkoa.jpg
GEO:43.3640775;-1.7926632
X-APPLE-STRUCTURED-LOCATION;VALUE=URI;X-ADDRESS=Plaza Gipuzkoa Gipuzkoa Plaza Hondarribia Gipuzkoa España;X-APPLE-RADIUS=500;X-TITLE=Gipuzkoa Plaza:geo:-1.7926632,43.3640775
END:VEVENT
BEGIN:VEVENT
DTSTART;TZID=Europe/Madrid:20240519T113000
DTEND;TZID=Europe/Madrid:20240519T113000
DTSTAMP:20260420T181411
CREATED:20240430T152109Z
LAST-MODIFIED:20240518T123357Z
UID:10035368-1716118200-1716118200@deplanesporlacomarca.com
SUMMARY:HERRI KANTA JAIALDIA 2024 (HONDARRIBIA)
DESCRIPTION:¡¡¡ Debido al mal tiempo previsto\, el Herri Kanta Jaialdia se celebra en el Auditorium Itsas Etxea !!! \n\n\n\n \n\n\n\nEn la Plaza Gipuzkoa de Hondarribia tiene lugar el Herri Kanta Jaialdia. Será la 33 edición y comenzará a las 11.30 horas de la mañana. Lo organiza el departamento de Cultura del Ayuntamiento de Hondarribia. \n\n\n\n \n\n\n\nEstos serán los grupos participantes\, los directores de cada uno y su repertorio: \n\n\n\n– Klink Korua (zuzendaria Aritz Gonzalez\, eta abestiak ‘Agur Ondarrabi’ eta ‘Goizeko izarra’)– Amute-Kosta (Bibi Garcia\, ‘Udazken sasoia’ eta ‘Bizipen ona’)– Surbesta (Ander Ribes\, ‘Maria Solt eta Kastero’ eta ‘Eskerrik asko’)– Kardiñeruak (Aritz Enparan\, ‘Euskararen txantxagorria’ eta ‘Iluntzean’)– Xarmanta (Pili Anuncibay\, ‘Loreak udak ihintza bezala’ eta ‘Ene maite’)– Billabak (Aritz Enparan\, ‘Hilargi non zaude?’ eta ‘Ob-la-di\, Ob-la-da’)– Goxoki (Alberto Lasa\, ‘Astiriak mendian’ eta ‘Adio Euskal Herriari’)– Zumardikoak (Axel Carton\, ‘Goizian argi hastian’ eta ‘Ama\, ai zer plazerra!’)– Olagarro (Xabier Agirre\, ‘Xorieri mintzo zen’ eta ‘Eskilak’) \n\n\n\n \n\n\n\nAl finalizar\, todos cantarán el «Agur Jaunak».
URL:https://deplanesporlacomarca.com/agenda-evento/herri-kanta-jaialdia-2024-hondarribia/
LOCATION:Plaza Gipuzkoa\, Gipuzkoa Plaza\, Hondarribia\, Gipuzkoa\, España
GEO:43.3640775;-1.7926632
X-APPLE-STRUCTURED-LOCATION;VALUE=URI;X-ADDRESS=Plaza Gipuzkoa Gipuzkoa Plaza Hondarribia Gipuzkoa España;X-APPLE-RADIUS=500;X-TITLE=Gipuzkoa Plaza:geo:-1.7926632,43.3640775
END:VEVENT
END:VCALENDAR