BEGIN:VCALENDAR
VERSION:2.0
PRODID:-//De planes por la comarca - ECPv6.15.20//NONSGML v1.0//EN
CALSCALE:GREGORIAN
METHOD:PUBLISH
X-ORIGINAL-URL:https://deplanesporlacomarca.com
X-WR-CALDESC:Eventos para De planes por la comarca
REFRESH-INTERVAL;VALUE=DURATION:PT1H
X-Robots-Tag:noindex
X-PUBLISHED-TTL:PT1H
BEGIN:VTIMEZONE
TZID:Europe/Madrid
BEGIN:DAYLIGHT
TZOFFSETFROM:+0100
TZOFFSETTO:+0200
TZNAME:CEST
DTSTART:20230326T010000
END:DAYLIGHT
BEGIN:STANDARD
TZOFFSETFROM:+0200
TZOFFSETTO:+0100
TZNAME:CET
DTSTART:20231029T010000
END:STANDARD
BEGIN:DAYLIGHT
TZOFFSETFROM:+0100
TZOFFSETTO:+0200
TZNAME:CEST
DTSTART:20240331T010000
END:DAYLIGHT
BEGIN:STANDARD
TZOFFSETFROM:+0200
TZOFFSETTO:+0100
TZNAME:CET
DTSTART:20241027T010000
END:STANDARD
BEGIN:DAYLIGHT
TZOFFSETFROM:+0100
TZOFFSETTO:+0200
TZNAME:CEST
DTSTART:20250330T010000
END:DAYLIGHT
BEGIN:STANDARD
TZOFFSETFROM:+0200
TZOFFSETTO:+0100
TZNAME:CET
DTSTART:20251026T010000
END:STANDARD
BEGIN:DAYLIGHT
TZOFFSETFROM:+0100
TZOFFSETTO:+0200
TZNAME:CEST
DTSTART:20260329T010000
END:DAYLIGHT
BEGIN:STANDARD
TZOFFSETFROM:+0200
TZOFFSETTO:+0100
TZNAME:CET
DTSTART:20261025T010000
END:STANDARD
END:VTIMEZONE
BEGIN:VEVENT
DTSTART;TZID=Europe/Madrid:20250330T120000
DTEND;TZID=Europe/Madrid:20250330T133000
DTSTAMP:20260420T143650
CREATED:20250326T104156Z
LAST-MODIFIED:20250327T141248Z
UID:10038993-1743336000-1743341400@deplanesporlacomarca.com
SUMMARY:UDABERRI FESTA - AVV. MOLINO DE ARBES + AVV. ARBES (IRUN)
DESCRIPTION:Organizado por el servicio de Cultura del Ayuntamiento de Irun\, en colaboración con las Asociaciones de Vecinos de Irun\, este año vuelve la Agenda Cultural de los Barrios. En este caso\, los próximos 28\, 29 y 30 de marzo\, vecinos y vecinas de Irun podrán disfrutar una tarde especial en Arbes. \n\n\n\n \n\n\n\nEste es el plan previsto: \n\n\n\n– 28 de Marzo: 18.30 – 20.30 horas. Txaranga Pasai por Molino de Arbes y proximidades. \n\n\n\n– 29 de Marzo:  \n\n\n\n* 17.00 – 18.30 horas. Animación infantil con Bidasoako Erraldoiak en Nagore Laffage Plaza\, bar Zura y alrededores. \n\n\n\n* 19.00 – 21.00 horas: Animación musical con Rock Taldea en Nagore Laffage Plaza y alrededores. \n\n\n\n– 30 de Marzo: 12.00 – 13.30 horas. Muxikos con Jeiki Hadi en Nagore Laffage Plaza.
URL:https://deplanesporlacomarca.com/agenda-evento/udaberri-festa-avv-molino-de-arbes-avv-arbes-irun/2025-03-30/
LOCATION:Plaza Nagore Laffage\, Juan Vollmer Plaza\, 1\, Irun\, Gipuzkoa\, 20304\, España
ATTACH;FMTTYPE=image/jpeg:https://deplanesporlacomarca.com/wp-content/uploads/2025/03/udaberri_festa_actividades_culturales_marzo_2025_avv_molino_arbes_irun.jpg
GEO:43.3374102;-1.7809141
X-APPLE-STRUCTURED-LOCATION;VALUE=URI;X-ADDRESS=Plaza Nagore Laffage Juan Vollmer Plaza 1 Irun Gipuzkoa 20304 España;X-APPLE-RADIUS=500;X-TITLE=Juan Vollmer Plaza\, 1:geo:-1.7809141,43.3374102
END:VEVENT
BEGIN:VEVENT
DTSTART;TZID=Europe/Madrid:20250329T170000
DTEND;TZID=Europe/Madrid:20250329T210000
DTSTAMP:20260420T143650
CREATED:20250326T104156Z
LAST-MODIFIED:20250327T141248Z
UID:10038992-1743267600-1743282000@deplanesporlacomarca.com
SUMMARY:UDABERRI FESTA - AVV. MOLINO DE ARBES + AVV. ARBES (IRUN)
DESCRIPTION:Organizado por el servicio de Cultura del Ayuntamiento de Irun\, en colaboración con las Asociaciones de Vecinos de Irun\, este año vuelve la Agenda Cultural de los Barrios. En este caso\, los próximos 28\, 29 y 30 de marzo\, vecinos y vecinas de Irun podrán disfrutar una tarde especial en Arbes. \n\n\n\n \n\n\n\nEste es el plan previsto: \n\n\n\n– 28 de Marzo: 18.30 – 20.30 horas. Txaranga Pasai por Molino de Arbes y proximidades. \n\n\n\n– 29 de Marzo:  \n\n\n\n* 17.00 – 18.30 horas. Animación infantil con Bidasoako Erraldoiak en Nagore Laffage Plaza\, bar Zura y alrededores. \n\n\n\n* 19.00 – 21.00 horas: Animación musical con Rock Taldea en Nagore Laffage Plaza y alrededores. \n\n\n\n– 30 de Marzo: 12.00 – 13.30 horas. Muxikos con Jeiki Hadi en Nagore Laffage Plaza.
URL:https://deplanesporlacomarca.com/agenda-evento/udaberri-festa-avv-molino-de-arbes-avv-arbes-irun/2025-03-29/
LOCATION:Plaza Nagore Laffage\, Juan Vollmer Plaza\, 1\, Irun\, Gipuzkoa\, 20304\, España
ATTACH;FMTTYPE=image/jpeg:https://deplanesporlacomarca.com/wp-content/uploads/2025/03/udaberri_festa_actividades_culturales_marzo_2025_avv_molino_arbes_irun.jpg
GEO:43.3374102;-1.7809141
X-APPLE-STRUCTURED-LOCATION;VALUE=URI;X-ADDRESS=Plaza Nagore Laffage Juan Vollmer Plaza 1 Irun Gipuzkoa 20304 España;X-APPLE-RADIUS=500;X-TITLE=Juan Vollmer Plaza\, 1:geo:-1.7809141,43.3374102
END:VEVENT
BEGIN:VEVENT
DTSTART;TZID=Europe/Madrid:20250328T193000
DTEND;TZID=Europe/Madrid:20250328T213000
DTSTAMP:20260420T143650
CREATED:20250326T104156Z
LAST-MODIFIED:20250327T141248Z
UID:10038991-1743190200-1743197400@deplanesporlacomarca.com
SUMMARY:UDABERRI FESTA - AVV. MOLINO DE ARBES + AVV. ARBES (IRUN)
DESCRIPTION:Organizado por el servicio de Cultura del Ayuntamiento de Irun\, en colaboración con las Asociaciones de Vecinos de Irun\, este año vuelve la Agenda Cultural de los Barrios. En este caso\, los próximos 28\, 29 y 30 de marzo\, vecinos y vecinas de Irun podrán disfrutar una tarde especial en Arbes. \n\n\n\n \n\n\n\nEste es el plan previsto: \n\n\n\n– 28 de Marzo: 18.30 – 20.30 horas. Txaranga Pasai por Molino de Arbes y proximidades. \n\n\n\n– 29 de Marzo:  \n\n\n\n* 17.00 – 18.30 horas. Animación infantil con Bidasoako Erraldoiak en Nagore Laffage Plaza\, bar Zura y alrededores. \n\n\n\n* 19.00 – 21.00 horas: Animación musical con Rock Taldea en Nagore Laffage Plaza y alrededores. \n\n\n\n– 30 de Marzo: 12.00 – 13.30 horas. Muxikos con Jeiki Hadi en Nagore Laffage Plaza.
URL:https://deplanesporlacomarca.com/agenda-evento/udaberri-festa-avv-molino-de-arbes-avv-arbes-irun/2025-03-28/
LOCATION:Plaza Nagore Laffage\, Juan Vollmer Plaza\, 1\, Irun\, Gipuzkoa\, 20304\, España
ATTACH;FMTTYPE=image/jpeg:https://deplanesporlacomarca.com/wp-content/uploads/2025/03/udaberri_festa_actividades_culturales_marzo_2025_avv_molino_arbes_irun.jpg
GEO:43.3374102;-1.7809141
X-APPLE-STRUCTURED-LOCATION;VALUE=URI;X-ADDRESS=Plaza Nagore Laffage Juan Vollmer Plaza 1 Irun Gipuzkoa 20304 España;X-APPLE-RADIUS=500;X-TITLE=Juan Vollmer Plaza\, 1:geo:-1.7809141,43.3374102
END:VEVENT
BEGIN:VEVENT
DTSTART;TZID=Europe/Madrid:20241019T120000
DTEND;TZID=Europe/Madrid:20241019T200000
DTSTAMP:20260420T143650
CREATED:20241009T151339Z
LAST-MODIFIED:20241009T151344Z
UID:10036935-1729339200-1729368000@deplanesporlacomarca.com
SUMMARY:KULTUR JARDUERAK AUZOETAN - ACTIVADES CULTURALES EN LOS BARRIOS 2024 - BARRIO SANTIAGO (IRUN)
DESCRIPTION:La agenda cultural de los barrios\, uno de los proyectos finalistas del proceso de Presupuestos Participativos de 2023\, nace a raíz de la colaboración entre el Ayuntamiento de Irun y diferentes asociaciones de vecinos de la ciudad para dotar de una oferta cultural de calidad los barrios de la ciudad y hasta el mes de diciembre se llevarán a cabo multitud de citas en los barrios de Irun. \n\n\n\n \n\n\n\nEl plan para hoy tiene lugar en el barrio de Arbes: \n\n\n\nPeña Poteo TxarangaHora: 12.00 – 14.00 horasRecorrido: Bertsolari Uztapide plaza\, Molino taberna\, Alzukaitz plaza… \n\n\n\n \n\n\n\n– Egurrezko jokoakHora: 17.00 – 18.30 horasLugar: Nagore Laffage plaza \n\n\n\n \n\n\n\n– Jirabira KalejiraHora: 19.00 – 20.00 horasLugar: Nagore Laffage plaza
URL:https://deplanesporlacomarca.com/agenda-evento/kultur-jarduerak-auzoetan-activades-culturales-en-los-barrios-2024-barrio-santiago-irun-3/
LOCATION:Plaza Nagore Laffage\, Juan Vollmer Plaza\, 1\, Irun\, Gipuzkoa\, 20304\, España
ATTACH;FMTTYPE=image/jpeg:https://deplanesporlacomarca.com/wp-content/uploads/2024/08/kultur_jarduerak_auzoetan_actividades_culturales_barrios_2024_irun.jpg
GEO:43.3374102;-1.7809141
X-APPLE-STRUCTURED-LOCATION;VALUE=URI;X-ADDRESS=Plaza Nagore Laffage Juan Vollmer Plaza 1 Irun Gipuzkoa 20304 España;X-APPLE-RADIUS=500;X-TITLE=Juan Vollmer Plaza\, 1:geo:-1.7809141,43.3374102
END:VEVENT
END:VCALENDAR