BEGIN:VCALENDAR
VERSION:2.0
PRODID:-//De planes por la comarca - ECPv6.15.20//NONSGML v1.0//EN
CALSCALE:GREGORIAN
METHOD:PUBLISH
X-ORIGINAL-URL:https://deplanesporlacomarca.com
X-WR-CALDESC:Eventos para De planes por la comarca
REFRESH-INTERVAL;VALUE=DURATION:PT1H
X-Robots-Tag:noindex
X-PUBLISHED-TTL:PT1H
BEGIN:VTIMEZONE
TZID:Europe/Madrid
BEGIN:DAYLIGHT
TZOFFSETFROM:+0100
TZOFFSETTO:+0200
TZNAME:CEST
DTSTART:20250330T010000
END:DAYLIGHT
BEGIN:STANDARD
TZOFFSETFROM:+0200
TZOFFSETTO:+0100
TZNAME:CET
DTSTART:20251026T010000
END:STANDARD
BEGIN:DAYLIGHT
TZOFFSETFROM:+0100
TZOFFSETTO:+0200
TZNAME:CEST
DTSTART:20260329T010000
END:DAYLIGHT
BEGIN:STANDARD
TZOFFSETFROM:+0200
TZOFFSETTO:+0100
TZNAME:CET
DTSTART:20261025T010000
END:STANDARD
BEGIN:DAYLIGHT
TZOFFSETFROM:+0100
TZOFFSETTO:+0200
TZNAME:CEST
DTSTART:20270328T010000
END:DAYLIGHT
BEGIN:STANDARD
TZOFFSETFROM:+0200
TZOFFSETTO:+0100
TZNAME:CET
DTSTART:20271031T010000
END:STANDARD
END:VTIMEZONE
BEGIN:VEVENT
DTSTART;TZID=Europe/Madrid:20260418T183000
DTEND;TZID=Europe/Madrid:20260418T183000
DTSTAMP:20260418T163132
CREATED:20260325T154415Z
LAST-MODIFIED:20260410T100641Z
UID:10042329-1776537000-1776537000@deplanesporlacomarca.com
SUMMARY:BALONMANO – LIGA NEXUS ENERGÍA ASOBAL 25-26: IRUDEK BIDASOA IRUN vs. HORNEO BM. ALICANTE  – POLIDEPORTIVO ARTALEKU (IRUN)
DESCRIPTION:Partido correspondiente a la jornada 25 de la Liga Nexus Energía Asobal\, para el IRUDEK Bidasoa Irun. Se enfrenta al Horneo BM. Alicante\, a partir de las 18.30 horas en el Polideportivo Artaleku de Irun. \n\n\n\n \n\n\n\nPuedes adquirir aquí las entradas para este plan en este enlace.  \n\n\n\n \n\n\n\nSi no puedes acudir al pabellón\, puedes seguirlo por LaLiga+.
URL:https://deplanesporlacomarca.com/agenda-evento/balonmano-liga-nexus-energia-asobal-25-26-irudek-bidasoa-irun-vs-horneo-alicante-polideportivo-artaleku-irun/
LOCATION:Polideportivo Municipal Artaleku\, Karrika Nagusia\, 30\, Irun\, Gipuzkoa\, 20304\, España
ATTACH;FMTTYPE=image/jpeg:https://deplanesporlacomarca.com/wp-content/uploads/2017/04/artaleku_irun.jpg
GEO:43.3385122;-1.7929079
X-APPLE-STRUCTURED-LOCATION;VALUE=URI;X-ADDRESS=Polideportivo Municipal Artaleku Karrika Nagusia 30 Irun Gipuzkoa 20304 España;X-APPLE-RADIUS=500;X-TITLE=Karrika Nagusia\, 30:geo:-1.7929079,43.3385122
END:VEVENT
END:VCALENDAR