BEGIN:VCALENDAR
VERSION:2.0
PRODID:-//De planes por la comarca - ECPv6.15.20//NONSGML v1.0//EN
CALSCALE:GREGORIAN
METHOD:PUBLISH
X-WR-CALNAME:De planes por la comarca
X-ORIGINAL-URL:https://deplanesporlacomarca.com
X-WR-CALDESC:Eventos para De planes por la comarca
REFRESH-INTERVAL;VALUE=DURATION:PT1H
X-Robots-Tag:noindex
X-PUBLISHED-TTL:PT1H
BEGIN:VTIMEZONE
TZID:Europe/Madrid
BEGIN:DAYLIGHT
TZOFFSETFROM:+0100
TZOFFSETTO:+0200
TZNAME:CEST
DTSTART:20230326T010000
END:DAYLIGHT
BEGIN:STANDARD
TZOFFSETFROM:+0200
TZOFFSETTO:+0100
TZNAME:CET
DTSTART:20231029T010000
END:STANDARD
BEGIN:DAYLIGHT
TZOFFSETFROM:+0100
TZOFFSETTO:+0200
TZNAME:CEST
DTSTART:20240331T010000
END:DAYLIGHT
BEGIN:STANDARD
TZOFFSETFROM:+0200
TZOFFSETTO:+0100
TZNAME:CET
DTSTART:20241027T010000
END:STANDARD
BEGIN:DAYLIGHT
TZOFFSETFROM:+0100
TZOFFSETTO:+0200
TZNAME:CEST
DTSTART:20250330T010000
END:DAYLIGHT
BEGIN:STANDARD
TZOFFSETFROM:+0200
TZOFFSETTO:+0100
TZNAME:CET
DTSTART:20251026T010000
END:STANDARD
END:VTIMEZONE
BEGIN:VEVENT
DTSTART;TZID=Europe/Madrid:20240518T180000
DTEND;TZID=Europe/Madrid:20240518T180000
DTSTAMP:20260420T184054
CREATED:20240508T151643Z
LAST-MODIFIED:20240516T183144Z
UID:10035442-1716055200-1716055200@deplanesporlacomarca.com
SUMMARY:BALONMANO – LIGA PLENITUDE ASOBAL 23-24: BIDASOA IRUN vs. FERTIBERIA PUERTO SAGUNTO – POLIDEPORTIVO ARTALEKU (IRUN)
DESCRIPTION:Último partido de balonmano en casa\, correspondiente a la jornada 29 de la Liga Plenitude Asobal\, para el Bidasoa Irun. Se enfrenta al Fertiberia Puerto Sagunto\, a partir de las 18.00 horas en el Polideportivo Artaleku de Irun. \n\n\n\n \n\n\n\nPuedes adquirir tus entradas para este plan\, aquí. \n\n\n\n \n\n\n\nSi no puedes acudir\, puedes verlo a través de LaLiga+. \n\n\n\n \n\n\n\nCon motivo de este último partido de liga en casa para el Bidasoa Irun\, desde el club han preparado estas actividades: \n\n\n\n– 17.00 horas: Apertura de puertas y Bar. \n\n\n\n– 17.00 – 17.30 horas: Happy Hour en BDStaberna. \n\n\n\n– 18.00 horas: Partido. \n\n\n\n– Después del partido: Acto de despedida.
URL:https://deplanesporlacomarca.com/agenda-evento/balonmano-liga-plenitude-asobal-23-24-bidasoa-irun-vs-fertiberia-puerto-sagunto-polideportivo-artaleku-irun/
LOCATION:Polideportivo Municipal Artaleku\, Karrika Nagusia\, 30\, Irun\, Gipuzkoa\, 20304\, España
ATTACH;FMTTYPE=image/jpeg:https://deplanesporlacomarca.com/wp-content/uploads/2017/04/artaleku_irun.jpg
GEO:43.3385122;-1.7929079
X-APPLE-STRUCTURED-LOCATION;VALUE=URI;X-ADDRESS=Polideportivo Municipal Artaleku Karrika Nagusia 30 Irun Gipuzkoa 20304 España;X-APPLE-RADIUS=500;X-TITLE=Karrika Nagusia\, 30:geo:-1.7929079,43.3385122
END:VEVENT
BEGIN:VEVENT
DTSTART;TZID=Europe/Madrid:20240426T200000
DTEND;TZID=Europe/Madrid:20240426T200000
DTSTAMP:20260420T184054
CREATED:20240417T120646Z
LAST-MODIFIED:20240417T120739Z
UID:10035233-1714161600-1714161600@deplanesporlacomarca.com
SUMMARY:BALONMANO – LIGA PLENITUDE ASOBAL 23-24: BIDASOA IRUN vs. FRIGORÍFICOS DEL MORRAZO – POLIDEPORTIVO ARTALEKU (IRUN)
DESCRIPTION:Partido de balonmano en casa\, correspondiente a la jornada 27 de la Liga Plenitude Asobal\, para el Bidasoa Irun. Se enfrenta al Frigoríficos del Morrazo\, a partir de las 20.00 horas en el Polideportivo Artaleku de Irun. \n\n\n\n \n\n\n\nPuedes adquirir tus entradas para este plan\, aquí. \n\n\n\n \n\n\n\nSi no puedes acudir\, puedes verlo a través de LaLiga+.
URL:https://deplanesporlacomarca.com/agenda-evento/balonmano-liga-plenitude-asobal-23-24-bidasoa-irun-vs-frigorificos-del-morrazo-polideportivo-artaleku-irun/
LOCATION:Polideportivo Municipal Artaleku\, Karrika Nagusia\, 30\, Irun\, Gipuzkoa\, 20304\, España
ATTACH;FMTTYPE=image/jpeg:https://deplanesporlacomarca.com/wp-content/uploads/2017/04/artaleku_irun.jpg
GEO:43.3385122;-1.7929079
X-APPLE-STRUCTURED-LOCATION;VALUE=URI;X-ADDRESS=Polideportivo Municipal Artaleku Karrika Nagusia 30 Irun Gipuzkoa 20304 España;X-APPLE-RADIUS=500;X-TITLE=Karrika Nagusia\, 30:geo:-1.7929079,43.3385122
END:VEVENT
END:VCALENDAR