BEGIN:VCALENDAR
VERSION:2.0
PRODID:-//De planes por la comarca - ECPv6.15.20//NONSGML v1.0//EN
CALSCALE:GREGORIAN
METHOD:PUBLISH
X-ORIGINAL-URL:https://deplanesporlacomarca.com
X-WR-CALDESC:Eventos para De planes por la comarca
REFRESH-INTERVAL;VALUE=DURATION:PT1H
X-Robots-Tag:noindex
X-PUBLISHED-TTL:PT1H
BEGIN:VTIMEZONE
TZID:Europe/Madrid
BEGIN:DAYLIGHT
TZOFFSETFROM:+0100
TZOFFSETTO:+0200
TZNAME:CEST
DTSTART:20250330T010000
END:DAYLIGHT
BEGIN:STANDARD
TZOFFSETFROM:+0200
TZOFFSETTO:+0100
TZNAME:CET
DTSTART:20251026T010000
END:STANDARD
BEGIN:DAYLIGHT
TZOFFSETFROM:+0100
TZOFFSETTO:+0200
TZNAME:CEST
DTSTART:20260329T010000
END:DAYLIGHT
BEGIN:STANDARD
TZOFFSETFROM:+0200
TZOFFSETTO:+0100
TZNAME:CET
DTSTART:20261025T010000
END:STANDARD
BEGIN:DAYLIGHT
TZOFFSETFROM:+0100
TZOFFSETTO:+0200
TZNAME:CEST
DTSTART:20270328T010000
END:DAYLIGHT
BEGIN:STANDARD
TZOFFSETFROM:+0200
TZOFFSETTO:+0100
TZNAME:CET
DTSTART:20271031T010000
END:STANDARD
END:VTIMEZONE
BEGIN:VEVENT
DTSTART;TZID=Europe/Madrid:20260419T100000
DTEND;TZID=Europe/Madrid:20260419T150000
DTSTAMP:20260418T212034
CREATED:20260330T164335Z
LAST-MODIFIED:20260330T164337Z
UID:10042406-1776592800-1776610800@deplanesporlacomarca.com
SUMMARY:FERIA DE ARTESANÍA - ESKUZLAN - 19 Y 26 ABRIL 2026 - PUERTO DEPORTIVO (HONDARRIBIA)
DESCRIPTION:La asociación Eskuz-lan organiza una feria de artesanía en el Puerto Deportivo de Hondarribia\, de 10.00 a 15.00 horas. \n\n\n\n \n\n\n\nEn el mercado encontraremos una gama muy amplia de productos\, desde complementos textil hasta arte y reciclaje pasando por artículos de costura\, serigrafía y/o confección típica vasca.
URL:https://deplanesporlacomarca.com/agenda-evento/feria-de-artesania-eskuzlan-19-y-26-abril-2026-puerto-deportivo-hondarribia/2026-04-19/
LOCATION:Puerto Deportivo Hondarribia\, Minatera Ibilbidea\, Hondarribia\, Gipuzkoa\, España
GEO:43.3752289;-1.7953761
X-APPLE-STRUCTURED-LOCATION;VALUE=URI;X-ADDRESS=Puerto Deportivo Hondarribia Minatera Ibilbidea Hondarribia Gipuzkoa España;X-APPLE-RADIUS=500;X-TITLE=Minatera Ibilbidea:geo:-1.7953761,43.3752289
END:VEVENT
BEGIN:VEVENT
DTSTART;TZID=Europe/Madrid:20260426T100000
DTEND;TZID=Europe/Madrid:20260426T150000
DTSTAMP:20260418T212034
CREATED:20260330T164335Z
LAST-MODIFIED:20260330T164337Z
UID:10042407-1777197600-1777215600@deplanesporlacomarca.com
SUMMARY:FERIA DE ARTESANÍA - ESKUZLAN - 19 Y 26 ABRIL 2026 - PUERTO DEPORTIVO (HONDARRIBIA)
DESCRIPTION:La asociación Eskuz-lan organiza una feria de artesanía en el Puerto Deportivo de Hondarribia\, de 10.00 a 15.00 horas. \n\n\n\n \n\n\n\nEn el mercado encontraremos una gama muy amplia de productos\, desde complementos textil hasta arte y reciclaje pasando por artículos de costura\, serigrafía y/o confección típica vasca.
URL:https://deplanesporlacomarca.com/agenda-evento/feria-de-artesania-eskuzlan-19-y-26-abril-2026-puerto-deportivo-hondarribia/2026-04-26/
LOCATION:Puerto Deportivo Hondarribia\, Minatera Ibilbidea\, Hondarribia\, Gipuzkoa\, España
GEO:43.3752289;-1.7953761
X-APPLE-STRUCTURED-LOCATION;VALUE=URI;X-ADDRESS=Puerto Deportivo Hondarribia Minatera Ibilbidea Hondarribia Gipuzkoa España;X-APPLE-RADIUS=500;X-TITLE=Minatera Ibilbidea:geo:-1.7953761,43.3752289
END:VEVENT
END:VCALENDAR