BEGIN:VCALENDAR
VERSION:2.0
PRODID:-//De planes por la comarca - ECPv6.15.20//NONSGML v1.0//EN
CALSCALE:GREGORIAN
METHOD:PUBLISH
X-ORIGINAL-URL:https://deplanesporlacomarca.com
X-WR-CALDESC:Eventos para De planes por la comarca
REFRESH-INTERVAL;VALUE=DURATION:PT1H
X-Robots-Tag:noindex
X-PUBLISHED-TTL:PT1H
BEGIN:VTIMEZONE
TZID:Europe/Madrid
BEGIN:DAYLIGHT
TZOFFSETFROM:+0100
TZOFFSETTO:+0200
TZNAME:CEST
DTSTART:20230326T010000
END:DAYLIGHT
BEGIN:STANDARD
TZOFFSETFROM:+0200
TZOFFSETTO:+0100
TZNAME:CET
DTSTART:20231029T010000
END:STANDARD
BEGIN:DAYLIGHT
TZOFFSETFROM:+0100
TZOFFSETTO:+0200
TZNAME:CEST
DTSTART:20240331T010000
END:DAYLIGHT
BEGIN:STANDARD
TZOFFSETFROM:+0200
TZOFFSETTO:+0100
TZNAME:CET
DTSTART:20241027T010000
END:STANDARD
BEGIN:DAYLIGHT
TZOFFSETFROM:+0100
TZOFFSETTO:+0200
TZNAME:CEST
DTSTART:20250330T010000
END:DAYLIGHT
BEGIN:STANDARD
TZOFFSETFROM:+0200
TZOFFSETTO:+0100
TZNAME:CET
DTSTART:20251026T010000
END:STANDARD
END:VTIMEZONE
BEGIN:VEVENT
DTSTART;TZID=Europe/Madrid:20240908T110000
DTEND;TZID=Europe/Madrid:20240908T123000
DTSTAMP:20260420T043039
CREATED:20240821T153025Z
LAST-MODIFIED:20240821T153029Z
UID:10036558-1725793200-1725798600@deplanesporlacomarca.com
SUMMARY:LAPURRITURRI\, "NUESTRO AMIGO\, EL ÁRBOL" - SEPTIEMBRE 2024 (IRUN)
DESCRIPTION:El Punto de Información de Lapurriturri\, situado en el Parque Natural de Aiako Harria ha puesto fecha para la siguiente actividad de esta temporada\, el recorrido guiado «Nuestro amigo\, el árbol”. \n\n\n\n \n\n\n\nSe darán a conocer los árboles que podemos encontrar en el entorno del Punto de Información de Lapurriturri por medio de un recorrido a pie. A lo largo del camino se aprenderá a identificar las especies autóctonas y sus características: que información proporciona el tronco\, qué especies son medicinales\, leyendas sobre los árboles\, etc. \n\n\n\n \n\n\n\nAdemás\, en relación al cambio climático\, se destacará la capacidad de los árboles para absorber el CO2 atmosférico y se pedirá a las personas participantes que hagan un cálculo sencillo. Para terminar\, se repartirá una ficha con las instrucciones para plantar un árbol en casa. \n\n\n\n \n\n\n\nEstá dirigida a toda la ciudadanía\, pero especialmente indicada para familias con niñ@s de 8 a 12 años\, comenzará y finalizará en el punto de información. \n\n\n\n \n\n\n\nEl plan es gratuito\, comienza a las 11.00 horas\, en el propio Punto de Información de Lapuriturri.  \n\n\n\n \n\n\n\nLas personas interesadas deberán inscribirse de forma individual a través de este enlace o llamando al 010\, desde el 22 de Agosto al 2 de Septiembre (ambos incluidos)\, o hasta completar las plazas. El límite de participantes será de 20 personas.  \n\n\n\n \n\n\n\nLas inscripciones serán individuales para cada uno de los interesados en la actividad. En caso de por situación meteorológica adversa se suspende la actividad\, se dará aviso a los apuntados. Se recomienda llevar ropa y calzado adecuado para caminar en el monte\, agua y almuerzo.
URL:https://deplanesporlacomarca.com/agenda-evento/lapurriturri-nuestro-amigo-el-arbol-septiembre-2024-irun/
LOCATION:Punto de Información Lapuriturri\, GI-3454\, Km 11\,470\, Alto de Erlaitz\, Irun\, Gipuzkoa\, España
ATTACH;FMTTYPE=image/jpeg:https://deplanesporlacomarca.com/wp-content/uploads/2019/07/punto_de_informacion_lapuriturri_erlaitz_peñas_de_aya.jpg
GEO:43.3377409;-1.7867689
X-APPLE-STRUCTURED-LOCATION;VALUE=URI;X-ADDRESS=Punto de Información Lapuriturri GI-3454 Km 11470 Alto de Erlaitz Irun Gipuzkoa España;X-APPLE-RADIUS=500;X-TITLE=GI-3454\, Km 11\,470\, Alto de Erlaitz:geo:-1.7867689,43.3377409
END:VEVENT
BEGIN:VEVENT
DTSTART;TZID=Europe/Madrid:20240817T110000
DTEND;TZID=Europe/Madrid:20240817T123000
DTSTAMP:20260420T043039
CREATED:20240802T073612Z
LAST-MODIFIED:20240802T073616Z
UID:10036458-1723892400-1723897800@deplanesporlacomarca.com
SUMMARY:LAPURRITURRI\, "TALLER DE FÓSILES" - AGOSTO 2024 (IRUN)
DESCRIPTION:El Punto de Información de Lapurriturri\, situado en el Parque Natural de Aiako Harria ha puesto fecha para la siguiente actividad de esta temporada\, «Taller de fósiles”. \n\n\n\n \n\n\n\nSe darán a conocer los fósiles que podemos encontrar en Gipuzkoa\, ofreciendo la posibilidad de ver y tocar fósiles de diferentes puntos del territorio. \n\n\n\nEn el entorno del Punto de información de Lapurriturri se realizará un juego para clasificar los seres vivos e inertes. Finalmente\, a cada participante se le entregará una ficha con los fósiles más representativos. \n\n\n\n \n\n\n\nEstá dirigida a toda la ciudadanía\, pero especialmente indicada para familias con niñ@s de 6 a 10 años\, comenzará y finalizará en el punto de información. \n\n\n\n \n\n\n\nEl plan es gratuito\, comienza a las 11.00 horas\, en el propio Punto de Información de Lapuriturri.  \n\n\n\n \n\n\n\nLas personas interesadas deberán inscribirse de forma individual a través de este enlace o llamando al 010\, desde el 1 al 13 de Agosto (ambos incluidos)\, o hasta completar las plazas. El límite de participantes será de 20 personas.  \n\n\n\n \n\n\n\nLas inscripciones serán individuales para cada uno de los interesados en la actividad. En caso de por situación meteorológica adversa se suspende la actividad\, se dará aviso a los apuntados. Se recomienda llevar ropa y calzado adecuado para caminar en el monte\, agua y almuerzo.
URL:https://deplanesporlacomarca.com/agenda-evento/lapurriturri-taller-de-fosiles-agosto-2024-irun/
LOCATION:Punto de Información Lapuriturri\, GI-3454\, Km 11\,470\, Alto de Erlaitz\, Irun\, Gipuzkoa\, España
ATTACH;FMTTYPE=image/jpeg:https://deplanesporlacomarca.com/wp-content/uploads/2019/07/punto_de_informacion_lapuriturri_erlaitz_peñas_de_aya.jpg
GEO:43.3377409;-1.7867689
X-APPLE-STRUCTURED-LOCATION;VALUE=URI;X-ADDRESS=Punto de Información Lapuriturri GI-3454 Km 11470 Alto de Erlaitz Irun Gipuzkoa España;X-APPLE-RADIUS=500;X-TITLE=GI-3454\, Km 11\,470\, Alto de Erlaitz:geo:-1.7867689,43.3377409
END:VEVENT
BEGIN:VEVENT
DTSTART;TZID=Europe/Madrid:20240714T110000
DTEND;TZID=Europe/Madrid:20240714T123000
DTSTAMP:20260420T043039
CREATED:20240704T073831Z
LAST-MODIFIED:20240704T073834Z
UID:10036044-1720954800-1720960200@deplanesporlacomarca.com
SUMMARY:LAPURRITURRI\, "EL JUEGO DE LOS POLINIZADORES" - JULIO 2024 (IRUN)
DESCRIPTION:¡¡¡ Plazas agotadas !!! \n\n\n\n \n\n\n\nEl Punto de Información de Lapurriturri\, situado en el Parque Natural de Aiako Harria ha puesto fecha para la siguiente actividad de esta temporada\, «El juego de los polinizadores”. \n\n\n\n \n\n\n\nSe darán a conocer los seres vivos que se pueden encontrar en los márgenes de los caminos cercanos a Lapuriturri y\, entre ellos\, se destacará la importancia de los polinizadores. \n\n\n\n \n\n\n\nDurante el recorrido a pie se desarrollará el juego de pistas: interrelacionar imágenes y nombres de los seres vivos\, situar a cada animal en hábitat\, diferenciar entre tipos de abeja y avispa\, etc. Al final\, repasaremos todo lo aprendido a través de un juego dinámico. \n\n\n\n \n\n\n\nEstá dirigida a toda la ciudadanía\, pero especialmente indicada para familias con niñ@s de 6 a 10 años\, comenzará y finalizará en el punto de información. \n\n\n\n \n\n\n\nEl plan es gratuito\, comienza a las 11.00 horas\, en el propio Punto de Información de Lapuriturri.  \n\n\n\n \n\n\n\nLas personas interesadas deberán inscribirse de forma individual a través de este enlace o llamando al 010\, desde el 28 de Junio al 10 de Julio (ambos incluidos)\, o hasta completar las plazas. El límite de participantes será de 20 personas.  \n\n\n\n \n\n\n\nLas inscripciones serán individuales para cada uno de los interesados en la actividad. En caso de por situación meteorológica adversa se suspende la actividad\, se dará aviso a los apuntados.
URL:https://deplanesporlacomarca.com/agenda-evento/lapurriturri-el-juego-de-los-polinizadores-julio-2024-irun/
LOCATION:Punto de Información Lapuriturri\, GI-3454\, Km 11\,470\, Alto de Erlaitz\, Irun\, Gipuzkoa\, España
ATTACH;FMTTYPE=image/jpeg:https://deplanesporlacomarca.com/wp-content/uploads/2019/07/punto_de_informacion_lapuriturri_erlaitz_peñas_de_aya.jpg
GEO:43.3377409;-1.7867689
X-APPLE-STRUCTURED-LOCATION;VALUE=URI;X-ADDRESS=Punto de Información Lapuriturri GI-3454 Km 11470 Alto de Erlaitz Irun Gipuzkoa España;X-APPLE-RADIUS=500;X-TITLE=GI-3454\, Km 11\,470\, Alto de Erlaitz:geo:-1.7867689,43.3377409
END:VEVENT
BEGIN:VEVENT
DTSTART;TZID=Europe/Madrid:20240615T110000
DTEND;TZID=Europe/Madrid:20240615T123000
DTSTAMP:20260420T043039
CREATED:20240603T074252Z
LAST-MODIFIED:20240603T074258Z
UID:10035777-1718449200-1718454600@deplanesporlacomarca.com
SUMMARY:LAPURRITURRI\, "NUESTRO AMIGO EL ÁRBOL" - JUNIO 2024 (IRUN)
DESCRIPTION:El Punto de Información de Lapurriturri\, situado en el Parque Natural de Aiako Harria e impulsado por el área de Desarrollo Sostenible del Ayuntamiento de Irun\, ha puesto fecha para la siguiente actividad. En esta ocasión\, la nueva propuesta es «Nuestro amigo el árbol«. \n\n\n\n \n\n\n\nSe darán a conocer los árboles que podemos encontrar en el entorno de Lapurriturri por medio de un recorrido a pie. A lo largo del camino aprenderemos a identificar las especies autóctonas y sus características: cuál es la información que nos proporciona el tronco\, qué especies son medicinales\, leyendas sobre los árboles\, etc. \n\n\n\n \n\n\n\nEn relación al cambio climático\, destacaremos la capacidad de asimilar el CO2 atmosférico\, pidiendo a l@s participantes que realicen un cálculo sencillo. Para finalizar\, se repartirá una ficha con instrucciones para plantar un árbol en casa. \n\n\n\n \n\n\n\nLa actividad está dirigida a toda la ciudadanía y especialmente a familias con niños/as entre 8 y 12 años. Las personas interesadas deberán inscribirse de forma individual a través de este enlace o llamando al 010\, desde el 1 al 12 de junio (ambos incluidos). El límite de participantes será de 20 personas.  \n\n\n\n \n\n\n\nQUÉ LLEVAR: Se recomienda llevar ropa y calzado adecuado para caminar en el monte\, agua y almuerzo. \n\n\n\n \n\n\n\nLas inscripciones serán individuales para cada uno de los interesados en la actividad. En caso de por situación meteorológica adversa se suspende la actividad\, se dará aviso a los apuntados.
URL:https://deplanesporlacomarca.com/agenda-evento/lapurriturri-nuestro-amigo-el-arbol-junio-2024-irun/
LOCATION:Punto de Información Lapuriturri\, GI-3454\, Km 11\,470\, Alto de Erlaitz\, Irun\, Gipuzkoa\, España
ATTACH;FMTTYPE=image/jpeg:https://deplanesporlacomarca.com/wp-content/uploads/2019/07/punto_de_informacion_lapuriturri_erlaitz_peñas_de_aya.jpg
GEO:43.3377409;-1.7867689
X-APPLE-STRUCTURED-LOCATION;VALUE=URI;X-ADDRESS=Punto de Información Lapuriturri GI-3454 Km 11470 Alto de Erlaitz Irun Gipuzkoa España;X-APPLE-RADIUS=500;X-TITLE=GI-3454\, Km 11\,470\, Alto de Erlaitz:geo:-1.7867689,43.3377409
END:VEVENT
END:VCALENDAR