BEGIN:VCALENDAR
VERSION:2.0
PRODID:-//De planes por la comarca - ECPv6.15.20//NONSGML v1.0//EN
CALSCALE:GREGORIAN
METHOD:PUBLISH
X-WR-CALNAME:De planes por la comarca
X-ORIGINAL-URL:https://deplanesporlacomarca.com
X-WR-CALDESC:Eventos para De planes por la comarca
REFRESH-INTERVAL;VALUE=DURATION:PT1H
X-Robots-Tag:noindex
X-PUBLISHED-TTL:PT1H
BEGIN:VTIMEZONE
TZID:Europe/Madrid
BEGIN:DAYLIGHT
TZOFFSETFROM:+0100
TZOFFSETTO:+0200
TZNAME:CEST
DTSTART:20240331T010000
END:DAYLIGHT
BEGIN:STANDARD
TZOFFSETFROM:+0200
TZOFFSETTO:+0100
TZNAME:CET
DTSTART:20241027T010000
END:STANDARD
BEGIN:DAYLIGHT
TZOFFSETFROM:+0100
TZOFFSETTO:+0200
TZNAME:CEST
DTSTART:20250330T010000
END:DAYLIGHT
BEGIN:STANDARD
TZOFFSETFROM:+0200
TZOFFSETTO:+0100
TZNAME:CET
DTSTART:20251026T010000
END:STANDARD
BEGIN:DAYLIGHT
TZOFFSETFROM:+0100
TZOFFSETTO:+0200
TZNAME:CEST
DTSTART:20260329T010000
END:DAYLIGHT
BEGIN:STANDARD
TZOFFSETFROM:+0200
TZOFFSETTO:+0100
TZNAME:CET
DTSTART:20261025T010000
END:STANDARD
BEGIN:DAYLIGHT
TZOFFSETFROM:+0100
TZOFFSETTO:+0200
TZNAME:CEST
DTSTART:20270328T010000
END:DAYLIGHT
BEGIN:STANDARD
TZOFFSETFROM:+0200
TZOFFSETTO:+0100
TZNAME:CET
DTSTART:20271031T010000
END:STANDARD
END:VTIMEZONE
BEGIN:VEVENT
DTSTART;TZID=Europe/Madrid:20260321T200000
DTEND;TZID=Europe/Madrid:20260321T200000
DTSTAMP:20260425T180900
CREATED:20260310T164931Z
LAST-MODIFIED:20260310T164935Z
UID:10042218-1774123200-1774123200@deplanesporlacomarca.com
SUMMARY:MONÓLOGO + CENA + COPA\, "A PELO" - GORKA AGUINAGALDE - RESTAURANTE ESTEBENEA (IRUN)
DESCRIPTION:El Restaurante Estebenea de Irun te ofrece\, a partir de las 20.00 horas\, el monólogo «A pelo» de Gorka Aguinagalde\, actor\, cómico\, músico\, guionista\, monologuista\,…  \n\n\n\n \n\n\n\nUn humor de aquí\, pero hablando de aquí\, de allí y de más allá. Humor bonito… del norte. \n\n\n\n \n\n\n\nPorque a veces lo que más necesitamos es reirnos de nosotros mismos\, de nosotras\, de nosotres\,… y también del resto del mundo. \n\n\n\n \n\n\n\nUna noche para desconectar\, reír y disfrutar en buena compañía. \n\n\n\n \n\n\n\nEl precio de este plan (incluye monólogo+cena+copa) es de 69 Euros y puedes reservar tu plaza en el 943222341. \n\n\n\n \n\n\n\nPlazas limitadas.
URL:https://deplanesporlacomarca.com/agenda-evento/monologo-cena-copa-a-pelo-gorka-aguinagalde-restaurante-estebenea-irun/
LOCATION:Restaurante Estebenea\, Barrio Olaberria\, 51\, Irun\, Gipuzkoa\, España
ATTACH;FMTTYPE=image/jpeg:https://deplanesporlacomarca.com/wp-content/uploads/2026/03/monologo_cena_copa_gorka_aguinagalde_a_pelo_21_marzo_2026_restaurante_estebena_irun.jpg
GEO:43.3231182;-1.79073
X-APPLE-STRUCTURED-LOCATION;VALUE=URI;X-ADDRESS=Restaurante Estebenea Barrio Olaberria 51 Irun Gipuzkoa España;X-APPLE-RADIUS=500;X-TITLE=Barrio Olaberria\, 51:geo:-1.79073,43.3231182
END:VEVENT
BEGIN:VEVENT
DTSTART;TZID=Europe/Madrid:20250618T200000
DTEND;TZID=Europe/Madrid:20250618T200000
DTSTAMP:20260425T180900
CREATED:20250609T093251Z
LAST-MODIFIED:20250609T093254Z
UID:10039763-1750276800-1750276800@deplanesporlacomarca.com
SUMMARY:SAN MARCIALES 2025 - ENSAYOS DÍA 18 DE JUNIO (IRUN)
DESCRIPTION:Estas son las compañías que realizan hoy sus ensayos para el Alarde San Marcial de Irun. \n\n\n\n– Bidasoa\, 20.00 horas\, Alunda \n\n\n\n– Olaberria\, 20.30 horas\, Estebenea \n\n\n\n– Lapice\, 20.30 horas\, c/ Aduana\, 58
URL:https://deplanesporlacomarca.com/agenda-evento/san-marciales-2025-ensayos-dia-18-de-junio-irun/
LOCATION:Restaurante Estebenea\, Barrio Olaberria\, 51\, Irun\, Gipuzkoa\, España
ATTACH;FMTTYPE=image/jpeg:https://deplanesporlacomarca.com/wp-content/uploads/2022/06/ensayos_companias_alarde_san_marcial_sanmarciales_irun_gipuzkoa.jpg
GEO:43.3231182;-1.79073
X-APPLE-STRUCTURED-LOCATION;VALUE=URI;X-ADDRESS=Restaurante Estebenea Barrio Olaberria 51 Irun Gipuzkoa España;X-APPLE-RADIUS=500;X-TITLE=Barrio Olaberria\, 51:geo:-1.79073,43.3231182
END:VEVENT
END:VCALENDAR